BEGIN:VCALENDAR
VERSION:2.0
PRODID:-//Del Ray Artisans - ECPv6.15.20//NONSGML v1.0//EN
CALSCALE:GREGORIAN
METHOD:PUBLISH
X-WR-CALNAME:Del Ray Artisans
X-ORIGINAL-URL:https://delrayartisans.org
X-WR-CALDESC:Events for Del Ray Artisans
REFRESH-INTERVAL;VALUE=DURATION:PT1H
X-Robots-Tag:noindex
X-PUBLISHED-TTL:PT1H
BEGIN:VTIMEZONE
TZID:America/New_York
BEGIN:DAYLIGHT
TZOFFSETFROM:-0500
TZOFFSETTO:-0400
TZNAME:EDT
DTSTART:20230312T070000
END:DAYLIGHT
BEGIN:STANDARD
TZOFFSETFROM:-0400
TZOFFSETTO:-0500
TZNAME:EST
DTSTART:20231105T060000
END:STANDARD
BEGIN:DAYLIGHT
TZOFFSETFROM:-0500
TZOFFSETTO:-0400
TZNAME:EDT
DTSTART:20240310T070000
END:DAYLIGHT
BEGIN:STANDARD
TZOFFSETFROM:-0400
TZOFFSETTO:-0500
TZNAME:EST
DTSTART:20241103T060000
END:STANDARD
BEGIN:DAYLIGHT
TZOFFSETFROM:-0500
TZOFFSETTO:-0400
TZNAME:EDT
DTSTART:20250309T070000
END:DAYLIGHT
BEGIN:STANDARD
TZOFFSETFROM:-0400
TZOFFSETTO:-0500
TZNAME:EST
DTSTART:20251102T060000
END:STANDARD
END:VTIMEZONE
BEGIN:VEVENT
DTSTART;TZID=America/New_York:20240811T160000
DTEND;TZID=America/New_York:20240811T180000
DTSTAMP:20260424T142858
CREATED:20231127T222419Z
LAST-MODIFIED:20240810T144320Z
UID:10001313-1723392000-1723399200@delrayartisans.org
SUMMARY:Member Meeting & Art Supplies Swap
DESCRIPTION:Join fellow Del Ray Artisans members for the Member Meeting & Art Supplies Swap on Sunday\, August 11 starting at 4pm. \nJoin us for the third member meeting—and second art supplies swap—of 2024! Bring the supplies you no longer need and be ready to find a treasure in other’s discards. \nWe’ll begin with a short meeting\, and then select “new to you” art supplies. Looking forward to seeing you at the gallery. \nIf you have any questions about the meeting\, please reach out the Membership Director\, Kate Gibney\, at Membership@DelRayArtisans.org. \nTo volunteer to help set up or donate munchies\, contact the Volunteers Director\, Morgan Parr\, at Volunteers@DelRayArtisans.org.
URL:https://delrayartisans.org/event/member-meeting-aug-2024/
LOCATION:Del Ray Artisans Gallery\, 2704 Mount Vernon Avenue\, Alexandria\, VA\, 22301\, United States
CATEGORIES:Meeting,Member Meeting,Program
ATTACH;FMTTYPE=image/jpeg:https://delrayartisans.org/wp-content/uploads/2020/02/art-supplies.jpg
ORGANIZER;CN="Kate Gibney%2C Membership Director":MAILTO:membership@delrayartisans.org
END:VEVENT
BEGIN:VEVENT
DTSTART;TZID=America/New_York:20240813T190000
DTEND;TZID=America/New_York:20240813T210000
DTSTAMP:20260424T142858
CREATED:20231127T205902Z
LAST-MODIFIED:20231130T210930Z
UID:10001292-1723575600-1723582800@delrayartisans.org
SUMMARY:ONLINE: Board of Directors Meeting
DESCRIPTION:This Board meeting will an online meeting through Zoom. \nActive members are welcome to attend any Board meeting. If you wish to address the Board or bring something up to the Board during one of these meetings\, contact Kathryn Brown at Secretary@DelRayArtisans.org at least four days in advance of the meeting to be included on the agenda and receive the Zoom session link.
URL:https://delrayartisans.org/event/board-meeting-2024/2024-08-13/
LOCATION:Online
CATEGORIES:Board Meeting,Meeting
ORGANIZER;CN="Kathryn Brown%2C Secretary":MAILTO:secretary@delrayartisans.org
END:VEVENT
END:VCALENDAR