BEGIN:VCALENDAR
VERSION:2.0
PRODID:-//Del Ray Artisans - ECPv6.15.20//NONSGML v1.0//EN
CALSCALE:GREGORIAN
METHOD:PUBLISH
X-WR-CALNAME:Del Ray Artisans
X-ORIGINAL-URL:https://delrayartisans.org
X-WR-CALDESC:Events for Del Ray Artisans
REFRESH-INTERVAL;VALUE=DURATION:PT1H
X-Robots-Tag:noindex
X-PUBLISHED-TTL:PT1H
BEGIN:VTIMEZONE
TZID:America/New_York
BEGIN:DAYLIGHT
TZOFFSETFROM:-0500
TZOFFSETTO:-0400
TZNAME:EDT
DTSTART:20230312T070000
END:DAYLIGHT
BEGIN:STANDARD
TZOFFSETFROM:-0400
TZOFFSETTO:-0500
TZNAME:EST
DTSTART:20231105T060000
END:STANDARD
BEGIN:DAYLIGHT
TZOFFSETFROM:-0500
TZOFFSETTO:-0400
TZNAME:EDT
DTSTART:20240310T070000
END:DAYLIGHT
BEGIN:STANDARD
TZOFFSETFROM:-0400
TZOFFSETTO:-0500
TZNAME:EST
DTSTART:20241103T060000
END:STANDARD
BEGIN:DAYLIGHT
TZOFFSETFROM:-0500
TZOFFSETTO:-0400
TZNAME:EDT
DTSTART:20250309T070000
END:DAYLIGHT
BEGIN:STANDARD
TZOFFSETFROM:-0400
TZOFFSETTO:-0500
TZNAME:EST
DTSTART:20251102T060000
END:STANDARD
END:VTIMEZONE
BEGIN:VEVENT
DTSTART;TZID=America/New_York:20240514T190000
DTEND;TZID=America/New_York:20240514T210000
DTSTAMP:20260424T201811
CREATED:20231127T205902Z
LAST-MODIFIED:20231130T210930Z
UID:10001289-1715713200-1715720400@delrayartisans.org
SUMMARY:ONLINE: Board of Directors Meeting
DESCRIPTION:This Board meeting will an online meeting through Zoom. \nActive members are welcome to attend any Board meeting. If you wish to address the Board or bring something up to the Board during one of these meetings\, contact Kathryn Brown at Secretary@DelRayArtisans.org at least four days in advance of the meeting to be included on the agenda and receive the Zoom session link.
URL:https://delrayartisans.org/event/board-meeting-2024/2024-05-14/
LOCATION:Online
CATEGORIES:Board Meeting,Meeting
ORGANIZER;CN="Kathryn Brown%2C Secretary":MAILTO:secretary@delrayartisans.org
END:VEVENT
BEGIN:VEVENT
DTSTART;TZID=America/New_York:20240516T190000
DTEND;TZID=America/New_York:20240516T210000
DTSTAMP:20260424T201811
CREATED:20231127T221445Z
LAST-MODIFIED:20240513T024230Z
UID:10001312-1715886000-1715893200@delrayartisans.org
SUMMARY:Member Meeting & Benefit Program: Instagram for Artists
DESCRIPTION:Join us in-person or via Zoom (a hybrid meeting) for a FREE program of interest for DRA members. We’ll start with refreshments and a brief business meeting\, then dive into Instagram for Artists! \nDel Ray Artisans’ Technology Director Dina Wise will walk you through Instagram\, including building posts\, stories\, reels\, and more. She’ll discuss the importance of captions\, hashtags and @tags; setting up collaborations; and how to photograph and edit art to create the perfect post. \nHomework before the meeting: if you haven’t already\, try signing up for Instagram and come with questions! Dina may not be able to help remote viewers with troubleshooting specific to their account\, but generic questions are welcome. For hands-on help\, please attend in person. \nDon’t miss this presentation! Zoom information was emailed to all members on Sunday\, May 12. If you did not receive the email\, please contact Kate at Membership@DelRayArtisans.org and Dina at Technology@DelRayArtisans.org.
URL:https://delrayartisans.org/event/member-meeting-may-2024/
LOCATION:Del Ray Artisans Gallery\, 2704 Mount Vernon Avenue\, Alexandria\, VA\, 22301\, United States
CATEGORIES:Meeting,Member Meeting,Program
ATTACH;FMTTYPE=image/jpeg:https://delrayartisans.org/wp-content/uploads/2024/04/instagram-for-artists-2024.jpg
ORGANIZER;CN="Kate Gibney%2C Membership Director":MAILTO:membership@delrayartisans.org
END:VEVENT
END:VCALENDAR