BEGIN:VCALENDAR
VERSION:2.0
PRODID:-//Del Ray Artisans - ECPv6.15.20//NONSGML v1.0//EN
CALSCALE:GREGORIAN
METHOD:PUBLISH
X-WR-CALNAME:Del Ray Artisans
X-ORIGINAL-URL:https://delrayartisans.org
X-WR-CALDESC:Events for Del Ray Artisans
REFRESH-INTERVAL;VALUE=DURATION:PT1H
X-Robots-Tag:noindex
X-PUBLISHED-TTL:PT1H
BEGIN:VTIMEZONE
TZID:America/New_York
BEGIN:DAYLIGHT
TZOFFSETFROM:-0500
TZOFFSETTO:-0400
TZNAME:EDT
DTSTART:20220313T070000
END:DAYLIGHT
BEGIN:STANDARD
TZOFFSETFROM:-0400
TZOFFSETTO:-0500
TZNAME:EST
DTSTART:20221106T060000
END:STANDARD
BEGIN:DAYLIGHT
TZOFFSETFROM:-0500
TZOFFSETTO:-0400
TZNAME:EDT
DTSTART:20230312T070000
END:DAYLIGHT
BEGIN:STANDARD
TZOFFSETFROM:-0400
TZOFFSETTO:-0500
TZNAME:EST
DTSTART:20231105T060000
END:STANDARD
BEGIN:DAYLIGHT
TZOFFSETFROM:-0500
TZOFFSETTO:-0400
TZNAME:EDT
DTSTART:20240310T070000
END:DAYLIGHT
BEGIN:STANDARD
TZOFFSETFROM:-0400
TZOFFSETTO:-0500
TZNAME:EST
DTSTART:20241103T060000
END:STANDARD
END:VTIMEZONE
BEGIN:VEVENT
DTSTART;TZID=America/New_York:20231212T190000
DTEND;TZID=America/New_York:20231212T210000
DTSTAMP:20260425T083555
CREATED:20231130T205840Z
LAST-MODIFIED:20231130T210828Z
UID:10000192-1702407600-1702414800@delrayartisans.org
SUMMARY:Board Meeting (Dec 2023)
DESCRIPTION:The last Board meeting of 2023 will be at the gallery. A short business meeting will be paired with a holiday gathering to thank outgoing 2023 Board Members and welcome incoming 2024 Board Members. \nActive members are welcome to attend any Board meeting. If you wish to address the Board or bring something up to the Board during one of these meetings\, contact Kathryn Brown at Secretary@DelRayArtisans.org at least four days in advance of the meeting to be included on the agenda.
URL:https://delrayartisans.org/event/board-meeting-dec-2023/
LOCATION:Del Ray Artisans Gallery\, 2704 Mount Vernon Avenue\, Alexandria\, VA\, 22301\, United States
CATEGORIES:Board Meeting,Meeting
ATTACH;FMTTYPE=image/jpeg:https://delrayartisans.org/wp-content/uploads/2022/01/board-meeting-zoom-2022.jpg
ORGANIZER;CN="Kathryn Brown%2C Secretary":MAILTO:secretary@delrayartisans.org
END:VEVENT
BEGIN:VEVENT
DTSTART;TZID=America/New_York:20231213T180000
DTEND;TZID=America/New_York:20231213T220000
DTSTAMP:20260425T083555
CREATED:20231206T225704Z
LAST-MODIFIED:20231211T142708Z
UID:10001324-1702490400-1702504800@delrayartisans.org
SUMMARY:Cancelled: Reserved for Alexandria Art Alliance
DESCRIPTION:This time is reserved for the Alexandria Art Alliance. \n 
URL:https://delrayartisans.org/event/alliance-dec-2023/
LOCATION:Del Ray Artisans Gallery\, 2704 Mount Vernon Avenue\, Alexandria\, VA\, 22301\, United States
CATEGORIES:Meeting
ORGANIZER;CN="Dale Spivey%2C President":MAILTO:president@delrayartisans.org
END:VEVENT
END:VCALENDAR