BEGIN:VCALENDAR
VERSION:2.0
PRODID:-//Del Ray Artisans - ECPv6.15.20//NONSGML v1.0//EN
CALSCALE:GREGORIAN
METHOD:PUBLISH
X-WR-CALNAME:Del Ray Artisans
X-ORIGINAL-URL:https://delrayartisans.org
X-WR-CALDESC:Events for Del Ray Artisans
REFRESH-INTERVAL;VALUE=DURATION:PT1H
X-Robots-Tag:noindex
X-PUBLISHED-TTL:PT1H
BEGIN:VTIMEZONE
TZID:America/New_York
BEGIN:DAYLIGHT
TZOFFSETFROM:-0500
TZOFFSETTO:-0400
TZNAME:EDT
DTSTART:20250309T070000
END:DAYLIGHT
BEGIN:STANDARD
TZOFFSETFROM:-0400
TZOFFSETTO:-0500
TZNAME:EST
DTSTART:20251102T060000
END:STANDARD
BEGIN:DAYLIGHT
TZOFFSETFROM:-0500
TZOFFSETTO:-0400
TZNAME:EDT
DTSTART:20260308T070000
END:DAYLIGHT
BEGIN:STANDARD
TZOFFSETFROM:-0400
TZOFFSETTO:-0500
TZNAME:EST
DTSTART:20261101T060000
END:STANDARD
BEGIN:DAYLIGHT
TZOFFSETFROM:-0500
TZOFFSETTO:-0400
TZNAME:EDT
DTSTART:20270314T070000
END:DAYLIGHT
BEGIN:STANDARD
TZOFFSETFROM:-0400
TZOFFSETTO:-0500
TZNAME:EST
DTSTART:20271107T060000
END:STANDARD
END:VTIMEZONE
BEGIN:VEVENT
DTSTART;TZID=America/New_York:20260509T090000
DTEND;TZID=America/New_York:20260509T150000
DTSTAMP:20260425T121243
CREATED:20260123T225724Z
LAST-MODIFIED:20260226T170253Z
UID:10002171-1778317200-1778338800@delrayartisans.org
SUMMARY:Spring Art Market 2026
DESCRIPTION:Artist Application | Photo Album \nDel Ray Artisans’ Spring Art Market is on Saturday\, May 9\, 2026 from 9am-3pm in the Mount Vernon Recreation Center fields adjoining Del Ray Artisans gallery (2704 Mount Vernon Avenue\, Alexandria\, VA). \nThis market that gives you the chance to purchase original handcrafted artwork from talented local artists in a wide range of media including ceramics\, fiber\, jewelry\, mixed media\, paper\, photography\, and more. \nThe event is held rain or shine\, FREE to browse\, and open to the public. Drop in anytime during the event to meet the artists and enjoy the outdoor market. \nThe featured artists are:\nTBD\n\nPlus step inside Del Ray Artisans gallery to see the Alexandria City High School 2026 Titan Student Art Exhibition (May 1–23\, 2026). Del Ray Artisans\, founded in 1992\, is a nonprofit organization whose mission is to promote art for the benefit of artists and the community.
URL:https://delrayartisans.org/event/spring-art-market-2026/
LOCATION:Mount Vernon Recreation Center Athletic Fields\, 2701 Commonwealth Ave\, Alexandria\, 22301\, United States
CATEGORIES:Art Exhibit,Market
ATTACH;FMTTYPE=image/jpeg:https://delrayartisans.org/wp-content/uploads/2025/02/Spring-Art-Market-square-no-date.jpg
ORGANIZER;CN="Diana Manchak":MAILTO:silicagal@hotmail.com
END:VEVENT
BEGIN:VEVENT
DTSTART;VALUE=DATE:20260711
DTEND;VALUE=DATE:20260713
DTSTAMP:20260425T121243
CREATED:20260315T214044Z
LAST-MODIFIED:20260315T214044Z
UID:10002216-1783728000-1783900799@delrayartisans.org
SUMMARY:Summer Art Market 2026 at Del Ray Artisans Gallery
DESCRIPTION:Join us for Del Ray Artisans’ 5th annual Summer Art Market! This two-day\, indoor market gives you the chance to purchase original handmade artwork from talented local artists. Each day is a different group of local artists with original work in a wide range of media including ceramics\, fiber\, glass\, jewelry\, mixed media\, paper\, photography\, and more. Perfect for gifts or treat yourself! \nThe 2026 Summer Art Market is on Saturday and Sunday\, July 11 and 12\, from 10am–4pm inside Del Ray Artisans gallery at 2704 Mount Vernon Avenue\, Alexandria\, VA. Mark your calendar now!  The Summer Art Market is open to the public and free to browse. \nDifferent artists are featured each day\, so treat yourself and plan to visit the gallery on both days. The artists featured in the 2026 Summer Art Market are: \nSaturday\, July 11\, 10am–4pm\nTBD  \nSunday\, July 12\, 10am–4pm\nTBD
URL:https://delrayartisans.org/event/summer-art-market-2026/
LOCATION:Del Ray Artisans Gallery\, 2704 Mount Vernon Avenue\, Alexandria\, VA\, 22301\, United States
CATEGORIES:Art Exhibit,Market
ATTACH;FMTTYPE=image/jpeg:https://delrayartisans.org/wp-content/uploads/2025/03/Summer-Art-Market-no-date.jpg
ORGANIZER;CN="Stephen Lally":MAILTO:slallypottery@gmail.com
END:VEVENT
END:VCALENDAR