BEGIN:VCALENDAR
VERSION:2.0
PRODID:-//Del Ray Artisans - ECPv6.15.20//NONSGML v1.0//EN
CALSCALE:GREGORIAN
METHOD:PUBLISH
X-ORIGINAL-URL:https://delrayartisans.org
X-WR-CALDESC:Events for Del Ray Artisans
REFRESH-INTERVAL;VALUE=DURATION:PT1H
X-Robots-Tag:noindex
X-PUBLISHED-TTL:PT1H
BEGIN:VTIMEZONE
TZID:America/New_York
BEGIN:DAYLIGHT
TZOFFSETFROM:-0500
TZOFFSETTO:-0400
TZNAME:EDT
DTSTART:20180311T070000
END:DAYLIGHT
BEGIN:STANDARD
TZOFFSETFROM:-0400
TZOFFSETTO:-0500
TZNAME:EST
DTSTART:20181104T060000
END:STANDARD
BEGIN:DAYLIGHT
TZOFFSETFROM:-0500
TZOFFSETTO:-0400
TZNAME:EDT
DTSTART:20190310T070000
END:DAYLIGHT
BEGIN:STANDARD
TZOFFSETFROM:-0400
TZOFFSETTO:-0500
TZNAME:EST
DTSTART:20191103T060000
END:STANDARD
BEGIN:DAYLIGHT
TZOFFSETFROM:-0500
TZOFFSETTO:-0400
TZNAME:EDT
DTSTART:20200308T070000
END:DAYLIGHT
BEGIN:STANDARD
TZOFFSETFROM:-0400
TZOFFSETTO:-0500
TZNAME:EST
DTSTART:20201101T060000
END:STANDARD
BEGIN:DAYLIGHT
TZOFFSETFROM:-0500
TZOFFSETTO:-0400
TZNAME:EDT
DTSTART:20210314T070000
END:DAYLIGHT
BEGIN:STANDARD
TZOFFSETFROM:-0400
TZOFFSETTO:-0500
TZNAME:EST
DTSTART:20211107T060000
END:STANDARD
BEGIN:DAYLIGHT
TZOFFSETFROM:-0500
TZOFFSETTO:-0400
TZNAME:EDT
DTSTART:20220313T070000
END:DAYLIGHT
BEGIN:STANDARD
TZOFFSETFROM:-0400
TZOFFSETTO:-0500
TZNAME:EST
DTSTART:20221106T060000
END:STANDARD
BEGIN:DAYLIGHT
TZOFFSETFROM:-0500
TZOFFSETTO:-0400
TZNAME:EDT
DTSTART:20230312T070000
END:DAYLIGHT
BEGIN:STANDARD
TZOFFSETFROM:-0400
TZOFFSETTO:-0500
TZNAME:EST
DTSTART:20231105T060000
END:STANDARD
BEGIN:DAYLIGHT
TZOFFSETFROM:-0500
TZOFFSETTO:-0400
TZNAME:EDT
DTSTART:20240310T070000
END:DAYLIGHT
BEGIN:STANDARD
TZOFFSETFROM:-0400
TZOFFSETTO:-0500
TZNAME:EST
DTSTART:20241103T060000
END:STANDARD
END:VTIMEZONE
BEGIN:VEVENT
DTSTART;VALUE=DATE:20230122
DTEND;VALUE=DATE:20230304
DTSTAMP:20260423T011031
CREATED:20230323T200048Z
LAST-MODIFIED:20230323T201445Z
UID:10000076-1674345600-1677887999@delrayartisans.org
SUMMARY:Raffle to Win Garden Statues
DESCRIPTION:Don’t miss your chance to win two beautiful outdoor statues of the Chinese Buddhist Deities of Compassion (Guan Yin) and Longevity (Shou Lao). Each statue is approximately 8″ wide x 7″ deep x 24″ tall. Raffle tickets are just $3 each or $10 for 4 tickets\, and all proceeds benefit Del Ray Artisans 501(c)(3) nonprofit organization. Purchase tickets online or at the gallery. \nThe raffle begins on January 22\, 2023 in celebration of the Lunar New Year. Come see the statues in person during the Putting A Face To A Name exhibit (January 6–28) and The Unseen exhibit (February 3–25). The winner will be drawn on Friday\, March 3\, 2023 between 7-9pm during the Fun With One art exhibit opening reception. \nFine print: \n\nOnline ticket sales end at 8pm on March 2\, 2023. In person ticket sales end just prior to the drawing on March 3\, 2023 between 7-9pm.\nOnline ticket purchases are only open to residents of Virginia\, Maryland\, and DC.\nWinner will be notified via the contact method available (for online ticket sales the contact method is an email address; for in person sales the purchaser may give a phone number or email address).\nWinner need not be present to win.\nWinner must pick up the statues by March 17\, 2023 or a new winner will be drawn. The statues will not be shipped.\n\nTicket sales have ended.
URL:https://delrayartisans.org/event/raffle-to-win-garden-statues/
LOCATION:Del Ray Artisans Gallery\, 2704 Mount Vernon Avenue\, Alexandria\, VA\, 22301\, United States
CATEGORIES:Fundraising
ATTACH;FMTTYPE=image/jpeg:https://delrayartisans.org/wp-content/uploads/2023/01/garden-statues.jpg
ORGANIZER;CN="Maria I. Hart%2C Fundraising Director":MAILTO:fundraising@delrayartisans.org
END:VEVENT
BEGIN:VEVENT
DTSTART;VALUE=DATE:20220413
DTEND;VALUE=DATE:20220428
DTSTAMP:20260423T011031
CREATED:20230323T195922Z
LAST-MODIFIED:20230324T154228Z
UID:10000048-1649808000-1651103999@delrayartisans.org
SUMMARY:Spring2ACTion 2022
DESCRIPTION:Donate April 13–27 \nStarting Wednesday\, April 13 through Wednesday\, April 27\, 2022 (Giving Day) our community comes together to support the amazing work of Alexandria nonprofits through Spring2ACTion\, hosted by ACT for Alexandria. Please remember Del Ray Artisans is one of those worthy causes! \nDel Ray Artisans has been promoting art for the benefit of local artists and the community since 1992. This year marks our 30th anniversary! Del Ray Artisans supports the development of artists at all levels and serves as a center for thriving artistic activity in Alexandria\, Virginia. \nDuring Spring2ACTion 2022\, please give your support to Del Ray Artisans’ exhibits\, programs\, youth and outreach activities which help members of our community grow as individuals and as artists. Funds are needed for mission-driven in-person and virtual exhibits and programs. \nIf you are in a position to do so\, please donate to Del Ray Artisans nonprofit today. Other ways to support: \n\nBuy artwork from local artists in the Second Life art exhibit at the gallery or from members websites.\nDesignate Del Ray Artisans as your AmazonSmile charity of choice\, or order your BLICK art materials through this link and Del Ray Artisans will receive a donation from BLICK.\nShare our Spring2ACTion fundraising page with your network. Crowdsourcing adds up\, and we absolutely appreciate every single donation.\n\nPlus attend these special events during Spring2ACTion: \n\nJoin us for our Facebook Live events to celebrate Del Ray Artisans nonprofit arts organization. Watch live at facebook.com/DelRayArtisans\n\nWednesday\, April 13 at 8:30pm – Interview with Tracy Wilkerson\, curator of the Second Life art exhibit. Tracy Wilkerson is a professional art events organizer who also arrange for many special events at Del Ray Artisans this month!\nWednesday\, April 20 at 8:30pm – Interview with Barbara Januszkiewicz\, juror of the upcoming Drips\, Lines\, Splatters\, and Splash: A Celebration of the Washington Color School art exhibit. Barbara Januszkiewicz is a prominent Washington area painter and studied with two well-known members of the Washington Color School\, Paul Reed and Hilda Thorpe.\n\n\nJewelry Fix-it Nite is on Thursday\, April 14 (in half-hour appointments from 6:30-8:30pm). Register in advance\, bring in 1-3 jewelry items that need fixing\, tip your jewelry repair artist and consider a Spring2ACTion donation to Del Ray Artisans. (See details)\nEarth Day Movie Nite is on Friday\, April 22 starting at 7:30pm. Come see 2 cautionary (but exciting) movies\, sitting in a gallery filled with artwork made with recycled materials. Spacing is limited; please register in advance to save your seat. (See details)\nPlus check out our upcoming Creative Workshops! Register in advance for workshops. (View workshops)\n\nPlease consider a tax-deductible donation and spread the word to friends and family. Every donation is appreciated. Thank you for supporting the arts! \nDonate April 13–27
URL:https://delrayartisans.org/event/spring2action-2022/
LOCATION:Online
CATEGORIES:Community Event,Fundraising,Program
ATTACH;FMTTYPE=image/jpeg:https://delrayartisans.org/wp-content/uploads/2022/04/S2A-JoinYourCommunity.jpg
ORGANIZER;CN="Maria I. Hart%2C Fundraising Director":MAILTO:fundraising@delrayartisans.org
END:VEVENT
BEGIN:VEVENT
DTSTART;VALUE=DATE:20211010
DTEND;VALUE=DATE:20211011
DTSTAMP:20260423T011031
CREATED:20230323T195750Z
LAST-MODIFIED:20230324T163102Z
UID:10000018-1633824000-1633910399@delrayartisans.org
SUMMARY:Pre-order Del Ray Artisans 2022 Wall Calendar Deadline
DESCRIPTION:Del Ray Artisans’ 2022 Wall Calendar featuring artwork by Del Ray Artisans members is available for pre-order now for just $17/calendar. (Regular price $20/calendar.) \nThe pre-order discount price is only available until October 10. Pre-ordering the calendar helps our organization estimate how many calendars to order. If you pre-order\, you will be notified when the calendars arrive\, so you can come pick up your purchase. \nPLEASE NOTE: Calendars will NOT be shipped. You will be notified when your order is ready to be picked up\, and then come pick it up at your convenience! \nThank you to to the calendar sponsors: Homes of Alexandria Team of Compass (Ellen\, Bobi and Daniela)\, Cooley LLP\, Community Partner McD Mateos and Cosmopolitan Boat Club; thank you to all the artists for the use of their work in the calendar; and thank you to everyone who purchases a calendar! \nPre-populated events in the calendar include Del Ray Artisans events\, community events\, national holidays\, and major religious holidays. \nThe pre-order period has ended.
URL:https://delrayartisans.org/event/2022-calendar-preorder-deadline/
LOCATION:Online
CATEGORIES:Fundraising
ATTACH;FMTTYPE=image/jpeg:https://delrayartisans.org/wp-content/uploads/2020/07/cover-2022-mockup.jpg
ORGANIZER;CN="Dawn Wyse Hurto%2C Technology Director":MAILTO:technology@delrayartisans.org
END:VEVENT
BEGIN:VEVENT
DTSTART;VALUE=DATE:20210414
DTEND;VALUE=DATE:20210429
DTSTAMP:20260423T011031
CREATED:20230323T195719Z
LAST-MODIFIED:20230324T165529Z
UID:10000007-1618358400-1619654399@delrayartisans.org
SUMMARY:Spring2ACTion 2021
DESCRIPTION:Donate April 14–28 \nStarting Wednesday\, April 14 through Wednesday\, April 28\, 2021 (Giving Day) our community comes together to support the amazing work of Alexandria nonprofits through Spring2ACTion\, hosted by ACT for Alexandria. Please remember Del Ray Artisans is one of those worthy causes! \nDuring Spring2ACTion 2021\, please give your support to Del Ray Artisans’ exhibits\, programs\, youth and outreach activities which help members of our community grow as individuals and as artists. \nIf you are in a position to do so\, please donate to Del Ray Artisans nonprofit today. Other ways to support: \n\nJoin us for a Facebook Live event on Wednesday\, April 28 at 7pm to celebrate Del Ray Artisans nonprofit arts organization. Watch live at facebook.com/DelRayArtisans\nBuy artwork from local artists in the Unfinished/Finished art exhibit at the gallery or from members websites.\nDesignate Del Ray Artisans as your AmazonSmile charity of choice\, or order your BLICK art materials through this link and Del Ray Artisans will receive a donation from BLICK.\nShare our Spring2ACTion fundraising page with your network. Crowdsourcing adds up\, and we absolutely appreciate every single donation.\n\nPlease consider a tax-deductible donation and spread the word to friends and family. Every donation is appreciated. Thank you for supporting the arts! \nDonate April 14–28
URL:https://delrayartisans.org/event/spring2action-2021/
LOCATION:Online
CATEGORIES:Community Event,Fundraising,Program
ATTACH;FMTTYPE=image/png:https://delrayartisans.org/wp-content/uploads/1992/12/spring2action-logo-2018-XMMS3P.tmp.png
ORGANIZER;CN="Dawn Wyse Hurto%2C Technology Director":MAILTO:technology@delrayartisans.org
END:VEVENT
BEGIN:VEVENT
DTSTART;VALUE=DATE:20201010
DTEND;VALUE=DATE:20201011
DTSTAMP:20260423T011031
CREATED:20230331T212611Z
LAST-MODIFIED:20230408T134924Z
UID:10000736-1602288000-1602374399@delrayartisans.org
SUMMARY:Pre-order Del Ray Artisans 2021 Wall Calendar Deadline
DESCRIPTION:Pre-order Now \nDel Ray Artisans’ 2021 Wall Calendar featuring artwork by Del Ray Artisans members is available for pre-order now for just $16/calendar. (Regular price $19/calendar.) \nThe pre-order discount price is only available until October 10. Pre-ordering the calendar helps our organization estimate how many calendars to order. If you pre-order\, you will be notified when the calendars arrive\, so you can come pick up your purchase. \nPLEASE NOTE: Calendars will NOT be shipped. You will be notified when your order is ready to be picked up\, and then come pick it up at your convenience! \nThank you to to the calendar sponsors: Bobi Bomar & Ellen Patrick – Homes of Alexandria Team\, Cooley LLP\, McD Mateos McDonald’s\, and Cosmopolitan Boat Club; thank you to all the artists for the use of their work in the calendar; and thank you to everyone who purchases a calendar! \nPre-populated events in the calendar include Del Ray Artisans events\, community events\, national holidays\, and major religious holidays. \nPre-order Now
URL:https://delrayartisans.org/event/pre-order-2021-calendar/
LOCATION:Online
CATEGORIES:Fundraising
ATTACH;FMTTYPE=image/jpeg:https://delrayartisans.org/wp-content/uploads/2020/07/2021-calendar-cover-square.jpg
END:VEVENT
BEGIN:VEVENT
DTSTART;VALUE=DATE:20200403
DTEND;VALUE=DATE:20200416
DTSTAMP:20260423T011031
CREATED:20230331T211918Z
LAST-MODIFIED:20230331T214036Z
UID:10000663-1585872000-1586995199@delrayartisans.org
SUMMARY:Spring2ACTion 2020
DESCRIPTION:Donate April 3-15\nStarting Friday\, April 3 through Wednesday\, April 15\, 2020 (Giving Day) our community comes together to support the amazing work of Alexandria nonprofits through Spring2ACTion\, hosted by ACT for Alexandria. Please remember Del Ray Artisans is one of those worthy causes! \nDuring Spring2ACTion 2020\, please give your support to Del Ray Artisans’ exhibits\, programs\, youth and outreach activities which help members of our community grow as individuals and as artists. In addition to planning ahead for the return of our mission-driven events\, critical funds are needed now to retain gallery staff during the shutdown and expand further into the virtual world. \nIf you are in a position to do so\, please donate to Del Ray Artisans nonprofit today. Other ways to support: \n\nBuy artwork from local artists. View the Tell Me a Story exhibit online and contact Gallery@DelRayArtisans.org to purchase specific pieces by June 10\, 2020. The art will be available for pick up once the gallery reopens.\nDesignate Del Ray Artisans as your AmazonSmile charity of choice\, or order your BLICK art materials through this link and Del Ray Artisans will receive a donation from BLICK.\nShare our Spring2ACTion fundraising page with your network. Crowdsourcing adds up\, and we absolutely appreciate every single donation.\n\nPlease consider a tax-deductible donation and spread the word to friends and family. Every donation is appreciated. Thank you for supporting the arts! \nDonate April 3-15
URL:https://delrayartisans.org/event/spring2action-2020/
LOCATION:Online
CATEGORIES:Community Event,Fundraising,Program
ATTACH;FMTTYPE=image/png:https://delrayartisans.org/wp-content/uploads/1992/12/spring2action-logo-2018-XMMS3P.tmp.png
END:VEVENT
BEGIN:VEVENT
DTSTART;TZID=America/New_York:20200311T170000
DTEND;TZID=America/New_York:20200311T200000
DTSTAMP:20260423T011031
CREATED:20230331T211717Z
LAST-MODIFIED:20230408T161653Z
UID:10000658-1583946000-1583956800@delrayartisans.org
SUMMARY:Del Ray Artisans' Spirit Night at McDonald's
DESCRIPTION:Support Del Ray Artisans by attending Spirit Night at McDonald’s (1000 N Henry Street\, Alexandria VA 22314) from 4-7pm! \nMCD Mateos\, McDonald’s is generously donating a percentage of sales between 4-7pm to our nonprofit. During this event\, you’ll also have the opportunity to see and purchase artwork from Del Ray Artisans at McDonald’s. \nFor event questions or to volunteer\, email Amy Kitchin Hower at Volunteers@DelRayArtisans.org. \nMcDonald’s\, 1000 N Henry Street\, Alexandria VA 22314\n2020 Spirit Nights are from 4-7pm on: \n\nWednesday\, March 11\nWednesday\, September 9 (TBD)\nWednesday\, November 18 (TBD)
URL:https://delrayartisans.org/event/mcdonalds-spirit-night/
LOCATION:VA
CATEGORIES:Fundraising
ATTACH;FMTTYPE=image/jpeg:https://delrayartisans.org/wp-content/uploads/2018/08/MAP-McDonalds-DRA.jpg
END:VEVENT
BEGIN:VEVENT
DTSTART;TZID=America/New_York:20191130T120000
DTEND;TZID=America/New_York:20191130T210000
DTSTAMP:20260423T011031
CREATED:20230410T144234Z
LAST-MODIFIED:20230410T164659Z
UID:10000992-1575115200-1575147600@delrayartisans.org
SUMMARY:Shop Small Promotion: Small Business Saturday
DESCRIPTION:Special Promotion on Small Business Saturday (November 30\, 2019)\n10% discount on any artwork purchased from the current exhibit\, PLUS receive a FREE t-shirt with any artwork purchase of $100 or more (while supplies last). \nThe current art exhibit\, $100 & Under\, showcases members’ original artwork — all priced at $100 or less. Buyers will take art home immediately after purchase during this exhibit (November 1 – December 1). This is a rapidly evolving exhibit\, as sold artwork is replaced each week with new work\, so visit frequently to shop from lots of great art at prices all art-lovers can afford. \nShop local and support the artists in your community! Del Ray Artisans is a 501(c)(3) nonprofit art organization. \n\n\n\nWhen you #shopsmall\, you make a big impact. Come to Alexandria\, the D.C. region’s #shopsmall headquarters\, and visit Del Ray Artisans gallery for unique\, hand-crafted finds!
URL:https://delrayartisans.org/event/shop-small-2019-small-business-saturday/
LOCATION:Del Ray Artisans Gallery\, 2704 Mount Vernon Avenue\, Alexandria\, VA\, 22301\, United States
CATEGORIES:Fundraising
ATTACH;FMTTYPE=image/jpeg:https://delrayartisans.org/wp-content/uploads/1992/12/event-archive-image.jpg
END:VEVENT
BEGIN:VEVENT
DTSTART;TZID=America/New_York:20191129T120000
DTEND;TZID=America/New_York:20191129T210000
DTSTAMP:20260423T011031
CREATED:20230410T144232Z
LAST-MODIFIED:20230410T164651Z
UID:10000991-1575028800-1575061200@delrayartisans.org
SUMMARY:Shop Small Promotion: Black Friday
DESCRIPTION:Special Promotion on Black Friday and Small Business Saturday(November 29-30\, 2019)\n10% discount on any artwork purchased from the current exhibit! \nThe current art exhibit\, $100 & Under\, showcases members’ original artwork — all priced at $100 or less. Buyers will take art home immediately after purchase during this exhibit (November 1 – December 1). This is a rapidly evolving exhibit\, as sold artwork is replaced each week with new work\, so visit frequently to shop from lots of great art at prices all art-lovers can afford. \nShop local and support the artists in your community! Del Ray Artisans is a 501(c)(3) nonprofit art organization. \n\n\n\nWhen you #shopsmall\, you make a big impact. Come to Alexandria\, the D.C. region’s #shopsmall headquarters\, and visit Del Ray Artisans gallery for unique\, hand-crafted finds!
URL:https://delrayartisans.org/event/shop-small-2019-black-friday/
LOCATION:Del Ray Artisans Gallery\, 2704 Mount Vernon Avenue\, Alexandria\, VA\, 22301\, United States
CATEGORIES:Fundraising
ATTACH;FMTTYPE=image/jpeg:https://delrayartisans.org/wp-content/uploads/1992/12/event-archive-image.jpg
END:VEVENT
BEGIN:VEVENT
DTSTART;TZID=America/New_York:20191120T160000
DTEND;TZID=America/New_York:20191120T190000
DTSTAMP:20260423T011031
CREATED:20230410T143455Z
LAST-MODIFIED:20230410T155450Z
UID:10001035-1574265600-1574276400@delrayartisans.org
SUMMARY:Del Ray Artisans’ Spirit Night at McDonald’s
DESCRIPTION:Support Del Ray Artisans by attending Spirit Night at McDonald’s (1000 N Henry Street\, Alexandria VA 22314) from 4-7pm! \nMCD Mateos\, McDonald’s is generously donating a percentage of sales between 4-7pm to our nonprofit. During this event\, you’ll also have the opportunity to see and purchase artwork from Del Ray Artisans at McDonald’s. \nFor event questions or to volunteer\, email Joe Franklin at Fundraising@DelRayArtisans.org and Mila Mateu at milaenartes@gmail.com. \nMcDonald’s\, 1000 N Henry Street\, Alexandria VA 22314\n2019 Spirit Nights are from 4-7pm on: \n\nThursday\, April 25\nThursday\, May 16\nThursday\, June 20\nWednesday\, October 16\nWednesday\, November 20
URL:https://delrayartisans.org/event/mcdonalds-spirit-night-2019/2019-11-20/
LOCATION:McDonald’s\, 1000 N Henry Street\, Alexandria\, VA\, 22314\, United States
CATEGORIES:Fundraising
ATTACH;FMTTYPE=image/jpeg:https://delrayartisans.org/wp-content/uploads/2019/02/McDonalds-SpiritNight-2019.jpg
END:VEVENT
BEGIN:VEVENT
DTSTART;TZID=America/New_York:20191016T160000
DTEND;TZID=America/New_York:20191016T190000
DTSTAMP:20260423T011031
CREATED:20230410T143455Z
LAST-MODIFIED:20230410T155450Z
UID:10001034-1571241600-1571252400@delrayartisans.org
SUMMARY:Del Ray Artisans’ Spirit Night at McDonald’s
DESCRIPTION:Support Del Ray Artisans by attending Spirit Night at McDonald’s (1000 N Henry Street\, Alexandria VA 22314) from 4-7pm! \nMCD Mateos\, McDonald’s is generously donating a percentage of sales between 4-7pm to our nonprofit. During this event\, you’ll also have the opportunity to see and purchase artwork from Del Ray Artisans at McDonald’s. \nFor event questions or to volunteer\, email Joe Franklin at Fundraising@DelRayArtisans.org and Mila Mateu at milaenartes@gmail.com. \nMcDonald’s\, 1000 N Henry Street\, Alexandria VA 22314\n2019 Spirit Nights are from 4-7pm on: \n\nThursday\, April 25\nThursday\, May 16\nThursday\, June 20\nWednesday\, October 16\nWednesday\, November 20
URL:https://delrayartisans.org/event/mcdonalds-spirit-night-2019/2019-10-16/
LOCATION:McDonald’s\, 1000 N Henry Street\, Alexandria\, VA\, 22314\, United States
CATEGORIES:Fundraising
ATTACH;FMTTYPE=image/jpeg:https://delrayartisans.org/wp-content/uploads/2019/02/McDonalds-SpiritNight-2019.jpg
END:VEVENT
BEGIN:VEVENT
DTSTART;TZID=America/New_York:20190620T160000
DTEND;TZID=America/New_York:20190620T190000
DTSTAMP:20260423T011031
CREATED:20230410T143455Z
LAST-MODIFIED:20230410T155450Z
UID:10001033-1561046400-1561057200@delrayartisans.org
SUMMARY:Del Ray Artisans’ Spirit Night at McDonald’s
DESCRIPTION:Support Del Ray Artisans by attending Spirit Night at McDonald’s (1000 N Henry Street\, Alexandria VA 22314) from 4-7pm! \nMCD Mateos\, McDonald’s is generously donating a percentage of sales between 4-7pm to our nonprofit. During this event\, you’ll also have the opportunity to see and purchase artwork from Del Ray Artisans at McDonald’s. \nFor event questions or to volunteer\, email Joe Franklin at Fundraising@DelRayArtisans.org and Mila Mateu at milaenartes@gmail.com. \nMcDonald’s\, 1000 N Henry Street\, Alexandria VA 22314\n2019 Spirit Nights are from 4-7pm on: \n\nThursday\, April 25\nThursday\, May 16\nThursday\, June 20\nWednesday\, October 16\nWednesday\, November 20
URL:https://delrayartisans.org/event/mcdonalds-spirit-night-2019/2019-06-20/
LOCATION:McDonald’s\, 1000 N Henry Street\, Alexandria\, VA\, 22314\, United States
CATEGORIES:Fundraising
ATTACH;FMTTYPE=image/jpeg:https://delrayartisans.org/wp-content/uploads/2019/02/McDonalds-SpiritNight-2019.jpg
END:VEVENT
BEGIN:VEVENT
DTSTART;TZID=America/New_York:20190516T160000
DTEND;TZID=America/New_York:20190516T190000
DTSTAMP:20260423T011031
CREATED:20230410T143455Z
LAST-MODIFIED:20230410T155450Z
UID:10001032-1558022400-1558033200@delrayartisans.org
SUMMARY:Del Ray Artisans’ Spirit Night at McDonald’s
DESCRIPTION:Support Del Ray Artisans by attending Spirit Night at McDonald’s (1000 N Henry Street\, Alexandria VA 22314) from 4-7pm! \nMCD Mateos\, McDonald’s is generously donating a percentage of sales between 4-7pm to our nonprofit. During this event\, you’ll also have the opportunity to see and purchase artwork from Del Ray Artisans at McDonald’s. \nFor event questions or to volunteer\, email Joe Franklin at Fundraising@DelRayArtisans.org and Mila Mateu at milaenartes@gmail.com. \nMcDonald’s\, 1000 N Henry Street\, Alexandria VA 22314\n2019 Spirit Nights are from 4-7pm on: \n\nThursday\, April 25\nThursday\, May 16\nThursday\, June 20\nWednesday\, October 16\nWednesday\, November 20
URL:https://delrayartisans.org/event/mcdonalds-spirit-night-2019/2019-05-16/
LOCATION:McDonald’s\, 1000 N Henry Street\, Alexandria\, VA\, 22314\, United States
CATEGORIES:Fundraising
ATTACH;FMTTYPE=image/jpeg:https://delrayartisans.org/wp-content/uploads/2019/02/McDonalds-SpiritNight-2019.jpg
END:VEVENT
BEGIN:VEVENT
DTSTART;TZID=America/New_York:20190425T160000
DTEND;TZID=America/New_York:20190425T190000
DTSTAMP:20260423T011031
CREATED:20230410T143455Z
LAST-MODIFIED:20230410T155450Z
UID:10000845-1556208000-1556218800@delrayartisans.org
SUMMARY:Del Ray Artisans’ Spirit Night at McDonald’s
DESCRIPTION:Support Del Ray Artisans by attending Spirit Night at McDonald’s (1000 N Henry Street\, Alexandria VA 22314) from 4-7pm! \nMCD Mateos\, McDonald’s is generously donating a percentage of sales between 4-7pm to our nonprofit. During this event\, you’ll also have the opportunity to see and purchase artwork from Del Ray Artisans at McDonald’s. \nFor event questions or to volunteer\, email Joe Franklin at Fundraising@DelRayArtisans.org and Mila Mateu at milaenartes@gmail.com. \nMcDonald’s\, 1000 N Henry Street\, Alexandria VA 22314\n2019 Spirit Nights are from 4-7pm on: \n\nThursday\, April 25\nThursday\, May 16\nThursday\, June 20\nWednesday\, October 16\nWednesday\, November 20
URL:https://delrayartisans.org/event/mcdonalds-spirit-night-2019/2019-04-25/
LOCATION:McDonald’s\, 1000 N Henry Street\, Alexandria\, VA\, 22314\, United States
CATEGORIES:Fundraising
ATTACH;FMTTYPE=image/jpeg:https://delrayartisans.org/wp-content/uploads/2019/02/McDonalds-SpiritNight-2019.jpg
END:VEVENT
BEGIN:VEVENT
DTSTART;VALUE=DATE:20190410
DTEND;VALUE=DATE:20190411
DTSTAMP:20260423T011031
CREATED:20230410T143403Z
LAST-MODIFIED:20230410T154726Z
UID:10000840-1554854400-1554940799@delrayartisans.org
SUMMARY:Spring2ACTion 2019
DESCRIPTION:From Wednesday\, March 27 through Wednesday\, April 10\, 2019 (Giving Day) our community comes together to support the amazing work of Alexandria nonprofits through Spring2ACTion\, hosted by ACT for Alexandria. Please remember Del Ray Artisans is one of those worthy causes! \nDonate March 27 – April 10 \nDuring Spring2ACTion 2019\, please give your support to these three important\, cherished outreach programs which help members of our community grow as individuals and as artists. Donations donated through the campaign links below will be used to directly support that specific program. Donations not designated in the campaigns will support Del Ray Artisans nonprofit directly. \n\nMs Kelli’s Inspiration Matterz brings art instruction to inmates in the Alexandria Detention Center and to women in transition from prison to a life in our community.\nThe Ted Eichers Memorial Art Scholarship helps support a T.C. Williams student study art in college.\nScholarships for our Youth Art Camp help youth ages 8-14 attend camp each July.\n\n.\nPlease make your tax-deductible donation between March 27 and April 10 — and spread the word to friends and family. Every donation is appreciated. Thank you for your support! \nDonate March 27 – April 10 \nAlso on Wednesday\, April 10 from 2-5pm\, Del Ray Artisans is offering a FREE\, clothed\, life drawing session. Bring your drawing supplies and come ready to sketch!
URL:https://delrayartisans.org/event/spring2action-2019/
LOCATION:Online
CATEGORIES:Fundraising,Program
ATTACH;FMTTYPE=image/jpeg:https://delrayartisans.org/wp-content/uploads/1992/12/event-archive-image.jpg
END:VEVENT
END:VCALENDAR