BEGIN:VCALENDAR
VERSION:2.0
PRODID:-//Del Ray Artisans - ECPv6.15.20//NONSGML v1.0//EN
CALSCALE:GREGORIAN
METHOD:PUBLISH
X-ORIGINAL-URL:https://delrayartisans.org
X-WR-CALDESC:Events for Del Ray Artisans
REFRESH-INTERVAL;VALUE=DURATION:PT1H
X-Robots-Tag:noindex
X-PUBLISHED-TTL:PT1H
BEGIN:VTIMEZONE
TZID:America/New_York
BEGIN:DAYLIGHT
TZOFFSETFROM:-0500
TZOFFSETTO:-0400
TZNAME:EDT
DTSTART:20250309T070000
END:DAYLIGHT
BEGIN:STANDARD
TZOFFSETFROM:-0400
TZOFFSETTO:-0500
TZNAME:EST
DTSTART:20251102T060000
END:STANDARD
BEGIN:DAYLIGHT
TZOFFSETFROM:-0500
TZOFFSETTO:-0400
TZNAME:EDT
DTSTART:20260308T070000
END:DAYLIGHT
BEGIN:STANDARD
TZOFFSETFROM:-0400
TZOFFSETTO:-0500
TZNAME:EST
DTSTART:20261101T060000
END:STANDARD
BEGIN:DAYLIGHT
TZOFFSETFROM:-0500
TZOFFSETTO:-0400
TZNAME:EDT
DTSTART:20270314T070000
END:DAYLIGHT
BEGIN:STANDARD
TZOFFSETFROM:-0400
TZOFFSETTO:-0500
TZNAME:EST
DTSTART:20271107T060000
END:STANDARD
END:VTIMEZONE
BEGIN:VEVENT
DTSTART;TZID=America/New_York:20260530T150000
DTEND;TZID=America/New_York:20260530T170000
DTSTAMP:20260422T221711
CREATED:20260215T155528Z
LAST-MODIFIED:20260228T232655Z
UID:10002202-1780153200-1780160400@delrayartisans.org
SUMMARY:Pictures at an Alexandria Exhibition at the Rachel M. Schlesinger Concert Hall and Arts Center
DESCRIPTION:The inextricable relationship between music and art is timeless. Del Ray Artisans\, the Symphony Orchestra League of Alexandria (SOLA)\, and the Symphony Orchestra of Northern Virginia (SONOVA) present Pictures at an Alexandria Exhibition\, an online art auction fundraising event and concert performance. \nSONOVA will present a live performance of music selections that inspired the artwork at the Rachel M. Schlesinger Concert Hall and Arts Center at Northern Virginia Community College*\, Alexandria Campus\, on Saturday\, May 30 at 3pm.  Tickets are available on the SONOVA website.  A digital slideshow of a selection of the auction artworks will be featured during the concert. \nInformation on the auction coming soon. \n*Northern Virginia Community College does not sponsor or endorse this event.
URL:https://delrayartisans.org/event/fundraiser-auction-concert/
LOCATION:Rachel M. Schlesinger Concert Hall and Arts Center\, 4915 E Campus Dr\, Alexandria\, 22311\, United States
CATEGORIES:Fundraising
ORGANIZER;CN="Kelly MacConomy%2C Outreach Director":MAILTO:outreach@delrayartisans.org
END:VEVENT
END:VCALENDAR