BEGIN:VCALENDAR
VERSION:2.0
PRODID:-//Del Ray Artisans - ECPv6.15.20//NONSGML v1.0//EN
CALSCALE:GREGORIAN
METHOD:PUBLISH
X-ORIGINAL-URL:https://delrayartisans.org
X-WR-CALDESC:Events for Del Ray Artisans
REFRESH-INTERVAL;VALUE=DURATION:PT1H
X-Robots-Tag:noindex
X-PUBLISHED-TTL:PT1H
BEGIN:VTIMEZONE
TZID:America/New_York
BEGIN:DAYLIGHT
TZOFFSETFROM:-0500
TZOFFSETTO:-0400
TZNAME:EDT
DTSTART:20220313T070000
END:DAYLIGHT
BEGIN:STANDARD
TZOFFSETFROM:-0400
TZOFFSETTO:-0500
TZNAME:EST
DTSTART:20221106T060000
END:STANDARD
BEGIN:DAYLIGHT
TZOFFSETFROM:-0500
TZOFFSETTO:-0400
TZNAME:EDT
DTSTART:20230312T070000
END:DAYLIGHT
BEGIN:STANDARD
TZOFFSETFROM:-0400
TZOFFSETTO:-0500
TZNAME:EST
DTSTART:20231105T060000
END:STANDARD
BEGIN:DAYLIGHT
TZOFFSETFROM:-0500
TZOFFSETTO:-0400
TZNAME:EDT
DTSTART:20240310T070000
END:DAYLIGHT
BEGIN:STANDARD
TZOFFSETFROM:-0400
TZOFFSETTO:-0500
TZNAME:EST
DTSTART:20241103T060000
END:STANDARD
END:VTIMEZONE
BEGIN:VEVENT
DTSTART;TZID=America/New_York:20231119T150000
DTEND;TZID=America/New_York:20231119T150000
DTSTAMP:20260425T172628
CREATED:20231101T194511Z
LAST-MODIFIED:20231103T131148Z
UID:10001177-1700406000-1700406000@delrayartisans.org
SUMMARY:Raffle Drawing
DESCRIPTION:This is your chance to win a hand crocheted lap throw by Robyn Seaton McGarry embellished with adorable crocheted cat and dog appliqués. 60″ x 50″ of cozy blanket. Raffle tickets are just $3 each\, $5 for 3 tickets\, or $10 for 6 tickets\, and all proceeds benefit Del Ray Artisans 501(c)(3) nonprofit organization. Purchase tickets online or at the gallery. \nThe raffle begins on October 29\, 2023 and ends on November 19\, 2023 during the Housemates art exhibit. The winner will be drawn on Sunday\, November 19 at 3:00pm. \nFine print: \n\nOnline ticket sales end at noon (12:00pm) on November 19. In person ticket sales end just prior to the drawing on November 19\, 2023 at 3:00pm.\nOnline ticket purchases are only open to residents of Virginia\, Maryland\, and DC.\nWinner will be notified via the contact method available (for online ticket sales the contact method is an email address; for in person sales the purchaser may give a phone number or email address).\nWinner need not be present to win.\nWinner must pick up the blanket by December 3\, 2023 or a new winner will be drawn.\nThe prize will not be shipped.\n\nBuy Raffle Tickets
URL:https://delrayartisans.org/event/raffle-crocheted-blanket/
LOCATION:Del Ray Artisans Gallery\, 2704 Mount Vernon Avenue\, Alexandria\, VA\, 22301\, United States
CATEGORIES:Fundraising
ATTACH;FMTTYPE=image/jpeg:https://delrayartisans.org/wp-content/uploads/2023/11/raffle-blanket.jpg
ORGANIZER;CN="Robyn Seaton McGarry":MAILTO:robynmcgarry15@gmail.com
END:VEVENT
END:VCALENDAR