BEGIN:VCALENDAR
VERSION:2.0
PRODID:-//Del Ray Artisans - ECPv6.15.20//NONSGML v1.0//EN
CALSCALE:GREGORIAN
METHOD:PUBLISH
X-WR-CALNAME:Del Ray Artisans
X-ORIGINAL-URL:https://delrayartisans.org
X-WR-CALDESC:Events for Del Ray Artisans
REFRESH-INTERVAL;VALUE=DURATION:PT1H
X-Robots-Tag:noindex
X-PUBLISHED-TTL:PT1H
BEGIN:VTIMEZONE
TZID:America/New_York
BEGIN:DAYLIGHT
TZOFFSETFROM:-0500
TZOFFSETTO:-0400
TZNAME:EDT
DTSTART:20180311T070000
END:DAYLIGHT
BEGIN:STANDARD
TZOFFSETFROM:-0400
TZOFFSETTO:-0500
TZNAME:EST
DTSTART:20181104T060000
END:STANDARD
BEGIN:DAYLIGHT
TZOFFSETFROM:-0500
TZOFFSETTO:-0400
TZNAME:EDT
DTSTART:20190310T070000
END:DAYLIGHT
BEGIN:STANDARD
TZOFFSETFROM:-0400
TZOFFSETTO:-0500
TZNAME:EST
DTSTART:20191103T060000
END:STANDARD
BEGIN:DAYLIGHT
TZOFFSETFROM:-0500
TZOFFSETTO:-0400
TZNAME:EDT
DTSTART:20200308T070000
END:DAYLIGHT
BEGIN:STANDARD
TZOFFSETFROM:-0400
TZOFFSETTO:-0500
TZNAME:EST
DTSTART:20201101T060000
END:STANDARD
END:VTIMEZONE
BEGIN:VEVENT
DTSTART;VALUE=DATE:20190127
DTEND;VALUE=DATE:20190128
DTSTAMP:20260423T115518
CREATED:20230410T142136Z
LAST-MODIFIED:20230410T153250Z
UID:10000802-1548547200-1548633599@delrayartisans.org
SUMMARY:Bringing Words to Life (9/30-1/27)
DESCRIPTION:Bringing Words to Life Art Exhibit at VCA Alexandria Animal Hospital\nSeptember 30\, 2018 – January 27\, 2019\n“I Hope You Dance” by Monica Hokeilen\nThe Bringing Words to Life art exhibit at the Veterinary Clinics of America Alexandria Animal Hospital (VCA Alexandria) features Del Ray Artisans members’ artwork. The exhibit is a part of Del Ray Artisans’ Gallery Without Walls (GWW) program in partnership with VCA Alexandria and features paintings\, photography\, and mixed media works of art. \nWords can be powerful forms of art. Whether written\, spoken\, or sung\, words often evoke emotion and meaning that stay with us long after they are finished. Bringing Words to Life pairs a line from an artist’s favorite song\, poem\, book\, or speech with the artist’s visual interpretation of that quote. This exhibit will display the artwork and quoted lines together at VCA Alexandria from September 30\, 2018 through January 27\, 2019. Patrons may view the artwork at VCA Alexandria during regular business hours and at the discretion of hospital staff. \nAll artwork is available for purchase through Del Ray Artisans. Artists are donating 20% of the purchase price of sold pieces in an equal split between Del Ray Artisans and the VCA Alexandria’s charity of choice\, Veterans Moving Forward. Veterans Moving Forward helps veterans lead more productive lives through partnerships with trained assistance animals. Del Ray Artisans and Veterans Moving Forward are 501(c)(3) nonprofit organizations. \nVCA Alexandria Animal Hospital is located at 2660 Duke Street\, Alexandria\, VA 22314. VCA Alexandria staff can be reached by phone at 703-751-2022 or 703-823-3601. Del Ray Artisans’ volunteer GWW curator\, Monica Hokeilen\, may be reached at GWW@DelRayArtisans.org.
URL:https://delrayartisans.org/event/bringing-words-to-life/
LOCATION:VCA Alexandria Animal Hospital\, 2660 Duke St\, Alexandria\, VA\, 22314\, United States
CATEGORIES:Art Exhibit,Gallery Without Walls
ATTACH;FMTTYPE=image/jpeg:https://delrayartisans.org/wp-content/uploads/2018/01/I_hope_you_dance_by_Monica_Hokeilen-original.jpg
END:VEVENT
END:VCALENDAR