BEGIN:VCALENDAR
VERSION:2.0
PRODID:-//Del Ray Artisans - ECPv6.15.20//NONSGML v1.0//EN
CALSCALE:GREGORIAN
METHOD:PUBLISH
X-WR-CALNAME:Del Ray Artisans
X-ORIGINAL-URL:https://delrayartisans.org
X-WR-CALDESC:Events for Del Ray Artisans
REFRESH-INTERVAL;VALUE=DURATION:PT1H
X-Robots-Tag:noindex
X-PUBLISHED-TTL:PT1H
BEGIN:VTIMEZONE
TZID:America/New_York
BEGIN:DAYLIGHT
TZOFFSETFROM:-0500
TZOFFSETTO:-0400
TZNAME:EDT
DTSTART:20240310T070000
END:DAYLIGHT
BEGIN:STANDARD
TZOFFSETFROM:-0400
TZOFFSETTO:-0500
TZNAME:EST
DTSTART:20241103T060000
END:STANDARD
BEGIN:DAYLIGHT
TZOFFSETFROM:-0500
TZOFFSETTO:-0400
TZNAME:EDT
DTSTART:20250309T070000
END:DAYLIGHT
BEGIN:STANDARD
TZOFFSETFROM:-0400
TZOFFSETTO:-0500
TZNAME:EST
DTSTART:20251102T060000
END:STANDARD
BEGIN:DAYLIGHT
TZOFFSETFROM:-0500
TZOFFSETTO:-0400
TZNAME:EDT
DTSTART:20260308T070000
END:DAYLIGHT
BEGIN:STANDARD
TZOFFSETFROM:-0400
TZOFFSETTO:-0500
TZNAME:EST
DTSTART:20261101T060000
END:STANDARD
END:VTIMEZONE
BEGIN:VEVENT
DTSTART;VALUE=DATE:20250404
DTEND;VALUE=DATE:20250427
DTSTAMP:20260423T182257
CREATED:20241030T213248Z
LAST-MODIFIED:20250131T154723Z
UID:10001696-1743724800-1745711999@delrayartisans.org
SUMMARY:Synchronous at Del Ray Artisans Gallery
DESCRIPTION:Synchronous Art Exhibit\nApril 4–26\, 2025\nOpening Reception: Friday\, April 4 from 7–9pm\n“Synchronous Humanity” by Morgan Parr\nThe Synchronous art exhibit features creative work by Del Ray Artisans’ top 100 volunteers. These members help make Del Ray Artisans a thriving organization that fosters community and acceptance\, promotes authentic expression\, and encourages artistic creations. Come celebrate the dedication of our volunteers and enjoy their artwork. \nJoin us for the opening reception on Friday\, April 4 between 7-9pm to meet curator and Volunteers Director Morgan Parr and the artists. Mark your calendar or set a reminder through Eventbrite. \nDel Ray Artisans members who donated the most volunteer hours from January 2023 through December 2024 were invited to enter pieces. A big thank you to the exceptional volunteers (alphabetized by first name) who qualified for the exhibit: Aaron Fletchersmith\, Alexandra Schmeling\, Alyssa Pease\, Amanda Fletchersmith\, Amy Castine\, Amy Kitchin Hower\, Ann Cameron Siegal\, Annemarie Kuhns\, Ariane D’Souza\, Barbara Cooper\, Barbara Smith\, Betsy Lederer\, Bhavani Arabandi\, Bill Cabrera\, Brando Gould\, Bridget Anthony-Hlioui\, Brooke Johnson\, Camille Kouyoumdjian\, Christian Melgar\, Chuck Dervarics\, Courtney Pippin-Mathur\, Cynthia Schoeppel\, Dale Spivey\, Dan Witmeyer\, Danielle Chan\, Dawn Wyse Hurto\, Diana Papazian\, Dina Wise\, Ditas Katague\, Donna Gallo\, Ellen Kozicki\, Ellen Rosenthal\, Erica Hughes\, Gale Goldfarb\, Gordon Thomas Frank\, Guy Jones\, Jana Bertucci\, Jenny Nicholson\, Joan Bickelhaupt\, Joshua Oliveira-Martin\, Joyce Wagner\, Karen Feeley\, Karen Schmitz\, Kate Gibney\, Katherine Rand\, Kathryn Brown\, Kazuko Fuller\, KC Hodge\, Kellie Sansone\, Kelly M. MacConomy\, Kelly Postula\, Kelly Snyder\, Kevin Sherlock\, Kitty Russell\, Kurt Peterson\, Lesley Hall\, Linda Elliff\, Liz Martinez\, Liz Vance\, Lori Fredricks\, Lori Welch Brown\, Lynn Chadwick\, Margaret Slipek\, Maria Hart\, Marshall Carolus\, Mary Pike\, Maxine Cholmondeley\, Meredith D’Amore\, Michele Reday Cook\, Mila Mateu\, Morgan Parr\, Nancy Flores\, Nancy Galib\, Nicole Mahoney\, Pamela Day\, Peter Michaels\, Pinar Artuk-Boegel\, Rita Cohen\, Rita Schooley\, Robin Hunter Reid\, Robin Ludt\, Robyn Seaton McGarry\, Rod Whyte\, Ron Reel\, Rusty Lynn\, Sandra Alami\, Scott MacConomy\, Sean Crumley\, Stephanie Darlene Greenwald\, Stephen Lally\, Sue Shumate\, Sue Stone-Walls\, Susan Fitter Harris\, Suzan Ok Shumate\, Suzanne Tillman\, Thom Lowther\, Tiara Safic-Martin\, TJ Feeley\, and Tracy Wilkerson. \nThe Synchronous art exhibit runs from April 4–26\, 2025 at Del Ray Artisans gallery in the Colasanto Center\, 2704 Mount Vernon Avenue\, Alexandria\, Virginia 22301. Gallery hours are Thursday 12-6pm\, Friday 12-9pm\, Saturday 12-6pm\, and Sunday 12-6pm (closed April 27). \nThe gallery is free\, open to the public\, and accessible. Del Ray Artisans\, a 501(3)(c) nonprofit organization whose mission is to promote art for the benefit of artists and the community. \nFor more information\, contact curator Morgan Parr at volunteers@delrayartisans.org or Director of Curating Amy Kitchin Hower at curating@delrayartisans.org.
URL:https://delrayartisans.org/event/synchronous/
LOCATION:Del Ray Artisans Gallery\, 2704 Mount Vernon Avenue\, Alexandria\, VA\, 22301\, United States
CATEGORIES:Art Exhibit,Del Ray Artisans Gallery
ATTACH;FMTTYPE=image/jpeg:https://delrayartisans.org/wp-content/uploads/2025/01/Synchronous-Humanity-by-Morgan-Parr-square.jpg
ORGANIZER;CN="Morgan Parr%2C Director of Volunteers":MAILTO:volunteers@delrayartisans.org
END:VEVENT
END:VCALENDAR