BEGIN:VCALENDAR
VERSION:2.0
PRODID:-//Del Ray Artisans - ECPv6.15.20//NONSGML v1.0//EN
CALSCALE:GREGORIAN
METHOD:PUBLISH
X-ORIGINAL-URL:https://delrayartisans.org
X-WR-CALDESC:Events for Del Ray Artisans
REFRESH-INTERVAL;VALUE=DURATION:PT1H
X-Robots-Tag:noindex
X-PUBLISHED-TTL:PT1H
BEGIN:VTIMEZONE
TZID:America/New_York
BEGIN:DAYLIGHT
TZOFFSETFROM:-0500
TZOFFSETTO:-0400
TZNAME:EDT
DTSTART:20230312T070000
END:DAYLIGHT
BEGIN:STANDARD
TZOFFSETFROM:-0400
TZOFFSETTO:-0500
TZNAME:EST
DTSTART:20231105T060000
END:STANDARD
BEGIN:DAYLIGHT
TZOFFSETFROM:-0500
TZOFFSETTO:-0400
TZNAME:EDT
DTSTART:20240310T070000
END:DAYLIGHT
BEGIN:STANDARD
TZOFFSETFROM:-0400
TZOFFSETTO:-0500
TZNAME:EST
DTSTART:20241103T060000
END:STANDARD
BEGIN:DAYLIGHT
TZOFFSETFROM:-0500
TZOFFSETTO:-0400
TZNAME:EDT
DTSTART:20250309T070000
END:DAYLIGHT
BEGIN:STANDARD
TZOFFSETFROM:-0400
TZOFFSETTO:-0500
TZNAME:EST
DTSTART:20251102T060000
END:STANDARD
END:VTIMEZONE
BEGIN:VEVENT
DTSTART;VALUE=DATE:20240105
DTEND;VALUE=DATE:20240128
DTSTAMP:20260425T103714
CREATED:20230923T185034Z
LAST-MODIFIED:20240120T151311Z
UID:10001130-1704412800-1706399999@delrayartisans.org
SUMMARY:Visions of Resilience: Art for Climate Justice at Del Ray Artisans Gallery
DESCRIPTION:Visions of Resilience: Art for Climate Justice Art Exhibit\nJanuary 5–27\, 2024\nOpening Reception: Friday\, January 5 from 7–9pm\n“Still Standing” by Camille Kouyoumdjian\nPhoto Album | Video of Select Artworks \nVisit Del Ray Artisans gallery’s Visions of Resilience: Art for Climate Justice exhibit from January 5–27\, 2024 to explore the emotionally resonant power of art to inspire and raise awareness about climate change and its impact on marginalized communities. Art holds the power to portray what words so often miss. This exhibit conveys environmental issues through the universal languages of image and feeling with the goal of encouraging action towards a just\, climate-friendly future. \nThis exhibit is being held in partnership with the Changing Planet Justice (CPJ) Foundation\, which empowers youth to lead climate action in their communities. CPJ provides a platform for youth of all backgrounds to share climate justice-related art\, writing\, and photography with their peers internationally. During the exhibit\, visitors may make donations to CPJ to help further youth-led climate action. \nJoin us for the opening reception on Friday\, January 5\, 7-9pm to meet curator Camille Kouyoumdjian and the artists. Mark your calendar now or set a reminder through Eventbrite\, and register for these special programs held in coordination with the exhibit: \n\nWebinar with Changing Planet Justice Foundation Executive Director Arielle Kouyoumdjian on Thursday\, December 21 starting at 7pm – Learn about the intersections between climate change\, social justice\, and food security. This program will also discuss the Changing Planet Justice Youth Leadership certification and the importance of including youth voices in the climate justice dialogue. Youth and adults are invited to attend. (View the Recording)\nEcoArt: Collage Landscapes for Climate Awareness Workshop on Saturday\, January 13\, 10am-12pm – Craft collage landscapes using recycled paper that convey climate awareness. This class offers a platform for your creativity to shine and your voice to be heard as you contribute to the global dialogue on environmental conservation. Learn color theory and composition while working from landscape reference photos that are personally resonant. Open to adults and children ages 12 and up (children must be accompanied by an adult).\n\nThe Visions of Resilience: Art for Climate Justice exhibit runs January 5–27\, 2024 at Del Ray Artisans gallery in the Colasanto Center\, 2704 Mount Vernon Avenue\, Alexandria\, Virginia 22301. Gallery hours are Thursday 12-6pm\, Friday 12-9pm\, Saturday 12-6pm\, and Sunday 12-6pm (closed on January 28). \nThe gallery is free\, open to the public\, and accessible. Del Ray Artisans\, a 501(3)(c) nonprofit organization whose mission is to promote art for the benefit of artists and the community. \nFor more information\, contact curator Camille Kouyoumdjian at ckouyoumdjianart@gmail.com or Director of Curating Amy Kitchin Hower at curating@delrayartisans.org. \nPhoto Album | Video of Select Artworks
URL:https://delrayartisans.org/event/visions-of-resilience/
LOCATION:Del Ray Artisans Gallery\, 2704 Mount Vernon Avenue\, Alexandria\, VA\, 22301\, United States
CATEGORIES:Art Exhibit,Del Ray Artisans Gallery
ATTACH;FMTTYPE=image/jpeg:https://delrayartisans.org/wp-content/uploads/2023/09/Still-Standing-by-Camille-Kouyoumdjian-square.jpg
ORGANIZER;CN="Camille Kouyoumdjian":MAILTO:ckouyoumdjianart@gmail.com
END:VEVENT
END:VCALENDAR