BEGIN:VCALENDAR
VERSION:2.0
PRODID:-//Del Ray Artisans - ECPv6.15.20//NONSGML v1.0//EN
CALSCALE:GREGORIAN
METHOD:PUBLISH
X-ORIGINAL-URL:https://delrayartisans.org
X-WR-CALDESC:Events for Del Ray Artisans
REFRESH-INTERVAL;VALUE=DURATION:PT1H
X-Robots-Tag:noindex
X-PUBLISHED-TTL:PT1H
BEGIN:VTIMEZONE
TZID:America/New_York
BEGIN:DAYLIGHT
TZOFFSETFROM:-0500
TZOFFSETTO:-0400
TZNAME:EDT
DTSTART:20220313T070000
END:DAYLIGHT
BEGIN:STANDARD
TZOFFSETFROM:-0400
TZOFFSETTO:-0500
TZNAME:EST
DTSTART:20221106T060000
END:STANDARD
BEGIN:DAYLIGHT
TZOFFSETFROM:-0500
TZOFFSETTO:-0400
TZNAME:EDT
DTSTART:20230312T070000
END:DAYLIGHT
BEGIN:STANDARD
TZOFFSETFROM:-0400
TZOFFSETTO:-0500
TZNAME:EST
DTSTART:20231105T060000
END:STANDARD
BEGIN:DAYLIGHT
TZOFFSETFROM:-0500
TZOFFSETTO:-0400
TZNAME:EDT
DTSTART:20240310T070000
END:DAYLIGHT
BEGIN:STANDARD
TZOFFSETFROM:-0400
TZOFFSETTO:-0500
TZNAME:EST
DTSTART:20241103T060000
END:STANDARD
END:VTIMEZONE
BEGIN:VEVENT
DTSTART;VALUE=DATE:20230901
DTEND;VALUE=DATE:20231001
DTSTAMP:20260425T160458
CREATED:20230323T200020Z
LAST-MODIFIED:20230827T150732Z
UID:10000068-1693526400-1696118399@delrayartisans.org
SUMMARY:Farther Afield at Del Ray Artisans Gallery
DESCRIPTION:Farther Afield Art Exhibit\nSeptember 1–30\, 2023\nOpening Reception: Friday\, September 1 from 7–9pm\nArt allows the viewer to travel and experience new sights without leaving home. The Farther Afield art exhibit takes this literally by celebrating artwork that takes us outside of our day-to-day lives to locations far and wide. Whether depicting a scene from a day trip or from halfway across the world\, these artworks transport the viewer away from Alexandria to new cities\, states\, countries\, and continents. \nJoin us for the opening reception on Friday\, September 1 between 7-9pm to meet curator Alexandra Schmeling and the artists. Mark your calendar now or set a reminder through Eventbrite. \nThere’s more to see at Del Ray Artisans in September. Browse Halloween-inspired creations during our HalloWEIRD outdoor art market on Saturday\, September 23 from 10am to 4pm. The market is family-friendly and takes place rain-or-shine. You can also check out our September programs: \n\nCreative Canvas Workshop on Saturday\, Sept 2 from 9am-12pm – Learn how to creatively choose a canvas to amplify the message you are trying to communicate and create a painting on the object. Register by Aug 28.\nLife Drawing Session on Tuesday\, Sept 5\, 7-9pm – Drop-in with your art supplies to draw or paint our nude model. Please do not bring acrylics or oil paints.\nFirst Thursday: Star Wars Day in a Neighborhood Far\, Far Away on Sept 7\, 6-8pm (FREE) – Drop in for an outdoor activity in our gardens and check out the exhibit inside the gallery.\nBeaded Lanyard Thingies Workshop on Saturday\, Sept 9 from 9am-12pm – Get a great introduction to off-loom bead weaving as you learn to make your own lanyard/glasses keeper. Register by Sept 4.\nStretchy Bracelets with Healing Properties Workshop on Saturday\, Sept 16 from 6-9pm – Design and make two stretchy bracelets out of a selection of semi-precious stones\, crystals\, and accent beads. Register by Sept 11.\nPartners in Art Evening – Tuesday\, September 19\, 7-9pm (FREE) – Join our art-support group to share one or two artworks\, any medium\, in any stage\, for advice and feedback. RSVP in advance.\nNature Journaling Club – Saturday\, September 30\, 10am-12pm (FREE) – Drop-in with your sketchbook and art supplies to sketch in our gardens\, then share your drawings with the group. This program is held outdoors and will be canceled in the event of rain.\n\nThe Farther Afield exhibit runs September 1–30\, 2023 at Del Ray Artisans gallery in the Colasanto Center\, 2704 Mount Vernon Avenue\, Alexandria\, Virginia 22301. Gallery hours are First Thursday (April-September) 12-9pm\, Thursday 12-6pm\, Friday 12-9pm\, Saturday 12-6pm\, and Sunday 12-6pm (closed on October 1\, 2023). \nFace masks are recommended inside the gallery. The gallery is free\, open to the public\, and accessible. Del Ray Artisans\, a 501(3)(c) nonprofit organization whose mission is to promote art for the benefit of artists and the community. \nFor more information\, contact the curator Alexandra Schmeling at hello@alexandraschmeling.com. \n\nArtwork credit: Detail of “Jardin des Plantes\, Paris” by Alexandra Schmeling
URL:https://delrayartisans.org/event/farther-afield/
LOCATION:Del Ray Artisans Gallery\, 2704 Mount Vernon Avenue\, Alexandria\, VA\, 22301\, United States
CATEGORIES:Art Exhibit,Del Ray Artisans Gallery
ATTACH;FMTTYPE=image/jpeg:https://delrayartisans.org/wp-content/uploads/2023/06/Jardin-des-Plantes-Paris-by-Alexandra-Schmeling-square.jpg
ORGANIZER;CN="Alexandra Schmeling":MAILTO:hello@alexandraschmeling.com
END:VEVENT
END:VCALENDAR