BEGIN:VCALENDAR
VERSION:2.0
PRODID:-//Del Ray Artisans - ECPv6.15.20//NONSGML v1.0//EN
CALSCALE:GREGORIAN
METHOD:PUBLISH
X-WR-CALNAME:Del Ray Artisans
X-ORIGINAL-URL:https://delrayartisans.org
X-WR-CALDESC:Events for Del Ray Artisans
REFRESH-INTERVAL;VALUE=DURATION:PT1H
X-Robots-Tag:noindex
X-PUBLISHED-TTL:PT1H
BEGIN:VTIMEZONE
TZID:America/New_York
BEGIN:DAYLIGHT
TZOFFSETFROM:-0500
TZOFFSETTO:-0400
TZNAME:EDT
DTSTART:20240310T070000
END:DAYLIGHT
BEGIN:STANDARD
TZOFFSETFROM:-0400
TZOFFSETTO:-0500
TZNAME:EST
DTSTART:20241103T060000
END:STANDARD
BEGIN:DAYLIGHT
TZOFFSETFROM:-0500
TZOFFSETTO:-0400
TZNAME:EDT
DTSTART:20250309T070000
END:DAYLIGHT
BEGIN:STANDARD
TZOFFSETFROM:-0400
TZOFFSETTO:-0500
TZNAME:EST
DTSTART:20251102T060000
END:STANDARD
BEGIN:DAYLIGHT
TZOFFSETFROM:-0500
TZOFFSETTO:-0400
TZNAME:EDT
DTSTART:20260308T070000
END:DAYLIGHT
BEGIN:STANDARD
TZOFFSETFROM:-0400
TZOFFSETTO:-0500
TZNAME:EST
DTSTART:20261101T060000
END:STANDARD
END:VTIMEZONE
BEGIN:VEVENT
DTSTART;VALUE=DATE:20250207
DTEND;VALUE=DATE:20250302
DTSTAMP:20260423T182709
CREATED:20241025T141624Z
LAST-MODIFIED:20250124T201249Z
UID:10001539-1738886400-1740873599@delrayartisans.org
SUMMARY:MeWOW: Fabulous Felines at Del Ray Artisans Gallery
DESCRIPTION:MeWOW: Fabulous Felines Art Exhibit\nFebruary 7 – March 1\, 2025\nOpening Reception: Friday\, February 7 from 7–9pm\n“Birthday Happys” by Guy Jones\n“Lions and Tigers and Tabbies! Oh Meow!” \nLocal artists let their creative cat out of the bag in a diverse array of mediums for the purr-fectly paw-some MeWOW: Fabulous Felines exhibit at Del Ray Artisans gallery. Come see the exhibit to marvel at the power and fascination of cat imagery in art. These furry\, mysterious\, independent\, beautiful felines have inundated history\, mythology\, literature\, advertising\, cinema\, pop culture and pet owners for centuries. \nCome see artwork celebrating the slinky beauty and mysterious world of cats. Join us for the opening reception on Friday\, February 7 between 7-9pm to meet the curators Karen Schmitz and Dan Witmeyer. Mark your calendar now or set a reminder through Eventbrite at mewow.eventbrite.com. \nTo add to the MeWOW experience\, browse the clowder of handmade kitty greeting cards at the gallery with affordable prices that benefit Del Ray Artisans nonprofit. Plus pounce on these creative workshops and programs during the exhibit: \n\nPop Art Cats for Kids Workshop on Saturday\, February 8\, 10am-12pm (register in advance)\nDel Ray Urban Sketchers at St. Elmo’s Coffee Pub in Del Ray on Sunday\, February 9\, 1-3pm\nPlaying with Resin Workshop on Monday\, February 10\, 6-9pm (register in advance)\nSTEAM-tastic: Mandalas and Meows on Sunday\, February 16\, 9-10:30am (Ages 6-10) and 10:30am-noon (Ages 10-15)\nFigure Drawing Sessions on Tuesdays\, February 18 and 25\, 7-9pm\nPartners in Art Evening on Wednesday\, February 19\, 7-9pm (RSVP in advance)\nNature Journaling Club on Saturday\, February 22\, 10am-12pm\nIntro to Mindful Photography Workshop on Saturday\, February 22\, 1-5pm (register in advance)\nVisit delrayartisans.org/programs for additions and updates\n\nThe MeWOW: Fabulous Felines art exhibit runs from February 7 – March 1\, 2025 at Del Ray Artisans gallery in the Colasanto Center\, 2704 Mount Vernon Avenue\, Alexandria\, Virginia 22301. Gallery hours are Thursday 12-6pm\, Friday 12-9pm\, Saturday 12-6pm\, and Sunday 12-6pm (closed March 2\, 2025). \nThe gallery is free\, open to the public\, and accessible. Del Ray Artisans\, a 501(3)(c) nonprofit organization whose mission is to promote art for the benefit of artists and the community. \nFor more information\, contact curators Karen Schmitz at kschmitzart@gmail.com and Dan Witmeyer at dan@witmeyer.com or Director of Curating Amy Kitchin Hower at curating@delrayartisans.org.
URL:https://delrayartisans.org/event/mewow/
LOCATION:Del Ray Artisans Gallery\, 2704 Mount Vernon Avenue\, Alexandria\, VA\, 22301\, United States
CATEGORIES:Art Exhibit,Del Ray Artisans Gallery
ATTACH;FMTTYPE=image/jpeg:https://delrayartisans.org/wp-content/uploads/2024/11/Birthday-Happys-by-Guy-Jones-square.jpg
ORGANIZER;CN="Karen Schmitz":MAILTO:kschmitzart@gmail.com
END:VEVENT
BEGIN:VEVENT
DTSTART;VALUE=DATE:20250301
DTEND;VALUE=DATE:20250302
DTSTAMP:20260423T182709
CREATED:20241025T142437Z
LAST-MODIFIED:20250313T230704Z
UID:10001542-1740787200-1740873599@delrayartisans.org
SUMMARY:Alcove Gift Shop at Del Ray Artisans (1/3 - 3/1/2025)
DESCRIPTION:Photo Album \nThe Alcove Gift Shop is open for 10 months of the year (closed in July and December for special events). New items will appear in the gift shop each week\, and all the artwork is fully refreshed every two months. The current display runs January 3 – March 1\, 2025. \nAll work featured in the gift shop is by Del Ray Artisans members. Unframed 2-D work is available in bins alongside jewelry\, fiber art\, wood craft\, ceramics\, and other smaller 3-D items. The gift shop is located in the alcove inside Del Ray Artisans gallery in the Colasanto Center\, 2704 Mount Vernon Avenue\, Alexandria\, Virginia 22301. \nThe gallery is free\, open to the public\, and accessible. Gallery hours are Thursdays 12-6pm\, Fridays 12-9pm\, Saturdays 12-6pm\, and Sundays 12-6pm (closed on February 2 and March 2). \nFor more information\, contact the curators Stephen Lally (slallypottery@gmail.com) and Rita Schooley (rlschooley@gmail.com).
URL:https://delrayartisans.org/event/alcove-jan-feb-2025/
LOCATION:Del Ray Artisans Gallery\, 2704 Mount Vernon Avenue\, Alexandria\, VA\, 22301\, United States
CATEGORIES:Art Exhibit,Del Ray Artisans Gallery
ATTACH;FMTTYPE=image/jpeg:https://delrayartisans.org/wp-content/uploads/2023/03/alcove-march-2023.jpg
ORGANIZER;CN="Stephen Lally":MAILTO:slallypottery@gmail.com
END:VEVENT
BEGIN:VEVENT
DTSTART;VALUE=DATE:20250307
DTEND;VALUE=DATE:20250330
DTSTAMP:20260423T182709
CREATED:20241030T213025Z
LAST-MODIFIED:20250204T161953Z
UID:10001695-1741305600-1743292799@delrayartisans.org
SUMMARY:Fairy Tales Around the World at Del Ray Artisans Gallery
DESCRIPTION:Fairy Tales Around the World Art Exhibit\nMarch 7–29\, 2025\nOpening Reception: Friday\, March 7 from 7–9pm\n“Tiny Travels” by Courtney Pippin-Mathur\nRemember your favorite stories as a child? The faraway lands\, perilous journeys with magical characters and fantastic creatures? The Fairy Tales Around the World art exhibit celebrates the stories and fables that shaped us\, from local legends to distant tales\, from mythical beasts to heroes\, villains and everyone in between. \nJoin us for the opening reception on Friday\, March 7 between 7-9pm to meet curator Courtney Pippin-Mathur and the artists. Mark your calendar now or set a reminder through Eventbrite. \nRegister now for creative workshops held in conjunction with this exhibit: \n\nDraw your Fairy Home in the Forest (for children ages 6-12 years old) on Saturday\, March 8\, 10am-12pm\nCreate a unique 3-D Paper Maché Fairy Tale Character (for teens 16+ years old and adults) on Fridays\, March 14 and March 21\, 6pm-9pm\nCraft a fairy tale inspired Paper Maché Wall Hanging (for children ages 9-15 years old) on Saturdays\, March 22 & March 29\, 10am-1pm\n\nThe Fairy Tales Around the World art exhibit runs from March 7–29\, 2025 at Del Ray Artisans gallery in the Colasanto Center\, 2704 Mount Vernon Avenue\, Alexandria\, Virginia 22301. Gallery hours are Thursday 12-6pm\, Friday 12-9pm\, Saturday 12-6pm\, and Sunday 12-6pm (closed March 30). \nThe gallery is free\, open to the public\, and accessible. Del Ray Artisans\, a 501(3)(c) nonprofit organization whose mission is to promote art for the benefit of artists and the community. \nFor more information\, contact curator Courtney Pippin-Mathur at courtney@pippinmathur.com or Director of Curating Amy Kitchin Hower at curating@delrayartisans.org.
URL:https://delrayartisans.org/event/fairy-tales/
LOCATION:Del Ray Artisans Gallery\, 2704 Mount Vernon Avenue\, Alexandria\, VA\, 22301\, United States
CATEGORIES:Art Exhibit,Del Ray Artisans Gallery
ATTACH;FMTTYPE=image/jpeg:https://delrayartisans.org/wp-content/uploads/2024/12/Tiny-Travels-by-Courtney-Pippin-Mathur-square.jpg
ORGANIZER;CN="Courtney Pippin-Mathur":MAILTO:courtney@pippinmathur.com
END:VEVENT
END:VCALENDAR