BEGIN:VCALENDAR
VERSION:2.0
PRODID:-//Del Ray Artisans - ECPv6.15.20//NONSGML v1.0//EN
CALSCALE:GREGORIAN
METHOD:PUBLISH
X-ORIGINAL-URL:https://delrayartisans.org
X-WR-CALDESC:Events for Del Ray Artisans
REFRESH-INTERVAL;VALUE=DURATION:PT1H
X-Robots-Tag:noindex
X-PUBLISHED-TTL:PT1H
BEGIN:VTIMEZONE
TZID:America/New_York
BEGIN:DAYLIGHT
TZOFFSETFROM:-0500
TZOFFSETTO:-0400
TZNAME:EDT
DTSTART:20230312T070000
END:DAYLIGHT
BEGIN:STANDARD
TZOFFSETFROM:-0400
TZOFFSETTO:-0500
TZNAME:EST
DTSTART:20231105T060000
END:STANDARD
BEGIN:DAYLIGHT
TZOFFSETFROM:-0500
TZOFFSETTO:-0400
TZNAME:EDT
DTSTART:20240310T070000
END:DAYLIGHT
BEGIN:STANDARD
TZOFFSETFROM:-0400
TZOFFSETTO:-0500
TZNAME:EST
DTSTART:20241103T060000
END:STANDARD
BEGIN:DAYLIGHT
TZOFFSETFROM:-0500
TZOFFSETTO:-0400
TZNAME:EDT
DTSTART:20250309T070000
END:DAYLIGHT
BEGIN:STANDARD
TZOFFSETFROM:-0400
TZOFFSETTO:-0500
TZNAME:EST
DTSTART:20251102T060000
END:STANDARD
END:VTIMEZONE
BEGIN:VEVENT
DTSTART;VALUE=DATE:20240503
DTEND;VALUE=DATE:20240603
DTSTAMP:20260424T151732
CREATED:20230923T190500Z
LAST-MODIFIED:20240528T153122Z
UID:10001134-1714694400-1717372799@delrayartisans.org
SUMMARY:The Art of Tea at Del Ray Artisans Gallery
DESCRIPTION:The Art of Tea Art Exhibit\nMay 3 – June 2\, 2024\nOpening Reception: Friday\, May 3 from 7–9pm\n“Floral Infusion” by Suzan Ok Shumate and Sue Shumate\nPhoto Album \nStep into a world where art intersects with tea. Through The Art of Tea exhibit at Del Ray Artisans gallery\, artists explore the culture of tea\, a drink that dates back thousands of years to China’s Shang Dynasty. Channeling their inner Zhou Fang\, Matisse\, Cassatt\, and van Rijsselberghe\, artists depict themes and stories surrounding this aromatic beverage. From tea cups and tea pots to the Mad Hatter or Boston Tea Party\, this exhibit intrigues and delights\, like an herbal infusion on a sunny morning. \nJoin us for the opening reception on Friday\, May 3 between 7-9pm to meet curators Suzan Ok Shumate and Sue Shumate and the artists. Mark your calendar now or set a reminder through Eventbrite. \nGet your tickets now for Morning Tea on Saturday\, May 25 from 10am-noon ($35 per Del Ray Artisans member\, $45 per non-member). Wear your favorite hats and gloves\, or dress casually; this is a time to relax and enjoy a few hours of conversation with friends or family over a delicious cup of tea with petite savories and sweets. \nThe Art of Tea exhibit runs May 3 – June 2\, 2024 at Del Ray Artisans gallery in the Colasanto Center\, 2704 Mount Vernon Avenue\, Alexandria\, Virginia 22301. Gallery hours are First Thursday (Apr-Sept) 12-9pm\, Thursday 12-6pm\, Friday 12-9pm\, Saturday 12-6pm\, and Sunday 12-6pm. On the last day of the exhibit (Sunday\, June 2) the gallery is open 12-4pm. \nThe gallery is free\, open to the public\, and accessible. Del Ray Artisans\, a 501(3)(c) nonprofit organization whose mission is to promote art for the benefit of artists and the community. \nFor more information\, contact curators Suzan Ok Shumate at suzan.ok@gmail.com and Sue Shumate at susan.shumate1@gmail.com or Director of Curating Amy Kitchin Hower at curating@delrayartisans.org.
URL:https://delrayartisans.org/event/the-art-of-tea/
LOCATION:Del Ray Artisans Gallery\, 2704 Mount Vernon Avenue\, Alexandria\, VA\, 22301\, United States
CATEGORIES:Art Exhibit,Del Ray Artisans Gallery
ATTACH;FMTTYPE=image/jpeg:https://delrayartisans.org/wp-content/uploads/2023/09/Floral-Infusion-by-Suzan-Ok-Shumate-and-Sue-Shumate-square.jpg
ORGANIZER;CN="Suzan Ok Shumate":MAILTO:suzan.ok@gmail.com
END:VEVENT
BEGIN:VEVENT
DTSTART;VALUE=DATE:20240607
DTEND;VALUE=DATE:20240701
DTSTAMP:20260424T151732
CREATED:20230923T190810Z
LAST-MODIFIED:20240514T140105Z
UID:10001135-1717718400-1719791999@delrayartisans.org
SUMMARY:All About Love at Del Ray Artisans Gallery
DESCRIPTION:All About Love Art Exhibit\nJune 7–30\, 2024\nOpening Reception: Friday\, June 7 from 7–9pm\n“All About Love” by TJ Feeley\nStarting on Friday\, June 7\, come celebrate visual depictions of love at the All About Love exhibit at Del Ray Artisans gallery. In this exhibit\, local artists explore the concept of love in all of its forms: romantic love\, love for one’s parents and siblings\, love of pets\, young love\, enduring couples\, strong friendships\, soulmates\, and more. \nWhile the ancient Greeks identified eight major types of love (erotic\, affectionate\, familial\, playful\, enduring\, obsessive\, unconditional\, and self-compassionate)\, humans have an infinite number of ways to love. Love is one of the most important forces in the world—having been the theme of countless works of literature\, film\, architecture\, and even war (i.e.\, Helen of Troy). As Dr. Martin Luther King\, Jr. noted “…Hate cannot drive out hate\, only love can do that.” Come see how artists portray what love means to them using a variety of media. All the artwork is available for sale. \nJoin us for the opening reception on Friday\, June 7 between 7-9pm to meet curator TJ Feeley and the artists. Mark your calendar now or set a reminder through Eventbrite. \nIn addition\, our Creative Summer Programs begin in June. Join us for: \n\nFirst Thursday family-friendly activity: Origami Art – Thursday\, June 6\, 6:30-8pm (drop-in)\nColor Explosion Workshop – Saturday\, June 8\, 9am-12pm (register by 6/4)\nDel Ray Urban Sketchers – Sunday\, June 9\, 1-3pm at St Elmo’s in Del Ray (drop-in)\nSoft Pastel Workshop – Saturday\, June 15\, 6:30-8:30pm (register by 6/12)\nPlaying with Resin Workshop – Monday\, June 17\, 6-9pm (register by 6/14)\nLife Drawing Sessions – Tuesdays\, June 18 and June 25\, 7-9pm (drop-in)\nPartners in Art Evening – Wednesday\, June 19\, 7-9pm (RSVP by 6/17)\nIntroduction to Stone Carving Workshop – Saturday\, June 22\, 9am-12pm (register by 6/16)\nMake Your Own Glass Mosaic Lamp Workshop – Saturday\, June 22\, 6-9pm (register by 6/21)\nMix and Match Upcycle Earrings Workshop – Sunday\, June 23\, 10am-12pm (register by 6/20)\nNature Journaling Club – Saturday\, June 29\, 10am-12pm (drop-in)\n\nThe All About Love exhibit runs June 7–30\, 2024 at Del Ray Artisans gallery in the Colasanto Center\, 2704 Mount Vernon Avenue\, Alexandria\, Virginia 22301. Gallery hours are First Thursday (Apr-Sept) 12-9pm\, Thursday 12-6pm\, Friday 12-9pm\, Saturday 12-6pm\, and Sunday 12-6pm. Gallery hours will differ in July. \nThe gallery is free\, open to the public\, and accessible. Del Ray Artisans\, a 501(3)(c) nonprofit organization whose mission is to promote art for the benefit of artists and the community. \nFor more information\, contact curator TJ Feeley at tjfeeley@gmail.com or Director of Curating Amy Kitchin Hower at curating@delrayartisans.org.
URL:https://delrayartisans.org/event/all-about-love/
LOCATION:Del Ray Artisans Gallery\, 2704 Mount Vernon Avenue\, Alexandria\, VA\, 22301\, United States
CATEGORIES:Art Exhibit,Del Ray Artisans Gallery
ATTACH;FMTTYPE=image/jpeg:https://delrayartisans.org/wp-content/uploads/2024/04/All-About-Love-by-TJ-Feeley-square.jpg
ORGANIZER;CN="TJ Feeley":MAILTO:tjfeeley@gmail.com
END:VEVENT
BEGIN:VEVENT
DTSTART;VALUE=DATE:20240630
DTEND;VALUE=DATE:20240701
DTSTAMP:20260424T151732
CREATED:20240102T145026Z
LAST-MODIFIED:20240102T150316Z
UID:10001333-1719705600-1719791999@delrayartisans.org
SUMMARY:Alcove Gift Shop at Del Ray Artisans (5/3 - 6/30/2024)
DESCRIPTION:Photo Album \nThe Alcove Gift Shop is open for 10 months of the year (closed in July and December for special events). New items will appear in the gift shop each week\, and all the artwork is fully refreshed every two months. The current display runs May 3 – June 30\, 2024. \nAll work featured in the gift shop is by Del Ray Artisans members. Unframed 2-D work is available in bins alongside jewelry\, fiber art\, wood craft\, ceramics\, and other smaller 3-D items. The gift shop is located in the alcove inside Del Ray Artisans gallery in the Colasanto Center\, 2704 Mount Vernon Avenue\, Alexandria\, Virginia 22301. \nThe gallery is free\, open to the public\, and accessible. Face masks are recommended inside the gallery. \nGallery hours are Thursdays 12-6pm\, Fridays 12-9pm\, Saturdays 12-6pm\, and Sundays 12-6pm (typically closed the last Sunday of the month\, but will be open on May 26 and June 30 and closed on June 2\, 2024). The gallery is open three hours longer (from 12-9pm) on First Thursdays\, May 2 and June 6. Hours differ in July and December. \nFor more information\, contact the curators Stephen Lally (slallypottery@gmail.com) and Rita Schooley (rlschooley@gmail.com).
URL:https://delrayartisans.org/event/alcove-may-jun-2024/
LOCATION:Del Ray Artisans Gallery\, 2704 Mount Vernon Avenue\, Alexandria\, VA\, 22301\, United States
CATEGORIES:Art Exhibit,Del Ray Artisans Gallery
ATTACH;FMTTYPE=image/jpeg:https://delrayartisans.org/wp-content/uploads/2023/03/alcove-march-2023.jpg
ORGANIZER;CN="Stephen Lally":MAILTO:slallypottery@gmail.com
END:VEVENT
END:VCALENDAR