BEGIN:VCALENDAR
VERSION:2.0
PRODID:-//Del Ray Artisans - ECPv6.15.20//NONSGML v1.0//EN
CALSCALE:GREGORIAN
METHOD:PUBLISH
X-WR-CALNAME:Del Ray Artisans
X-ORIGINAL-URL:https://delrayartisans.org
X-WR-CALDESC:Events for Del Ray Artisans
REFRESH-INTERVAL;VALUE=DURATION:PT1H
X-Robots-Tag:noindex
X-PUBLISHED-TTL:PT1H
BEGIN:VTIMEZONE
TZID:America/New_York
BEGIN:DAYLIGHT
TZOFFSETFROM:-0500
TZOFFSETTO:-0400
TZNAME:EDT
DTSTART:20220313T070000
END:DAYLIGHT
BEGIN:STANDARD
TZOFFSETFROM:-0400
TZOFFSETTO:-0500
TZNAME:EST
DTSTART:20221106T060000
END:STANDARD
BEGIN:DAYLIGHT
TZOFFSETFROM:-0500
TZOFFSETTO:-0400
TZNAME:EDT
DTSTART:20230312T070000
END:DAYLIGHT
BEGIN:STANDARD
TZOFFSETFROM:-0400
TZOFFSETTO:-0500
TZNAME:EST
DTSTART:20231105T060000
END:STANDARD
BEGIN:DAYLIGHT
TZOFFSETFROM:-0500
TZOFFSETTO:-0400
TZNAME:EDT
DTSTART:20240310T070000
END:DAYLIGHT
BEGIN:STANDARD
TZOFFSETFROM:-0400
TZOFFSETTO:-0500
TZNAME:EST
DTSTART:20241103T060000
END:STANDARD
END:VTIMEZONE
BEGIN:VEVENT
DTSTART;VALUE=DATE:20231103
DTEND;VALUE=DATE:20231127
DTSTAMP:20260425T102634
CREATED:20230323T200022Z
LAST-MODIFIED:20231108T224046Z
UID:10000070-1698969600-1701043199@delrayartisans.org
SUMMARY:Housemates at Del Ray Artisans Gallery
DESCRIPTION:Housemates Art Exhibit\nNovember 3–26\, 2023\nOpening Reception: Friday\, November 3 from 7–9pm\nPhoto Album | Reception Video \nHave you ever had a housemate who made you laugh\, drove you crazy\, made you shake your head in wonder or filled your heart with love? Do your housemates have fur\, feathers\, scales\, fins or are they actually people? In the Housemates art exhibit\, the members of Del Ray Artisans share their housemates through many creative forms: painting\, photography\, digital art\, sculpture\, ceramics\, or whatever medium brings to life their pets or human housemates. Lucky us\, we get to share and enjoy them. \nJoin us for the opening reception on Friday\, November 3\, 7-9pm to meet curator Robyn Seaton McGarry and the artists. Mark your calendar now or set a reminder through Eventbrite. At the gallery or online (residents of Virginia\, Maryland\, and DC only) get raffle tickets between October 29–November 19\, 2023 for a chance to win a crocheted blanket by the curator. The raffle benefits Del Ray Artisans nonprofit\, and winner will be drawn on Sunday\, November 19 at 3pm. \nDel Ray Artisans is also hosting Meet and Greet events with two volunteer rescue groups in November: \n\nKing Street Cats (KSC) volunteers will be in the gallery on Saturday\, November 4\, 12–4pm.\nAussie Rescue of the Mid-Atlantic (ARMA) volunteers will be in the gallery Saturday\, November 18\, 1–4pm.\n\nBoth organizations will provide information about their purpose\, rescue parameters and adoption process. Who knows? You may even have the opportunity to meet your future housemate. \nIn addition\, you may drop off donations for cats and dogs in the designated box in the entryway of Del Ray Artisans gallery during the Housemates exhibit. For cats\, KSC needs washable cat toys\, washcloths\, paper towels\, large trash bags\, and litter (Fresh Step Clay or Feline Pine only\, please). For dogs\, ARMA needs dog toys\, leashes\, collars\, and harnesses. Thank you for your support! \n“Charlie’s Photo Op” by Robyn Seaton McGarry\nThe Housemates exhibit runs November 3–26\, 2023 at Del Ray Artisans gallery in the Colasanto Center\, 2704 Mount Vernon Avenue\, Alexandria\, Virginia 22301. Gallery hours are Thursday 12-6pm\, Friday 12-9pm\, Saturday 12-6pm\, and Sunday 12-6pm. The gallery is closed on Thanksgiving Day (November 23\, 2023). \nFace masks are recommended inside the gallery. The gallery is free\, open to the public\, and accessible. Del Ray Artisans\, a 501(3)(c) nonprofit organization whose mission is to promote art for the benefit of artists and the community. \nFor more information\, contact the curator Robyn Seaton McGarry at robynmcgarry15@gmail.com.
URL:https://delrayartisans.org/event/housemates/
LOCATION:Del Ray Artisans Gallery\, 2704 Mount Vernon Avenue\, Alexandria\, VA\, 22301\, United States
CATEGORIES:Art Exhibit,Del Ray Artisans Gallery
ATTACH;FMTTYPE=image/jpeg:https://delrayartisans.org/wp-content/uploads/2023/03/charlies-photo-opt-by-robyn-mcgarry-square.jpg
ORGANIZER;CN="Robyn Seaton McGarry":MAILTO:robynmcgarry15@gmail.com
END:VEVENT
BEGIN:VEVENT
DTSTART;VALUE=DATE:20231126
DTEND;VALUE=DATE:20231127
DTSTAMP:20260425T102634
CREATED:20230416T185044Z
LAST-MODIFIED:20230416T185044Z
UID:10001049-1700956800-1701043199@delrayartisans.org
SUMMARY:Alcove Gift Shop at Del Ray Artisans (10/6 - 11/26/2023)
DESCRIPTION:Photo Album \nThe Alcove Gift Shop is open for 10 months of the year (closed in July and December for special events). New items will appear in the gift shop each week\, and all the artwork is fully refreshed every two months. The current display runs October 6 – November 26\, 2023. \nAll work featured in the gift shop is by Del Ray Artisans members. Unframed 2-D work is available in bins alongside jewelry\, fiber art\, wood craft\, ceramics\, and other smaller 3-D items. The gift shop is located in the alcove inside Del Ray Artisans gallery in the Colasanto Center\, 2704 Mount Vernon Avenue\, Alexandria\, Virginia 22301. \nThe gallery is free\, open to the public\, and accessible. Face masks are recommended inside the gallery. \nGallery hours are Thursdays 12-6pm\, Fridays 12-9pm\, Saturdays 12-6pm\, and Sundays 12-6pm (typically closed the last Sunday of the month\, but the gallery will be open on November 26\, 2023). The gallery has different hours in July and December. \nFor more information\, contact the curators Stephen Lally (slallypottery@gmail.com) and Rita Schooley (rlschooley@gmail.com).
URL:https://delrayartisans.org/event/alcove-oct-nov-2023/
LOCATION:Del Ray Artisans Gallery\, 2704 Mount Vernon Avenue\, Alexandria\, VA\, 22301\, United States
CATEGORIES:Art Exhibit,Del Ray Artisans Gallery
ATTACH;FMTTYPE=image/jpeg:https://delrayartisans.org/wp-content/uploads/2023/03/alcove-march-2023.jpg
ORGANIZER;CN="Stephen Lally":MAILTO:slallypottery@gmail.com
END:VEVENT
BEGIN:VEVENT
DTSTART;VALUE=DATE:20231126
DTEND;VALUE=DATE:20231127
DTSTAMP:20260425T102634
CREATED:20231016T205420Z
LAST-MODIFIED:20231016T220857Z
UID:10001143-1700956800-1701043199@delrayartisans.org
SUMMARY:Marlin Lord Mini Exhibit at Del Ray Artisans (10/6 - 11/26/2023)
DESCRIPTION:October 6–November 26\, 2023\nCome see a mini exhibit of eight artworks by Marlin Lord for sale to benefit Del Ray Artisans nonprofit arts organization in the office area and entryway inside Del Ray Artisans gallery in the Colasanto Center\, 2704 Mount Vernon Avenue\, Alexandria\, Virginia 22301 from October 6 through November 26\, 2023. \nDel Ray Artisans Board Emeritus and Founding Member Marlin G. Lord passed away on October 18\, 2022 at 84 years old. A gifted\, accomplished architect and photographer\, Marlin left his mark upon the city in ways seen and unseen. \n“Whrrr When It Stood Still…” by Marlin Lord\nAs an architect\, he’s best known for the straightening of the Monroe Avenue Bridge along Route 1\, a project resulting in the corollary expansion of parkland at Simpson Field. Marlin also was integral in the redevelopment design of Potomac Yard. As a former President of the Del Ray Citizens Association\, as well as past Treasurer\, Community/Business Liaison\, and Facilities Director of Del Ray Artisans\, where he was a founding member along with his loving and longtime dedicated partner Kathryn A. Brown\, Marlin left an indelible mark on our community. Marlin and Kathryn were inducted as Alexandria Living Legends in 2013. \nMarlin’s curricula vitae of civic engagement reads on and on: the Alexandria Arts Forum; the Alexandria Park and Recreation Commission\, where he served for 20 years\, seven as Chairman; the Chinquapin Organic Gardens; King Street Gardens Park Foundation and countless City committees and task forces. With Kathryn by his side\, a tandem partner in all things\, there was always time to give\, to give back\, and give all. Marlin was truly a man for all seasons and is an Alexandria legend for all time. \nCome see this collection of select pieces by Marlin before November 26\,2023. Gallery hours are Thursdays 12-6pm\, Fridays 12-9pm\, Saturdays 12-6pm\, and Sundays 12-6pm (closed on October 29 and Thanksgiving Day: November 23). The gallery is free\, open to the public\, and accessible. Face masks are recommended inside the gallery. \nFor more information\, contact curator Kurt Peterson (Facilities@DelRayArtisans.org).
URL:https://delrayartisans.org/event/marlin-lord/
LOCATION:Del Ray Artisans Gallery\, 2704 Mount Vernon Avenue\, Alexandria\, VA\, 22301\, United States
CATEGORIES:Art Exhibit,Del Ray Artisans Gallery
ATTACH;FMTTYPE=image/jpeg:https://delrayartisans.org/wp-content/uploads/2023/10/marlin-lord-mini-exhibit.jpg
ORGANIZER;CN="Facilities Director":MAILTO:Facilities@DelRayArtisans.org
END:VEVENT
END:VCALENDAR