BEGIN:VCALENDAR
VERSION:2.0
PRODID:-//Del Ray Artisans - ECPv6.15.20//NONSGML v1.0//EN
CALSCALE:GREGORIAN
METHOD:PUBLISH
X-WR-CALNAME:Del Ray Artisans
X-ORIGINAL-URL:https://delrayartisans.org
X-WR-CALDESC:Events for Del Ray Artisans
REFRESH-INTERVAL;VALUE=DURATION:PT1H
X-Robots-Tag:noindex
X-PUBLISHED-TTL:PT1H
BEGIN:VTIMEZONE
TZID:America/New_York
BEGIN:DAYLIGHT
TZOFFSETFROM:-0500
TZOFFSETTO:-0400
TZNAME:EDT
DTSTART:20220313T070000
END:DAYLIGHT
BEGIN:STANDARD
TZOFFSETFROM:-0400
TZOFFSETTO:-0500
TZNAME:EST
DTSTART:20221106T060000
END:STANDARD
BEGIN:DAYLIGHT
TZOFFSETFROM:-0500
TZOFFSETTO:-0400
TZNAME:EDT
DTSTART:20230312T070000
END:DAYLIGHT
BEGIN:STANDARD
TZOFFSETFROM:-0400
TZOFFSETTO:-0500
TZNAME:EST
DTSTART:20231105T060000
END:STANDARD
BEGIN:DAYLIGHT
TZOFFSETFROM:-0500
TZOFFSETTO:-0400
TZNAME:EDT
DTSTART:20240310T070000
END:DAYLIGHT
BEGIN:STANDARD
TZOFFSETFROM:-0400
TZOFFSETTO:-0500
TZNAME:EST
DTSTART:20241103T060000
END:STANDARD
END:VTIMEZONE
BEGIN:VEVENT
DTSTART;VALUE=DATE:20230602
DTEND;VALUE=DATE:20230626
DTSTAMP:20260425T195035
CREATED:20230323T200018Z
LAST-MODIFIED:20230504T153847Z
UID:10000066-1685664000-1687737599@delrayartisans.org
SUMMARY:American Patchwork at Del Ray Artisans Gallery
DESCRIPTION:American Patchwork Art Exhibit\nJune 2–25\, 2023\nOpening Reception: Friday\, June 2 from 7–9pm\nThe United States is a patchwork of 50 states\, 1 federal district\, 5 major territories\, and various minor islands. This country has beautiful beaches and majestic mountains\, bustling cities and quiet towns\, pastoral ranches and farms\, vast natural beauty and amazing technology\, and so much more. The American Patchwork art exhibit at Del Ray Artisans gallery highlights the diversity of cultures\, landscapes\, and artistic styles that make up the American experience. \nJoin us for the opening reception on Friday\, June 2 between 7-9pm to meet curator TJ Feeley and the artists. Mark your calendar now or set a reminder through Eventbrite. Developed by local artists\, the exhibit includes a mix of artforms (including textiles\, mosaics\, and photographs) and broadly explores and captures the patchwork spirit of the United States and her people. Each artist revealed in their own way what it means to be an American in the 21st century\, contributing to the patchwork experience of over 330 million people who make up America today. \nPlus register now for our Creative Summer Programs. This series runs June 1–August 31 and includes creative workshops\, classes\, discussions\, and more. Choose what fits you best and schedule your own “stay-cation” this summer with artful and interesting programs! View details at DelRayArtisans.org/creative-summer \nThe American Patchwork art exhibit runs June 2–25\, 2023 at Del Ray Artisans gallery in the Colasanto Center\, 2704 Mount Vernon Avenue\, Alexandria\, Virginia 22301. Face masks are recommended inside the gallery. The gallery is free\, open to the public\, and accessible. \nGallery hours are Thursday 12-6pm\, Friday 12-9pm\, Saturday 12-6pm\, and Sunday 12-6pm. For a sneak peek of the exhibit\, visit the gallery on First Thursday\, June 1 from 12-9pm. The gallery will be open on Sunday\, June 25 (the last day of the exhibit)\, but hours will differ June 28–August 2\, 2023. Del Ray Artisans\, a 501(3)(c) nonprofit organization whose mission is to promote art for the benefit of artists and the community. \nFor more information\, contact the curator TJ Feeley at tjfeeley@gmail.com. \n\nArtwork credit: “American Patchwork #1” by TJ Feeley
URL:https://delrayartisans.org/event/american-patchwork/
LOCATION:Del Ray Artisans Gallery\, 2704 Mount Vernon Avenue\, Alexandria\, VA\, 22301\, United States
CATEGORIES:Art Exhibit,Del Ray Artisans Gallery
ATTACH;FMTTYPE=image/jpeg:https://delrayartisans.org/wp-content/uploads/2023/04/American-Patchwork-1-by-TJ-Feeley.jpg
ORGANIZER;CN="TJ Feeley":MAILTO:tjfeeley@gmail.com
END:VEVENT
BEGIN:VEVENT
DTSTART;VALUE=DATE:20230625
DTEND;VALUE=DATE:20230626
DTSTAMP:20260425T195035
CREATED:20230416T184545Z
LAST-MODIFIED:20230416T184545Z
UID:10001047-1687651200-1687737599@delrayartisans.org
SUMMARY:Alcove Gift Shop at Del Ray Artisans (5/5 - 6/25/2023)
DESCRIPTION:Photo Album \nThe Alcove Gift Shop is open for 10 months of the year (closed in July and December for special events). New items will appear in the gift shop each week\, and all the artwork is fully refreshed every two months. The current display runs May 5 – June 25\, 2023. \nAll work featured in the gift shop is by Del Ray Artisans members. Unframed 2-D work is available in bins alongside jewelry\, fiber art\, wood craft\, ceramics\, and other smaller 3-D items. The gift shop is located in the alcove inside Del Ray Artisans gallery in the Colasanto Center\, 2704 Mount Vernon Avenue\, Alexandria\, Virginia 22301. \nThe gallery is free\, open to the public\, and accessible. Face masks are recommended inside the gallery. \nGallery hours are Thursdays 12-6pm\, Fridays 12-9pm\, Saturdays 12-6pm\, and Sundays 12-6pm (typically closed the last Sunday of the month\, but the gallery will be open on June 25\, 2023). The gallery has different hours in July and December. \nFor more information\, contact the curators Stephen Lally (slallypottery@gmail.com) and Rita Schooley (rlschooley@gmail.com).
URL:https://delrayartisans.org/event/alcove-may-june-2023/
LOCATION:Del Ray Artisans Gallery\, 2704 Mount Vernon Avenue\, Alexandria\, VA\, 22301\, United States
CATEGORIES:Art Exhibit,Del Ray Artisans Gallery
ATTACH;FMTTYPE=image/jpeg:https://delrayartisans.org/wp-content/uploads/2023/03/alcove-march-2023.jpg
ORGANIZER;CN="Stephen Lally":MAILTO:slallypottery@gmail.com
END:VEVENT
END:VCALENDAR