BEGIN:VCALENDAR
VERSION:2.0
PRODID:-//Del Ray Artisans - ECPv6.15.20//NONSGML v1.0//EN
CALSCALE:GREGORIAN
METHOD:PUBLISH
X-ORIGINAL-URL:https://delrayartisans.org
X-WR-CALDESC:Events for Del Ray Artisans
REFRESH-INTERVAL;VALUE=DURATION:PT1H
X-Robots-Tag:noindex
X-PUBLISHED-TTL:PT1H
BEGIN:VTIMEZONE
TZID:America/New_York
BEGIN:DAYLIGHT
TZOFFSETFROM:-0500
TZOFFSETTO:-0400
TZNAME:EDT
DTSTART:20250309T070000
END:DAYLIGHT
BEGIN:STANDARD
TZOFFSETFROM:-0400
TZOFFSETTO:-0500
TZNAME:EST
DTSTART:20251102T060000
END:STANDARD
BEGIN:DAYLIGHT
TZOFFSETFROM:-0500
TZOFFSETTO:-0400
TZNAME:EDT
DTSTART:20260308T070000
END:DAYLIGHT
BEGIN:STANDARD
TZOFFSETFROM:-0400
TZOFFSETTO:-0500
TZNAME:EST
DTSTART:20261101T060000
END:STANDARD
BEGIN:DAYLIGHT
TZOFFSETFROM:-0500
TZOFFSETTO:-0400
TZNAME:EDT
DTSTART:20270314T070000
END:DAYLIGHT
BEGIN:STANDARD
TZOFFSETFROM:-0400
TZOFFSETTO:-0500
TZNAME:EST
DTSTART:20271107T060000
END:STANDARD
END:VTIMEZONE
BEGIN:VEVENT
DTSTART;TZID=America/New_York:20260710T235900
DTEND;TZID=America/New_York:20260710T235900
DTSTAMP:20260423T015913
CREATED:20260123T230746Z
LAST-MODIFIED:20260123T231208Z
UID:10002173-1783727940-1783727940@delrayartisans.org
SUMMARY:"ChronoScape: Artistic Explorations of Time Travel" Call for Entry Deadline
DESCRIPTION:Call for Entry ~ Open to area artists\nChronoScape: Artistic Explorations of Time Travel\nExhibit Dates: August 7–29\, 2026\nDigital entry deadline: Friday\, July 10\, 2026 by midnight\nExplore the human fascination with time travel—real or imagined—through works that traverse ancient civilizations\, speculative futures\, science fiction\, memory\, mythology\, and the unknown. \nThe exhibit is open to all area artists. Del Ray Artisans members pay a discounted entry fee. \nEntry form coming soon.
URL:https://delrayartisans.org/event/chronoscape-cfe-deadline/
LOCATION:Online
CATEGORIES:Entry Deadline
ORGANIZER;CN="Suzan Ok Shumate":MAILTO:suzan.ok@gmail.com
END:VEVENT
END:VCALENDAR