BEGIN:VCALENDAR
VERSION:2.0
PRODID:-//Del Ray Artisans - ECPv6.15.20//NONSGML v1.0//EN
CALSCALE:GREGORIAN
METHOD:PUBLISH
X-ORIGINAL-URL:https://delrayartisans.org
X-WR-CALDESC:Events for Del Ray Artisans
REFRESH-INTERVAL;VALUE=DURATION:PT1H
X-Robots-Tag:noindex
X-PUBLISHED-TTL:PT1H
BEGIN:VTIMEZONE
TZID:America/New_York
BEGIN:DAYLIGHT
TZOFFSETFROM:-0500
TZOFFSETTO:-0400
TZNAME:EDT
DTSTART:20250309T070000
END:DAYLIGHT
BEGIN:STANDARD
TZOFFSETFROM:-0400
TZOFFSETTO:-0500
TZNAME:EST
DTSTART:20251102T060000
END:STANDARD
BEGIN:DAYLIGHT
TZOFFSETFROM:-0500
TZOFFSETTO:-0400
TZNAME:EDT
DTSTART:20260308T070000
END:DAYLIGHT
BEGIN:STANDARD
TZOFFSETFROM:-0400
TZOFFSETTO:-0500
TZNAME:EST
DTSTART:20261101T060000
END:STANDARD
BEGIN:DAYLIGHT
TZOFFSETFROM:-0500
TZOFFSETTO:-0400
TZNAME:EDT
DTSTART:20270314T070000
END:DAYLIGHT
BEGIN:STANDARD
TZOFFSETFROM:-0400
TZOFFSETTO:-0500
TZNAME:EST
DTSTART:20271107T060000
END:STANDARD
END:VTIMEZONE
BEGIN:VEVENT
DTSTART;TZID=America/New_York:20260514T235900
DTEND;TZID=America/New_York:20260514T235900
DTSTAMP:20260422T230804
CREATED:20260410T025740Z
LAST-MODIFIED:20260410T025824Z
UID:10002229-1778803140-1778803140@delrayartisans.org
SUMMARY:“Paws and Kinship” GWW Call for Entry Deadline
DESCRIPTION:Del Ray Artisans Members Only\nGallery Without Walls Call for Entry\nPaws and Kinship at VCA Old Town Animal Hospital\nJune 8\, 2026 – May 29\, 2027\nEntry deadline: Thursday\, May 14\, 2026 by midnight\n“Opal” by Rod Whyte\nSeeking 2D artwork that explores the emotional bond between ourselves and animals. Come celebrate the creatures you share your life with! \nNOTE: The Paws and Kinship art exhibit is at VCA Old Town (not VCA Alexandria). Due to new guidelines for a fear-free space\, we cannot accept artwork that has realistic depictions of dogs\, cats\, and/or birds. Stylized or abstract pieces with these subjects are allowed. \nMust be a Del Ray Artisans member to enter (join Del Ray Artisans now); 2-dimensional works only. No entry fee; pieces previously shown are welcome. \nEntry Details & Form
URL:https://delrayartisans.org/event/paws-and-kinship-cfe-deadline/
LOCATION:Online
CATEGORIES:Entry Deadline
ORGANIZER;CN="Liz Martinez%2C Gallery Without Walls Curator":MAILTO:GWW@DelRayArtisans.org
END:VEVENT
END:VCALENDAR