BEGIN:VCALENDAR
VERSION:2.0
PRODID:-//Del Ray Artisans - ECPv6.15.20//NONSGML v1.0//EN
CALSCALE:GREGORIAN
METHOD:PUBLISH
X-ORIGINAL-URL:https://delrayartisans.org
X-WR-CALDESC:Events for Del Ray Artisans
REFRESH-INTERVAL;VALUE=DURATION:PT1H
X-Robots-Tag:noindex
X-PUBLISHED-TTL:PT1H
BEGIN:VTIMEZONE
TZID:America/New_York
BEGIN:DAYLIGHT
TZOFFSETFROM:-0500
TZOFFSETTO:-0400
TZNAME:EDT
DTSTART:20250309T070000
END:DAYLIGHT
BEGIN:STANDARD
TZOFFSETFROM:-0400
TZOFFSETTO:-0500
TZNAME:EST
DTSTART:20251102T060000
END:STANDARD
BEGIN:DAYLIGHT
TZOFFSETFROM:-0500
TZOFFSETTO:-0400
TZNAME:EDT
DTSTART:20260308T070000
END:DAYLIGHT
BEGIN:STANDARD
TZOFFSETFROM:-0400
TZOFFSETTO:-0500
TZNAME:EST
DTSTART:20261101T060000
END:STANDARD
BEGIN:DAYLIGHT
TZOFFSETFROM:-0500
TZOFFSETTO:-0400
TZNAME:EDT
DTSTART:20270314T070000
END:DAYLIGHT
BEGIN:STANDARD
TZOFFSETFROM:-0400
TZOFFSETTO:-0500
TZNAME:EST
DTSTART:20271107T060000
END:STANDARD
END:VTIMEZONE
BEGIN:VEVENT
DTSTART;TZID=America/New_York:20260405T235900
DTEND;TZID=America/New_York:20260405T235900
DTSTAMP:20260423T003805
CREATED:20260226T170036Z
LAST-MODIFIED:20260226T170036Z
UID:10002208-1775433540-1775433540@delrayartisans.org
SUMMARY:Spring Art Market Application Deadline
DESCRIPTION:Call for Artists\nDel Ray Artisans’ Spring Art Market\n \nApplication deadline: Sunday\, April 5\, 2026 by midnight\nJoin Del Ray Artisans in its tradition of outdoor art markets and sell your original handmade artwork to the local community. This is an outdoor\, family-friendly\, rain-or-shine event in the Mount Vernon Recreation Center fields\, adjoining Del Ray Artisans gallery\, on Saturday\, May 9\, 2026 from 9am to 3pm. \nDetails and Application
URL:https://delrayartisans.org/event/spring-art-market-2026-deadline/
LOCATION:Online
CATEGORIES:Entry Deadline
ORGANIZER;CN="Diana Manchak":MAILTO:silicagal@hotmail.com
END:VEVENT
END:VCALENDAR