BEGIN:VCALENDAR
VERSION:2.0
PRODID:-//Del Ray Artisans - ECPv6.15.20//NONSGML v1.0//EN
CALSCALE:GREGORIAN
METHOD:PUBLISH
X-ORIGINAL-URL:https://delrayartisans.org
X-WR-CALDESC:Events for Del Ray Artisans
REFRESH-INTERVAL;VALUE=DURATION:PT1H
X-Robots-Tag:noindex
X-PUBLISHED-TTL:PT1H
BEGIN:VTIMEZONE
TZID:America/New_York
BEGIN:DAYLIGHT
TZOFFSETFROM:-0500
TZOFFSETTO:-0400
TZNAME:EDT
DTSTART:20250309T070000
END:DAYLIGHT
BEGIN:STANDARD
TZOFFSETFROM:-0400
TZOFFSETTO:-0500
TZNAME:EST
DTSTART:20251102T060000
END:STANDARD
BEGIN:DAYLIGHT
TZOFFSETFROM:-0500
TZOFFSETTO:-0400
TZNAME:EDT
DTSTART:20260308T070000
END:DAYLIGHT
BEGIN:STANDARD
TZOFFSETFROM:-0400
TZOFFSETTO:-0500
TZNAME:EST
DTSTART:20261101T060000
END:STANDARD
BEGIN:DAYLIGHT
TZOFFSETFROM:-0500
TZOFFSETTO:-0400
TZNAME:EDT
DTSTART:20270314T070000
END:DAYLIGHT
BEGIN:STANDARD
TZOFFSETFROM:-0400
TZOFFSETTO:-0500
TZNAME:EST
DTSTART:20271107T060000
END:STANDARD
END:VTIMEZONE
BEGIN:VEVENT
DTSTART;TZID=America/New_York:20260317T235900
DTEND;TZID=America/New_York:20260317T235900
DTSTAMP:20260422T230806
CREATED:20251117T173521Z
LAST-MODIFIED:20260307T144950Z
UID:10002123-1773791940-1773791940@delrayartisans.org
SUMMARY:"Fast and Fabulous" Call for Entry Deadline
DESCRIPTION:Call for Entry ~ Open to area artists\nFast and Fabulous\nExhibit Dates: April 3–25\, 2026\nDigital entry deadline: Tuesday\, March 17\, 2026 by midnight\n“Fast and Fabulous” by Scott MacConomy\nFrom the first blueprints for the Model T to Warhol and Dali to the Ferrari 250\, legally a work of art in Italy\, cars have inspired and embodied art. Enter your car-inspired work—your “car-twork”\, as it will be known. Be it Ford\, Ferrari\, or futuristic wheels\, your interpretations of motorcycles\, trucks\, and other fast/fabulous forms of surface transportation are also welcome.  \nThe exhibit is open to all area artists. Del Ray Artisans members pay a discounted entry fee. \nEntry Details & Form
URL:https://delrayartisans.org/event/fast-and-fabulous-cfe-deadline/
LOCATION:Online
CATEGORIES:Entry Deadline
ORGANIZER;CN="Kelly MacConomy":MAILTO:kmacconomy@gmail.com
END:VEVENT
END:VCALENDAR