BEGIN:VCALENDAR
VERSION:2.0
PRODID:-//Del Ray Artisans - ECPv6.15.20//NONSGML v1.0//EN
CALSCALE:GREGORIAN
METHOD:PUBLISH
X-ORIGINAL-URL:https://delrayartisans.org
X-WR-CALDESC:Events for Del Ray Artisans
REFRESH-INTERVAL;VALUE=DURATION:PT1H
X-Robots-Tag:noindex
X-PUBLISHED-TTL:PT1H
BEGIN:VTIMEZONE
TZID:America/New_York
BEGIN:DAYLIGHT
TZOFFSETFROM:-0500
TZOFFSETTO:-0400
TZNAME:EDT
DTSTART:20240310T070000
END:DAYLIGHT
BEGIN:STANDARD
TZOFFSETFROM:-0400
TZOFFSETTO:-0500
TZNAME:EST
DTSTART:20241103T060000
END:STANDARD
BEGIN:DAYLIGHT
TZOFFSETFROM:-0500
TZOFFSETTO:-0400
TZNAME:EDT
DTSTART:20250309T070000
END:DAYLIGHT
BEGIN:STANDARD
TZOFFSETFROM:-0400
TZOFFSETTO:-0500
TZNAME:EST
DTSTART:20251102T060000
END:STANDARD
BEGIN:DAYLIGHT
TZOFFSETFROM:-0500
TZOFFSETTO:-0400
TZNAME:EDT
DTSTART:20260308T070000
END:DAYLIGHT
BEGIN:STANDARD
TZOFFSETFROM:-0400
TZOFFSETTO:-0500
TZNAME:EST
DTSTART:20261101T060000
END:STANDARD
END:VTIMEZONE
BEGIN:VEVENT
DTSTART;TZID=America/New_York:20251017T235900
DTEND;TZID=America/New_York:20251017T235900
DTSTAMP:20260423T152042
CREATED:20250831T171405Z
LAST-MODIFIED:20251007T141508Z
UID:10001927-1760745540-1760745540@delrayartisans.org
SUMMARY:“The Mini World: Small Works of Art” Call for Entry Deadline
DESCRIPTION:Call for Entry ~ Open to Del Ray Artisans Members\nThe Mini World: Small Works of Art\nExhibit Dates: November 7–30\, 2025\nDigital entry deadline extended to Friday\, October 17\, 2025 by midnight\n“Fairy Shelf” by Mallory Rose Henig; “Bessie Wondered Where Her Niece Had Gone“ by Betsy Jones; “Fluff” by Kellie Sansone\nMembers are invited to enter 1-4 small-scale pieces of art. Each piece should be no more than 8×10 inches\, 9×9 inches\, or within 80 square inches\, in any direction including the framing and mounting. The artwork may represent any subject matter and the following media will be accepted for consideration to the exhibit: oils\, acrylics\, watercolors\, pastels\, drawings\, sculptures in any medium\, mosaics\, collage\, printmaking\, photography\, and mixed media. \nThe exhibit is open only to Del Ray Artisans members. If you are not a member\, you may join Del Ray Artisans and then enter. \nEntry Details & Form
URL:https://delrayartisans.org/event/mini-world-cfe-deadline/
LOCATION:Online
CATEGORIES:Entry Deadline
END:VEVENT
END:VCALENDAR