BEGIN:VCALENDAR
VERSION:2.0
PRODID:-//Del Ray Artisans - ECPv6.15.20//NONSGML v1.0//EN
CALSCALE:GREGORIAN
METHOD:PUBLISH
X-WR-CALNAME:Del Ray Artisans
X-ORIGINAL-URL:https://delrayartisans.org
X-WR-CALDESC:Events for Del Ray Artisans
REFRESH-INTERVAL;VALUE=DURATION:PT1H
X-Robots-Tag:noindex
X-PUBLISHED-TTL:PT1H
BEGIN:VTIMEZONE
TZID:America/New_York
BEGIN:DAYLIGHT
TZOFFSETFROM:-0500
TZOFFSETTO:-0400
TZNAME:EDT
DTSTART:20240310T070000
END:DAYLIGHT
BEGIN:STANDARD
TZOFFSETFROM:-0400
TZOFFSETTO:-0500
TZNAME:EST
DTSTART:20241103T060000
END:STANDARD
BEGIN:DAYLIGHT
TZOFFSETFROM:-0500
TZOFFSETTO:-0400
TZNAME:EDT
DTSTART:20250309T070000
END:DAYLIGHT
BEGIN:STANDARD
TZOFFSETFROM:-0400
TZOFFSETTO:-0500
TZNAME:EST
DTSTART:20251102T060000
END:STANDARD
BEGIN:DAYLIGHT
TZOFFSETFROM:-0500
TZOFFSETTO:-0400
TZNAME:EDT
DTSTART:20260308T070000
END:DAYLIGHT
BEGIN:STANDARD
TZOFFSETFROM:-0400
TZOFFSETTO:-0500
TZNAME:EST
DTSTART:20261101T060000
END:STANDARD
END:VTIMEZONE
BEGIN:VEVENT
DTSTART;TZID=America/New_York:20250910T235900
DTEND;TZID=America/New_York:20250910T235900
DTSTAMP:20260423T185646
CREATED:20250209T192626Z
LAST-MODIFIED:20250622T165225Z
UID:10001771-1757548740-1757548740@delrayartisans.org
SUMMARY:“Bump in the Night” Call for Entry Deadline
DESCRIPTION:Call for Entry ~ Open to area artists\nBump in the Night\nExhibit Dates: October 3 – November 1\, 2025\nDigital entry deadline: Wednesday\, September 10\, 2025 by midnight\n“Synergy” by Morgan Parr\nDrawing inspiration from Spike Milligan’s poem “Bump” and the old Cornish Litany about ghoulies and ghosties and long-leggedy beasties\, reveal the source of frightening\, unexplainable noises heard at night and the experiences behind “things that go bump in the night.” \nThe exhibit is open to all area artists. Del Ray Artisans members pay a discounted entry fee. \nEntry Details & Form
URL:https://delrayartisans.org/event/bump-in-the-night-deadline/
LOCATION:Online
CATEGORIES:Entry Deadline
ORGANIZER;CN="Morgan Parr":MAILTO:rmorganparr@gmail.com
END:VEVENT
BEGIN:VEVENT
DTSTART;TZID=America/New_York:20250910T235900
DTEND;TZID=America/New_York:20250910T235900
DTSTAMP:20260423T185646
CREATED:20250815T141212Z
LAST-MODIFIED:20250908T145725Z
UID:10001922-1757548740-1757548740@delrayartisans.org
SUMMARY:Holiday Market 2025 Applications Due
DESCRIPTION:Call for Artists\nDel Ray Artisans Holiday Market\nDecember 5–21\, 2025\nApplication deadline: Wednesday\, September 10\, 2025 by midnight \nApplications for exhibitors in Del Ray Artisans’ 30th annual Holiday Market are now open. Different artists from a variety of media categories will be selected for each weekend. Preference is given to Del Ray Artisans members. \nThe market will be the first three weekends of December (Dec 5-7\, 12-14\, and 19-21) and will be open each Friday 6-9pm\, Saturday 9am-5pm\, and Sunday 11am-5pm. \nAll work sold at the Holiday Market must be handmade by the artist selling the work and originals need to have been made within the last 3 years. Reproductions are acceptable as long as the original was made by the artist within the last 3 years. \nRead the application carefully; if you have any questions\, please ask one of the coordinators. \nApplication Details & Form
URL:https://delrayartisans.org/event/holiday-market-2025-applications-due/
LOCATION:Del Ray Artisans Gallery\, 2704 Mount Vernon Avenue\, Alexandria\, VA\, 22301\, United States
CATEGORIES:Entry Deadline
ORGANIZER;CN="Stephen Lally":MAILTO:slallypottery@gmail.com
END:VEVENT
END:VCALENDAR