BEGIN:VCALENDAR
VERSION:2.0
PRODID:-//Del Ray Artisans - ECPv6.15.20//NONSGML v1.0//EN
CALSCALE:GREGORIAN
METHOD:PUBLISH
X-ORIGINAL-URL:https://delrayartisans.org
X-WR-CALDESC:Events for Del Ray Artisans
REFRESH-INTERVAL;VALUE=DURATION:PT1H
X-Robots-Tag:noindex
X-PUBLISHED-TTL:PT1H
BEGIN:VTIMEZONE
TZID:America/New_York
BEGIN:DAYLIGHT
TZOFFSETFROM:-0500
TZOFFSETTO:-0400
TZNAME:EDT
DTSTART:20240310T070000
END:DAYLIGHT
BEGIN:STANDARD
TZOFFSETFROM:-0400
TZOFFSETTO:-0500
TZNAME:EST
DTSTART:20241103T060000
END:STANDARD
BEGIN:DAYLIGHT
TZOFFSETFROM:-0500
TZOFFSETTO:-0400
TZNAME:EDT
DTSTART:20250309T070000
END:DAYLIGHT
BEGIN:STANDARD
TZOFFSETFROM:-0400
TZOFFSETTO:-0500
TZNAME:EST
DTSTART:20251102T060000
END:STANDARD
BEGIN:DAYLIGHT
TZOFFSETFROM:-0500
TZOFFSETTO:-0400
TZNAME:EDT
DTSTART:20260308T070000
END:DAYLIGHT
BEGIN:STANDARD
TZOFFSETFROM:-0400
TZOFFSETTO:-0500
TZNAME:EST
DTSTART:20261101T060000
END:STANDARD
END:VTIMEZONE
BEGIN:VEVENT
DTSTART;TZID=America/New_York:20250715T235900
DTEND;TZID=America/New_York:20250715T235900
DTSTAMP:20260423T221209
CREATED:20250209T193035Z
LAST-MODIFIED:20250710T161422Z
UID:10001772-1752623940-1752623940@delrayartisans.org
SUMMARY:“Lovely As a Tree” Call for Entry Deadline
DESCRIPTION:Call for Entry ~ Open to Del Ray Artisans Members\nLovely As A Tree\nExhibit Dates: August 1–30\, 2025\nDigital entry deadline extended to Tuesday\, July 15\, 2025 by midnight\n“Backyard Beauty” by Robyn Seaton McGarry\nMembers are invited to explore all the ways in which trees impact our lives and the earth. Humans and animals depend on the shade\, shelter\, food provided\, the beauty of and environmental impact of trees. Bring aspects of this natural phenomenon to life through paintings\, photography\, ceramics\, items created from wood and other mediums that flow from your creative imaginations. Original creations only – no AI generated pieces. \nThe exhibit is open only to Del Ray Artisans members. If you are not a member\, you may join Del Ray Artisans and then enter. \nEntry Details & Form
URL:https://delrayartisans.org/event/lovely-as-a-tree-deadline/
LOCATION:Online
CATEGORIES:Entry Deadline
ORGANIZER;CN="Robyn Seaton McGarry":MAILTO:robynmcgarry15@gmail.com
END:VEVENT
END:VCALENDAR