BEGIN:VCALENDAR
VERSION:2.0
PRODID:-//Del Ray Artisans - ECPv6.15.20//NONSGML v1.0//EN
CALSCALE:GREGORIAN
METHOD:PUBLISH
X-WR-CALNAME:Del Ray Artisans
X-ORIGINAL-URL:https://delrayartisans.org
X-WR-CALDESC:Events for Del Ray Artisans
REFRESH-INTERVAL;VALUE=DURATION:PT1H
X-Robots-Tag:noindex
X-PUBLISHED-TTL:PT1H
BEGIN:VTIMEZONE
TZID:America/New_York
BEGIN:DAYLIGHT
TZOFFSETFROM:-0500
TZOFFSETTO:-0400
TZNAME:EDT
DTSTART:20240310T070000
END:DAYLIGHT
BEGIN:STANDARD
TZOFFSETFROM:-0400
TZOFFSETTO:-0500
TZNAME:EST
DTSTART:20241103T060000
END:STANDARD
BEGIN:DAYLIGHT
TZOFFSETFROM:-0500
TZOFFSETTO:-0400
TZNAME:EDT
DTSTART:20250309T070000
END:DAYLIGHT
BEGIN:STANDARD
TZOFFSETFROM:-0400
TZOFFSETTO:-0500
TZNAME:EST
DTSTART:20251102T060000
END:STANDARD
BEGIN:DAYLIGHT
TZOFFSETFROM:-0500
TZOFFSETTO:-0400
TZNAME:EDT
DTSTART:20260308T070000
END:DAYLIGHT
BEGIN:STANDARD
TZOFFSETFROM:-0400
TZOFFSETTO:-0500
TZNAME:EST
DTSTART:20261101T060000
END:STANDARD
END:VTIMEZONE
BEGIN:VEVENT
DTSTART;TZID=America/New_York:20250119T235900
DTEND;TZID=America/New_York:20250119T235900
DTSTAMP:20260424T191906
CREATED:20241205T025024Z
LAST-MODIFIED:20250113T015013Z
UID:10001726-1737331140-1737331140@delrayartisans.org
SUMMARY:“MeWOW: Fabulous Felines” Call for Entry Deadline
DESCRIPTION:Call for Entry ~ Open to area artists\nMeWOW: Fabulous Felines\nExhibit Dates: February 7 – March 1\, 2025\nDigital entry deadline extended to Sunday\, January 19\, 2025 by midnight\n“Birthday Happys” by Guy Jones\nLet your creative cat “out of the bag” for this “paw-some” exhibit! Marvel at the power and fascination of cat imagery in art. These furry\, mysterious\, independent\, beautiful felines have inundated history\, mythology\, literature\, advertising\, cinema\, pop culture and pet owners for centuries. Artists are encouraged to submit inspirational artworks in any and all mediums. \nThe exhibit is open to all area artists. Del Ray Artisans members pay a discounted entry fee. \nEntry Details & Form
URL:https://delrayartisans.org/event/mewow-deadline/
LOCATION:Online
CATEGORIES:Entry Deadline
ORGANIZER;CN="Karen Schmitz":MAILTO:kschmitzart@gmail.com
END:VEVENT
END:VCALENDAR