BEGIN:VCALENDAR
VERSION:2.0
PRODID:-//Del Ray Artisans - ECPv6.15.20//NONSGML v1.0//EN
CALSCALE:GREGORIAN
METHOD:PUBLISH
X-WR-CALNAME:Del Ray Artisans
X-ORIGINAL-URL:https://delrayartisans.org
X-WR-CALDESC:Events for Del Ray Artisans
REFRESH-INTERVAL;VALUE=DURATION:PT1H
X-Robots-Tag:noindex
X-PUBLISHED-TTL:PT1H
BEGIN:VTIMEZONE
TZID:America/New_York
BEGIN:DAYLIGHT
TZOFFSETFROM:-0500
TZOFFSETTO:-0400
TZNAME:EDT
DTSTART:20230312T070000
END:DAYLIGHT
BEGIN:STANDARD
TZOFFSETFROM:-0400
TZOFFSETTO:-0500
TZNAME:EST
DTSTART:20231105T060000
END:STANDARD
BEGIN:DAYLIGHT
TZOFFSETFROM:-0500
TZOFFSETTO:-0400
TZNAME:EDT
DTSTART:20240310T070000
END:DAYLIGHT
BEGIN:STANDARD
TZOFFSETFROM:-0400
TZOFFSETTO:-0500
TZNAME:EST
DTSTART:20241103T060000
END:STANDARD
BEGIN:DAYLIGHT
TZOFFSETFROM:-0500
TZOFFSETTO:-0400
TZNAME:EDT
DTSTART:20250309T070000
END:DAYLIGHT
BEGIN:STANDARD
TZOFFSETFROM:-0400
TZOFFSETTO:-0500
TZNAME:EST
DTSTART:20251102T060000
END:STANDARD
END:VTIMEZONE
BEGIN:VEVENT
DTSTART;TZID=America/New_York:20240910T235900
DTEND;TZID=America/New_York:20240910T235900
DTSTAMP:20260424T234038
CREATED:20240718T164753Z
LAST-MODIFIED:20240718T164920Z
UID:10001448-1726012740-1726012740@delrayartisans.org
SUMMARY:Holiday Market 2024 Applications Due
DESCRIPTION:Call for Artists\nDel Ray Artisans Holiday Market\nDecember 6–22\, 2024\nApplication deadline: Tuesday\, September 10\, 2024 by midnight\n \nApplications for exhibitors in Del Ray Artisans’ 29th annual Holiday Market are now open. Different artists from a variety of media categories will be selected for each weekend. Preference is given to Del Ray Artisans members. \nThe market will be the first three weekends of December (Dec 6-8\, 13-15\, and 20-22) and will be open each Friday 6-9pm\, Saturday 9am-5pm\, and Sunday 11am-5pm. (Note that the hours have changed from the previous year.) \nAll work sold at the Holiday Market must be handmade by the artist selling the work and originals need to have been made within the last 3 years. Reproductions are acceptable as long as the original was made by the artist within the last 3 years. \nRead the application carefully; if you have any questions\, please ask one of the coordinators. \nApplication Details & Form
URL:https://delrayartisans.org/event/holiday-market-2024-applications-due/
LOCATION:Del Ray Artisans Gallery\, 2704 Mount Vernon Avenue\, Alexandria\, VA\, 22301\, United States
CATEGORIES:Entry Deadline
ORGANIZER;CN="Stephen Lally":MAILTO:slallypottery@gmail.com
END:VEVENT
END:VCALENDAR