BEGIN:VCALENDAR
VERSION:2.0
PRODID:-//Del Ray Artisans - ECPv6.15.20//NONSGML v1.0//EN
CALSCALE:GREGORIAN
METHOD:PUBLISH
X-WR-CALNAME:Del Ray Artisans
X-ORIGINAL-URL:https://delrayartisans.org
X-WR-CALDESC:Events for Del Ray Artisans
REFRESH-INTERVAL;VALUE=DURATION:PT1H
X-Robots-Tag:noindex
X-PUBLISHED-TTL:PT1H
BEGIN:VTIMEZONE
TZID:America/New_York
BEGIN:DAYLIGHT
TZOFFSETFROM:-0500
TZOFFSETTO:-0400
TZNAME:EDT
DTSTART:20230312T070000
END:DAYLIGHT
BEGIN:STANDARD
TZOFFSETFROM:-0400
TZOFFSETTO:-0500
TZNAME:EST
DTSTART:20231105T060000
END:STANDARD
BEGIN:DAYLIGHT
TZOFFSETFROM:-0500
TZOFFSETTO:-0400
TZNAME:EDT
DTSTART:20240310T070000
END:DAYLIGHT
BEGIN:STANDARD
TZOFFSETFROM:-0400
TZOFFSETTO:-0500
TZNAME:EST
DTSTART:20241103T060000
END:STANDARD
BEGIN:DAYLIGHT
TZOFFSETFROM:-0500
TZOFFSETTO:-0400
TZNAME:EDT
DTSTART:20250309T070000
END:DAYLIGHT
BEGIN:STANDARD
TZOFFSETFROM:-0400
TZOFFSETTO:-0500
TZNAME:EST
DTSTART:20251102T060000
END:STANDARD
END:VTIMEZONE
BEGIN:VEVENT
DTSTART;TZID=America/New_York:20240414T235900
DTEND;TZID=America/New_York:20240414T235900
DTSTAMP:20260425T161850
CREATED:20240319T131327Z
LAST-MODIFIED:20240319T131327Z
UID:10001374-1713139140-1713139140@delrayartisans.org
SUMMARY:Alcove Gift Shop Call for Artists Deadline
DESCRIPTION:Call for Artists ~ Open to Del Ray Artisans Members\nAlcove Gift Shop\nMay 3 – June 30\, 2024\nApplication deadline: Sunday\, April 14\, 2024 by midnight\n \nDel Ray Artisans’ Alcove is a gift shop within the gallery\, where members (who apply and are accepted) display and sell their work. Unframed 2-D works are available in bins alongside jewelry\, fiber art\, wood craft\, ceramics\, and other smaller 3-D items. \nThe work will be displayed for two months\, and as pieces are sold they can be replaced with similar work for no additional fee. This opportunity is independent of the monthly exhibits and is only open to Del Ray Artisans members. If you are not a member\, you may join Del Ray Artisans now to enter. \nApplication Details & Form
URL:https://delrayartisans.org/event/alcove-may-jun-2024-cfa-deadline/
LOCATION:Online
CATEGORIES:Entry Deadline
ORGANIZER;CN="Stephen Lally":MAILTO:slallypottery@gmail.com
END:VEVENT
BEGIN:VEVENT
DTSTART;TZID=America/New_York:20240414T235900
DTEND;TZID=America/New_York:20240414T235900
DTSTAMP:20260425T161850
CREATED:20240331T223148Z
LAST-MODIFIED:20240331T223316Z
UID:10001382-1713139140-1713139140@delrayartisans.org
SUMMARY:Party for the Arts GWW Call for Entry Deadline
DESCRIPTION:Del Ray Artisans Members Only\nGallery Without Walls Call for Entry\nParty for the Arts exhibit at Canal Center\nApril 27–June 30\, 2024\nEntry deadline: Sunday\, April 14\, 2024 by midnight\nSeeking 2D artwork exploring What is Alexandria to me? The City of Alexandria is celebrating its 275th birthday in 2024. The Alexandria Arts Alliance commemorates the occasion during their 2024 Party for the Arts—a celebration showcasing all artists in Alexandria on Saturday\, April 27\, 11am-7pm. The exhibit at Canal Center will open during the Party for the Arts. Del Ray Artisans is a member of Alexandria Arts Alliance. \nThe exhibit is open to all artists that live\, work\, or volunteer in Alexandria\, but only Del Ray Artisans members should enter through this form. If you are not a member\, you may either join Del Ray Artisans now to enter here or email Pat Miller to inquire about the Alexandria Arts Alliance entry process. Two-dimensional works only. No entry fee; pieces previously shown are welcome. \nEntry Details & Form
URL:https://delrayartisans.org/event/party-for-the-arts-2024-deadline/
LOCATION:Online
CATEGORIES:Entry Deadline
ORGANIZER;CN="Kelly MacConomy%2C Outreach Director":MAILTO:outreach@delrayartisans.org
END:VEVENT
END:VCALENDAR