BEGIN:VCALENDAR
VERSION:2.0
PRODID:-//Del Ray Artisans - ECPv6.15.20//NONSGML v1.0//EN
CALSCALE:GREGORIAN
METHOD:PUBLISH
X-WR-CALNAME:Del Ray Artisans
X-ORIGINAL-URL:https://delrayartisans.org
X-WR-CALDESC:Events for Del Ray Artisans
REFRESH-INTERVAL;VALUE=DURATION:PT1H
X-Robots-Tag:noindex
X-PUBLISHED-TTL:PT1H
BEGIN:VTIMEZONE
TZID:America/New_York
BEGIN:DAYLIGHT
TZOFFSETFROM:-0500
TZOFFSETTO:-0400
TZNAME:EDT
DTSTART:20230312T070000
END:DAYLIGHT
BEGIN:STANDARD
TZOFFSETFROM:-0400
TZOFFSETTO:-0500
TZNAME:EST
DTSTART:20231105T060000
END:STANDARD
BEGIN:DAYLIGHT
TZOFFSETFROM:-0500
TZOFFSETTO:-0400
TZNAME:EDT
DTSTART:20240310T070000
END:DAYLIGHT
BEGIN:STANDARD
TZOFFSETFROM:-0400
TZOFFSETTO:-0500
TZNAME:EST
DTSTART:20241103T060000
END:STANDARD
BEGIN:DAYLIGHT
TZOFFSETFROM:-0500
TZOFFSETTO:-0400
TZNAME:EDT
DTSTART:20250309T070000
END:DAYLIGHT
BEGIN:STANDARD
TZOFFSETFROM:-0400
TZOFFSETTO:-0500
TZNAME:EST
DTSTART:20251102T060000
END:STANDARD
END:VTIMEZONE
BEGIN:VEVENT
DTSTART;TZID=America/New_York:20240403T235900
DTEND;TZID=America/New_York:20240403T235900
DTSTAMP:20260425T161847
CREATED:20240307T161231Z
LAST-MODIFIED:20240307T161310Z
UID:10001371-1712188740-1712188740@delrayartisans.org
SUMMARY:“Rejuvenation” GWW Call for Entry Deadline
DESCRIPTION:Del Ray Artisans Members Only\nGallery Without Walls Call for Entry\nRejuvenation at VCA Old Town Animal Hospital\nApril 22–October 19\, 2024\nEntry deadline: Wednesday\, April 3\, 2024 by midnight\nSeeking 2D artwork exploring the concept of rejuvenation (the action or process of giving new energy or vigor to something). Spring is the season of rejuvenation when the earth celebrates a regeneration of nature! The art world saw a rejuvenation during the Renaissance. Rejuvenation may be experienced through reinventing ourselves or through renewal or recovery. \nNOTE: The Rejuvenation art exhibit is at VCA Old Town (not VCA Alexandria). Due to new guidelines for a fear-free space\, we cannot accept artwork that has realistic depictions of dogs\, cats\, and/or birds. Stylized or abstract pieces with these subjects are allowed. \nMust be a Del Ray Artisans member to enter (join Del Ray Artisans now); 2-dimensional works only. No entry fee; pieces previously shown are welcome. \nEntry Details & Form \n\nArtwork credit: “Cherry Blossom” by Sunny Chen
URL:https://delrayartisans.org/event/rejuvenation-deadline/
LOCATION:Online
CATEGORIES:Entry Deadline
ATTACH;FMTTYPE=image/jpeg:https://delrayartisans.org/wp-content/uploads/2024/03/Cherry_Blossom_by_Sunny_Chen.jpg
ORGANIZER;CN="Liz Martinez%2C Gallery Without Walls Curator":MAILTO:GWW@DelRayArtisans.org
END:VEVENT
END:VCALENDAR