BEGIN:VCALENDAR
VERSION:2.0
PRODID:-//Del Ray Artisans - ECPv6.15.20//NONSGML v1.0//EN
CALSCALE:GREGORIAN
METHOD:PUBLISH
X-WR-CALNAME:Del Ray Artisans
X-ORIGINAL-URL:https://delrayartisans.org
X-WR-CALDESC:Events for Del Ray Artisans
REFRESH-INTERVAL;VALUE=DURATION:PT1H
X-Robots-Tag:noindex
X-PUBLISHED-TTL:PT1H
BEGIN:VTIMEZONE
TZID:America/New_York
BEGIN:DAYLIGHT
TZOFFSETFROM:-0500
TZOFFSETTO:-0400
TZNAME:EDT
DTSTART:20230312T070000
END:DAYLIGHT
BEGIN:STANDARD
TZOFFSETFROM:-0400
TZOFFSETTO:-0500
TZNAME:EST
DTSTART:20231105T060000
END:STANDARD
BEGIN:DAYLIGHT
TZOFFSETFROM:-0500
TZOFFSETTO:-0400
TZNAME:EDT
DTSTART:20240310T070000
END:DAYLIGHT
BEGIN:STANDARD
TZOFFSETFROM:-0400
TZOFFSETTO:-0500
TZNAME:EST
DTSTART:20241103T060000
END:STANDARD
BEGIN:DAYLIGHT
TZOFFSETFROM:-0500
TZOFFSETTO:-0400
TZNAME:EDT
DTSTART:20250309T070000
END:DAYLIGHT
BEGIN:STANDARD
TZOFFSETFROM:-0400
TZOFFSETTO:-0500
TZNAME:EST
DTSTART:20251102T060000
END:STANDARD
END:VTIMEZONE
BEGIN:VEVENT
DTSTART;TZID=America/New_York:20240324T235900
DTEND;TZID=America/New_York:20240324T235900
DTSTAMP:20260425T211754
CREATED:20240212T145939Z
LAST-MODIFIED:20240212T150541Z
UID:10001355-1711324740-1711324740@delrayartisans.org
SUMMARY:Spring Art Market Application Deadline
DESCRIPTION:Call for Artists\nDel Ray Artisans’ Spring Art Market\n \nApplication deadline: Sunday\, March 24\, 2024 by midnight\n \nJoin Del Ray Artisans in its tradition of outdoor art markets and sell your original handmade artwork to the local community. This is an outdoor\, family-friendly\, rain-or-shine event in Colasanto Park\, adjoining Del Ray Artisans gallery\, on Saturday\, May 11\, 2024 from 10am to 4pm. \nDetails and Application
URL:https://delrayartisans.org/event/spring-art-market-2024-deadline/
LOCATION:Online
CATEGORIES:Entry Deadline
ORGANIZER;CN="Lesley Hall%2C Vice President":MAILTO:vp@delrayartisans.org
END:VEVENT
END:VCALENDAR