BEGIN:VCALENDAR
VERSION:2.0
PRODID:-//Del Ray Artisans - ECPv6.15.20//NONSGML v1.0//EN
CALSCALE:GREGORIAN
METHOD:PUBLISH
X-ORIGINAL-URL:https://delrayartisans.org
X-WR-CALDESC:Events for Del Ray Artisans
REFRESH-INTERVAL;VALUE=DURATION:PT1H
X-Robots-Tag:noindex
X-PUBLISHED-TTL:PT1H
BEGIN:VTIMEZONE
TZID:America/New_York
BEGIN:DAYLIGHT
TZOFFSETFROM:-0500
TZOFFSETTO:-0400
TZNAME:EDT
DTSTART:20240310T070000
END:DAYLIGHT
BEGIN:STANDARD
TZOFFSETFROM:-0400
TZOFFSETTO:-0500
TZNAME:EST
DTSTART:20241103T060000
END:STANDARD
BEGIN:DAYLIGHT
TZOFFSETFROM:-0500
TZOFFSETTO:-0400
TZNAME:EDT
DTSTART:20250309T070000
END:DAYLIGHT
BEGIN:STANDARD
TZOFFSETFROM:-0400
TZOFFSETTO:-0500
TZNAME:EST
DTSTART:20251102T060000
END:STANDARD
BEGIN:DAYLIGHT
TZOFFSETFROM:-0500
TZOFFSETTO:-0400
TZNAME:EDT
DTSTART:20260308T070000
END:DAYLIGHT
BEGIN:STANDARD
TZOFFSETFROM:-0400
TZOFFSETTO:-0500
TZNAME:EST
DTSTART:20261101T060000
END:STANDARD
END:VTIMEZONE
BEGIN:VEVENT
DTSTART;TZID=America/New_York:20250803T235900
DTEND;TZID=America/New_York:20250803T235900
DTSTAMP:20260423T185656
CREATED:20250512T230834Z
LAST-MODIFIED:20250721T134748Z
UID:10001856-1754265540-1754265540@delrayartisans.org
SUMMARY:Call for Proposals for 2026 Art Exhibit Deadline
DESCRIPTION:Call for Proposals\n2026 Art Exhibits at Del Ray Artisans\nProposal deadline extended to Sunday\, August 3\, 2025 by midnight\n“Visible Touch” art exhibit at Del Ray Artisans (Feb 2024)\nDel Ray Artisans is seeking exhibit proposals for next year’s calendar. Del Ray Artisans strives to offer exhibits that reach a broad and diverse audience\, encourage artistic development\, and represent a wide variety of art forms. Experienced and first time curators welcome! \nThe Exhibit Selection Committee will review all proposals and make recommendations to the Board for final approval. \nProposal Form
URL:https://delrayartisans.org/event/2026-exhibit-proposals-deadline/
LOCATION:Online
CATEGORIES:Entry Deadline
ORGANIZER;CN="Liz Martinez":MAILTO:catniphaze@gmail.com
END:VEVENT
BEGIN:VEVENT
DTSTART;TZID=America/New_York:20250810T235900
DTEND;TZID=America/New_York:20250810T235900
DTSTAMP:20260423T185656
CREATED:20250209T192328Z
LAST-MODIFIED:20250522T231151Z
UID:10001770-1754870340-1754870340@delrayartisans.org
SUMMARY:“Second Time Around” Call for Entry Deadline
DESCRIPTION:Call for Entry ~ Open to area artists\nSecond Time Around\nExhibit Dates: September 5–27\, 2025\nDigital entry deadline: Sunday\, August 10\, 2025 by midnight\n“Amoeba Series: Party!” by Tracy Wilkerson\nSeeking art that focuses on sustainable creativity and enhancing the artistic environmental ethos. Artists are encouraged to use recycled materials\, found objects\, old canvases or panels and more to repurpose them into a new piece of art. This call for entry requires that your submitted art pieces utilize at least 50% recycled materials. \nThe exhibit is open to all area artists. Del Ray Artisans members pay a discounted entry fee. \nEntry Details & Form
URL:https://delrayartisans.org/event/second-time-deadline/
LOCATION:Online
CATEGORIES:Entry Deadline
ORGANIZER;CN="Tracy Wilkerson":MAILTO:recycledworks@yahoo.com
END:VEVENT
BEGIN:VEVENT
DTSTART;TZID=America/New_York:20250817T235900
DTEND;TZID=America/New_York:20250817T235900
DTSTAMP:20260423T185656
CREATED:20250721T135147Z
LAST-MODIFIED:20250722T191803Z
UID:10001914-1755475140-1755475140@delrayartisans.org
SUMMARY:HalloWEIRD Art Market Application Deadline
DESCRIPTION:Call for Artists\nDel Ray Artisans’ HalloWEIRD Art Market\nApplication deadline: Sunday\, August 17\, 2025 by midnight\nApply now for the 4th annual HalloWEIRD outdoor art market centered around the theme: Halloween. Showcase your spooky\, creepy\, crawly\, disturbing\, goth pieces or focus on the upbeat\, fun side of the season (costumes\, hot cider\, hay rides\, autumn colors\, etc). This is an outdoor\, family-friendly\, rain-or-shine event in the Mount Vernon Recreation Center fields\, adjoining Del Ray Artisans gallery\, on Saturday\, September 20\, 2025 from 9am to 2pm. \nDetails and Application
URL:https://delrayartisans.org/event/halloweird-2025-cfa-deadline/
LOCATION:Mount Vernon Recreation Center Athletic Fields\, 2701 Commonwealth Ave\, Alexandria\, 22301\, United States
CATEGORIES:Entry Deadline
ORGANIZER;CN="Diana Manchak":MAILTO:silicagal@hotmail.com
END:VEVENT
BEGIN:VEVENT
DTSTART;TZID=America/New_York:20250818T235900
DTEND;TZID=America/New_York:20250818T235900
DTSTAMP:20260423T185656
CREATED:20250717T163344Z
LAST-MODIFIED:20250717T163344Z
UID:10001912-1755561540-1755561540@delrayartisans.org
SUMMARY:2026 Wall Calendar Call for Entry Deadline
DESCRIPTION:Call for Entry (Open to Members Only)\nDel Ray Artisans’ 2026 Wall Calendar\nDigital entries due Monday\, August 18\, 2025\nMembers: Submit your best work to the 13th annual Del Ray Artisans’ wall calendar! All entries are to be received digitally\, and no physical pieces of art will be collected. There is no entry fee\, no theme\, and work previously shown at Del Ray Artisans is acceptable. Your Del Ray Artisans membership must be up-to-date. \nThe Calendar Selection Committee will choose approximately 50-60 pieces of art from Del Ray Artisans members to be included in the 2026 Wall Calendar. This calendar is a fundraiser to benefit Del Ray Artisans\, but also a fun way to show your support for our arts organization and share your talent with the community. \nEntry Details & Form
URL:https://delrayartisans.org/event/2026-calendar-entry-deadline/
LOCATION:Online
CATEGORIES:Entry Deadline
ORGANIZER;CN="Margaret Slipek%2C Fundraising Director":MAILTO:Fundraising@DelRayArtisans.org
END:VEVENT
BEGIN:VEVENT
DTSTART;TZID=America/New_York:20250820T235900
DTEND;TZID=America/New_York:20250820T235900
DTSTAMP:20260423T185656
CREATED:20250722T141137Z
LAST-MODIFIED:20250722T141137Z
UID:10001917-1755734340-1755734340@delrayartisans.org
SUMMARY:“Flora\, Fauna\, Fantastica” GWW Call for Entry Deadline
DESCRIPTION:Del Ray Artisans Members Only\nGallery Without Walls Call for Entry\nFlora\, Fauna\, Fantastica at VCA Alexandria Animal Hospital\nSeptember 22\, 2025–September 5\, 2026\nEntry deadline: Wednesday\, August 20\, 2025 by midnight\n“Persephone” by Morgan Parr\nSeeking a variety of 2D art\, from the traditional to the surreal\, showcasing nature. The curators prefer art that helps soothe in a stressful environment. Due to guidelines for a fear-free environment\, we cannot accept realistic depictions of dogs\, cats\, or birds. \nMust be a Del Ray Artisans member to enter (join Del Ray Artisans now); 2-dimensional works only. No entry fee; pieces previously shown are welcome. \nEntry Details & Form
URL:https://delrayartisans.org/event/flora-fauna-fantastica-deadline/
LOCATION:Online
CATEGORIES:Entry Deadline
ORGANIZER;CN="Liz Martinez%2C Gallery Without Walls Curator":MAILTO:GWW@DelRayArtisans.org
END:VEVENT
END:VCALENDAR