BEGIN:VCALENDAR
VERSION:2.0
PRODID:-//Del Ray Artisans - ECPv6.15.20//NONSGML v1.0//EN
CALSCALE:GREGORIAN
METHOD:PUBLISH
X-WR-CALNAME:Del Ray Artisans
X-ORIGINAL-URL:https://delrayartisans.org
X-WR-CALDESC:Events for Del Ray Artisans
REFRESH-INTERVAL;VALUE=DURATION:PT1H
X-Robots-Tag:noindex
X-PUBLISHED-TTL:PT1H
BEGIN:VTIMEZONE
TZID:America/New_York
BEGIN:DAYLIGHT
TZOFFSETFROM:-0500
TZOFFSETTO:-0400
TZNAME:EDT
DTSTART:20230312T070000
END:DAYLIGHT
BEGIN:STANDARD
TZOFFSETFROM:-0400
TZOFFSETTO:-0500
TZNAME:EST
DTSTART:20231105T060000
END:STANDARD
BEGIN:DAYLIGHT
TZOFFSETFROM:-0500
TZOFFSETTO:-0400
TZNAME:EDT
DTSTART:20240310T070000
END:DAYLIGHT
BEGIN:STANDARD
TZOFFSETFROM:-0400
TZOFFSETTO:-0500
TZNAME:EST
DTSTART:20241103T060000
END:STANDARD
BEGIN:DAYLIGHT
TZOFFSETFROM:-0500
TZOFFSETTO:-0400
TZNAME:EDT
DTSTART:20250309T070000
END:DAYLIGHT
BEGIN:STANDARD
TZOFFSETFROM:-0400
TZOFFSETTO:-0500
TZNAME:EST
DTSTART:20251102T060000
END:STANDARD
END:VTIMEZONE
BEGIN:VEVENT
DTSTART;TZID=America/New_York:20241209T235900
DTEND;TZID=America/New_York:20241209T235900
DTSTAMP:20260424T164042
CREATED:20241024T204306Z
LAST-MODIFIED:20241024T204306Z
UID:10001532-1733788740-1733788740@delrayartisans.org
SUMMARY:Alcove Gift Shop Call for Artists Deadline
DESCRIPTION:Call for Artists ~ Open to Del Ray Artisans Members\nAlcove Gift Shop\nJanuary 3 – March 1\, 2025\nApplication deadline: Monday\, December 9\, 2024 by midnight\n \nDel Ray Artisans’ Alcove is a gift shop within the gallery\, where members (who apply and are accepted) display and sell their work. Unframed 2-D works are available in bins alongside jewelry\, fiber art\, wood craft\, ceramics\, and other smaller 3-D items. \nThe work will be displayed for two months\, and as pieces are sold they can be replaced with similar work for no additional fee. This opportunity is independent of the monthly exhibits and is only open to Del Ray Artisans members. If you are not a member\, you may join Del Ray Artisans now to enter. \nApplication Details & Form
URL:https://delrayartisans.org/event/alcove-jan-feb-2025-cfa-deadline/
LOCATION:Online
CATEGORIES:Entry Deadline
ORGANIZER;CN="Stephen Lally":MAILTO:slallypottery@gmail.com
END:VEVENT
BEGIN:VEVENT
DTSTART;TZID=America/New_York:20241215T235900
DTEND;TZID=America/New_York:20241215T235900
DTSTAMP:20260424T164042
CREATED:20241113T211347Z
LAST-MODIFIED:20241124T202304Z
UID:10001708-1734307140-1734307140@delrayartisans.org
SUMMARY:“Visual Humor” Call for Entry Deadline
DESCRIPTION:Call for Entry ~ Open to area artists\nVisual Humor\nExhibit Dates: January 3 – February 1\, 2025\nDigital entry deadline: Sunday\, December 15\, 2024 by midnight\nThe joy found in comedy delights all. Provoke your creativity in search of a chuckle. Artists are invited to explore not only how ideas or objects are comical\, but also what properties of a joke give it wings. Perhaps literally. \nThe exhibit is open to all area artists. Del Ray Artisans members pay a discounted entry fee. \nEntry Details & Form
URL:https://delrayartisans.org/event/visual-humor-deadline/
LOCATION:Online
CATEGORIES:Entry Deadline
ORGANIZER;CN="Erica Hughes":MAILTO:zarathustraspeaks@msn.com
END:VEVENT
END:VCALENDAR