BEGIN:VCALENDAR
VERSION:2.0
PRODID:-//Del Ray Artisans - ECPv6.15.20//NONSGML v1.0//EN
CALSCALE:GREGORIAN
METHOD:PUBLISH
X-ORIGINAL-URL:https://delrayartisans.org
X-WR-CALDESC:Events for Del Ray Artisans
REFRESH-INTERVAL;VALUE=DURATION:PT1H
X-Robots-Tag:noindex
X-PUBLISHED-TTL:PT1H
BEGIN:VTIMEZONE
TZID:America/New_York
BEGIN:DAYLIGHT
TZOFFSETFROM:-0500
TZOFFSETTO:-0400
TZNAME:EDT
DTSTART:20230312T070000
END:DAYLIGHT
BEGIN:STANDARD
TZOFFSETFROM:-0400
TZOFFSETTO:-0500
TZNAME:EST
DTSTART:20231105T060000
END:STANDARD
BEGIN:DAYLIGHT
TZOFFSETFROM:-0500
TZOFFSETTO:-0400
TZNAME:EDT
DTSTART:20240310T070000
END:DAYLIGHT
BEGIN:STANDARD
TZOFFSETFROM:-0400
TZOFFSETTO:-0500
TZNAME:EST
DTSTART:20241103T060000
END:STANDARD
BEGIN:DAYLIGHT
TZOFFSETFROM:-0500
TZOFFSETTO:-0400
TZNAME:EDT
DTSTART:20250309T070000
END:DAYLIGHT
BEGIN:STANDARD
TZOFFSETFROM:-0400
TZOFFSETTO:-0500
TZNAME:EST
DTSTART:20251102T060000
END:STANDARD
END:VTIMEZONE
BEGIN:VEVENT
DTSTART;TZID=America/New_York:20241108T235900
DTEND;TZID=America/New_York:20241108T235900
DTSTAMP:20260424T180241
CREATED:20241022T192607Z
LAST-MODIFIED:20241022T192607Z
UID:10001529-1731110340-1731110340@delrayartisans.org
SUMMARY:“Artists Favorites” GWW Call for Entry Deadline
DESCRIPTION:Del Ray Artisans Members Only\nGallery Without Walls Call for Entry\nArtists Favorites at VCA Alexandria Animal Hospital\nDecember 2\, 2024–September 6\, 2025\nEntry deadline: Friday\, November 8\, 2024 by midnight\n“Recharge” by Liz Martinez\nSeeking 2D artwork on any subject matter. The curators prefer art that helps soothe in a stressful environment. Also\, due to new guidelines for a fear-free space\, we cannot accept artwork that has realistic depictions (such as unaltered photographs or other life-like artwork) of dogs\, cats\, and/or birds. Stylized or abstract pieces with these subjects are allowed. \nMust be a Del Ray Artisans member to enter (join Del Ray Artisans now); 2-dimensional works only. No entry fee; pieces previously shown are welcome. \nEntry Details & Form
URL:https://delrayartisans.org/event/artists-favorites-deadline/
LOCATION:Online
CATEGORIES:Entry Deadline
ORGANIZER;CN="Liz Martinez%2C Gallery Without Walls Curator":MAILTO:GWW@DelRayArtisans.org
END:VEVENT
END:VCALENDAR