BEGIN:VCALENDAR
VERSION:2.0
PRODID:-//Del Ray Artisans - ECPv6.15.20//NONSGML v1.0//EN
CALSCALE:GREGORIAN
METHOD:PUBLISH
X-ORIGINAL-URL:https://delrayartisans.org
X-WR-CALDESC:Events for Del Ray Artisans
REFRESH-INTERVAL;VALUE=DURATION:PT1H
X-Robots-Tag:noindex
X-PUBLISHED-TTL:PT1H
BEGIN:VTIMEZONE
TZID:America/New_York
BEGIN:DAYLIGHT
TZOFFSETFROM:-0500
TZOFFSETTO:-0400
TZNAME:EDT
DTSTART:20230312T070000
END:DAYLIGHT
BEGIN:STANDARD
TZOFFSETFROM:-0400
TZOFFSETTO:-0500
TZNAME:EST
DTSTART:20231105T060000
END:STANDARD
BEGIN:DAYLIGHT
TZOFFSETFROM:-0500
TZOFFSETTO:-0400
TZNAME:EDT
DTSTART:20240310T070000
END:DAYLIGHT
BEGIN:STANDARD
TZOFFSETFROM:-0400
TZOFFSETTO:-0500
TZNAME:EST
DTSTART:20241103T060000
END:STANDARD
BEGIN:DAYLIGHT
TZOFFSETFROM:-0500
TZOFFSETTO:-0400
TZNAME:EDT
DTSTART:20250309T070000
END:DAYLIGHT
BEGIN:STANDARD
TZOFFSETFROM:-0400
TZOFFSETTO:-0500
TZNAME:EST
DTSTART:20251102T060000
END:STANDARD
END:VTIMEZONE
BEGIN:VEVENT
DTSTART;TZID=America/New_York:20240714T235900
DTEND;TZID=America/New_York:20240714T235900
DTSTAMP:20260425T115051
CREATED:20240627T140438Z
LAST-MODIFIED:20240711T155023Z
UID:10001434-1721001540-1721001540@delrayartisans.org
SUMMARY:Alcove Gift Shop Call for Artists Deadline
DESCRIPTION:Call for Artists ~ Open to Del Ray Artisans Members\nAlcove Gift Shop\nAugust 2 – September 28\, 2024\nApplication deadline extended to Sunday\, July 14\, 2024 by midnight\n \nDel Ray Artisans’ Alcove is a gift shop within the gallery\, where members (who apply and are accepted) display and sell their work. Unframed 2-D works are available in bins alongside jewelry\, fiber art\, wood craft\, ceramics\, and other smaller 3-D items. \nThe work will be displayed for two months\, and as pieces are sold they can be replaced with similar work for no additional fee. This opportunity is independent of the monthly exhibits and is only open to Del Ray Artisans members. If you are not a member\, you may join Del Ray Artisans now to enter. \nApplication Details & Form
URL:https://delrayartisans.org/event/alcove-aug-sept-2024-cfa-deadline/
LOCATION:Online
CATEGORIES:Entry Deadline
ORGANIZER;CN="Stephen Lally":MAILTO:slallypottery@gmail.com
END:VEVENT
BEGIN:VEVENT
DTSTART;TZID=America/New_York:20240715T235900
DTEND;TZID=America/New_York:20240715T235900
DTSTAMP:20260425T115051
CREATED:20240515T160314Z
LAST-MODIFIED:20240711T155117Z
UID:10001412-1721087940-1721087940@delrayartisans.org
SUMMARY:“The Science of our Surroundings” Call for Entry Deadline
DESCRIPTION:Call for Entry ~ Open to area artists\nThe Science of our Surroundings\nExhibit Dates: August 2-31\, 2024\nDigital entry deadline extended to Monday\, July 15\, 2024 by midnight\nScience is in everything we do and see. Create something that celebrates your favorite part of this expansive subject. What science inspires you? Diagrams\, vocabulary\, photography\, scientific illustration\, contraptions\, etc. Share your favorite elements of science\, be it current or nostalgic—and the sky’s the limit! \nThe exhibit is open to all area artists. Del Ray Artisans members pay a discounted entry fee. \nEntry Details & Form
URL:https://delrayartisans.org/event/surroundings-deadline/
LOCATION:Online
CATEGORIES:Entry Deadline
ORGANIZER;CN="Aaron Fletchersmith":MAILTO:aaron.fletchersmith@gmail.com
END:VEVENT
BEGIN:VEVENT
DTSTART;TZID=America/New_York:20240731T235900
DTEND;TZID=America/New_York:20240731T235900
DTSTAMP:20260425T115051
CREATED:20240409T135537Z
LAST-MODIFIED:20240711T155436Z
UID:10001395-1722470340-1722470340@delrayartisans.org
SUMMARY:2025 Art Exhibit Call for Proposals Deadline
DESCRIPTION:Call for Proposals\n2025 Art Exhibits at Del Ray Artisans\nProposal deadline extended to Wednesday\, July 31\, 2024 by midnight\n“Visible Touch” art exhibit at Del Ray Artisans (Feb 2024)\nDel Ray Artisans is seeking exhibit proposals for next year’s calendar. Del Ray Artisans strives to offer exhibits that reach a broad and diverse audience\, encourage artistic development\, and represent a wide variety of art forms. Experienced and first time curators welcome! \nThe Exhibit Selection Committee will review all proposals and make recommendations to the Board for final approval. \nProposal Form
URL:https://delrayartisans.org/event/2025-exhibit-proposals-deadline/
LOCATION:Online
CATEGORIES:Entry Deadline
END:VEVENT
END:VCALENDAR