BEGIN:VCALENDAR
VERSION:2.0
PRODID:-//Del Ray Artisans - ECPv6.15.20//NONSGML v1.0//EN
CALSCALE:GREGORIAN
METHOD:PUBLISH
X-ORIGINAL-URL:https://delrayartisans.org
X-WR-CALDESC:Events for Del Ray Artisans
REFRESH-INTERVAL;VALUE=DURATION:PT1H
X-Robots-Tag:noindex
X-PUBLISHED-TTL:PT1H
BEGIN:VTIMEZONE
TZID:America/New_York
BEGIN:DAYLIGHT
TZOFFSETFROM:-0500
TZOFFSETTO:-0400
TZNAME:EDT
DTSTART:20240310T070000
END:DAYLIGHT
BEGIN:STANDARD
TZOFFSETFROM:-0400
TZOFFSETTO:-0500
TZNAME:EST
DTSTART:20241103T060000
END:STANDARD
BEGIN:DAYLIGHT
TZOFFSETFROM:-0500
TZOFFSETTO:-0400
TZNAME:EDT
DTSTART:20250309T070000
END:DAYLIGHT
BEGIN:STANDARD
TZOFFSETFROM:-0400
TZOFFSETTO:-0500
TZNAME:EST
DTSTART:20251102T060000
END:STANDARD
BEGIN:DAYLIGHT
TZOFFSETFROM:-0500
TZOFFSETTO:-0400
TZNAME:EDT
DTSTART:20260308T070000
END:DAYLIGHT
BEGIN:STANDARD
TZOFFSETFROM:-0400
TZOFFSETTO:-0500
TZNAME:EST
DTSTART:20261101T060000
END:STANDARD
END:VTIMEZONE
BEGIN:VEVENT
DTSTART;VALUE=DATE:20250705
DTEND;VALUE=DATE:20250707
DTSTAMP:20260423T141155
CREATED:20250504T152145Z
LAST-MODIFIED:20250701T132247Z
UID:10001847-1751673600-1751846399@delrayartisans.org
SUMMARY:Rummage Sale Fundraiser (8am-1pm\, Indoor Yard Sale)
DESCRIPTION:Ver información en Español\n  \nPlease share the flyer!\nSupport Del Ray Artisans and go home with new-to-you\, used treasures from our rummage sale inside the gallery on Saturday & Sunday\, July 5-6\, 8am-1pm. \nGreat deals on household items\, clothing\, office supplies\, jewelry\, toys\, books\, small appliances\, and more. All proceeds benefit Del Ray Artisans nonprofit arts organization. \nDonate Items\nDonated items are welcomed and appreciated. Items must be dropped off no later than July 4th (see dates/times below). Please do not drop off hazardous materials\, broken items\, or anything that requires two people to move (no large furniture or large electronics). \nDonation drop off dates/times are: \n\nMonday\, June 30\, 5-7pm\nWednesday\, July 2\, 12-9pm\nThursday\, July 3\, 12-9pm (Preview Sale from 6-9pm)\nFriday\, July 4\, 12-3pm\n\nVolunteer\nHelp receive and price donations for our annual rummage sale fundraiser during the drop off dates or help during the sale itself\, please contact Morgan Parr at volunteers@delrayartisans.org. English-Spanish bilingual volunteers are especially needed during the sale. \nDRA members are reminded to report their volunteer hours monthly.
URL:https://delrayartisans.org/event/rummage-sale-2025/
LOCATION:Del Ray Artisans Gallery\, 2704 Mount Vernon Avenue\, Alexandria\, VA\, 22301\, United States
CATEGORIES:Community Event,Fundraising,Volunteer
ORGANIZER;CN="Haddy Kreie":MAILTO:hkreie@gmail.com
END:VEVENT
BEGIN:VEVENT
DTSTART;VALUE=DATE:20250705
DTEND;VALUE=DATE:20250707
DTSTAMP:20260423T141155
CREATED:20250617T220039Z
LAST-MODIFIED:20250618T162928Z
UID:10001899-1751673600-1751846399@delrayartisans.org
SUMMARY:Gran Venta de Verano (8am-1pm\, Dentro de la Galería)
DESCRIPTION:See information in English\n  \n\n¡Por favor comparte!\n¡Invitación a una Gran Venta de Verano!\nSábado y Domingo\n5 de Julio y 6 de Julio\n8:00 AM – 1:00 PM \n2704 Mt Vernon Avenue\nAlexandria\, VA 22301\nDentro de la Galería de Arte Del Ray Artisans \nGrandes ofertas: artículos para el hogar\, ropa\, joyas\, productos para oficina\, materiales para arte\, juguetes\, libros\, artículos para deportes\, herramientas\, electrodomésticos y más. \nTodos los ingresos beneficiaran a la fundación sin ánimo de lucro\, Del Ray Artisans. \n¡No pase inadvertido\, encontrara grandes tesoros!
URL:https://delrayartisans.org/event/gran-venta-2025/
LOCATION:Del Ray Artisans Gallery\, 2704 Mount Vernon Avenue\, Alexandria\, VA\, 22301\, United States
CATEGORIES:Community Event,Fundraising,Volunteer
ORGANIZER;CN="Christian Melgar%2C Communications Director":MAILTO:communications@delrayartisans.org
END:VEVENT
END:VCALENDAR