BEGIN:VCALENDAR
VERSION:2.0
PRODID:-//Del Ray Artisans - ECPv6.15.20//NONSGML v1.0//EN
CALSCALE:GREGORIAN
METHOD:PUBLISH
X-WR-CALNAME:Del Ray Artisans
X-ORIGINAL-URL:https://delrayartisans.org
X-WR-CALDESC:Events for Del Ray Artisans
REFRESH-INTERVAL;VALUE=DURATION:PT1H
X-Robots-Tag:noindex
X-PUBLISHED-TTL:PT1H
BEGIN:VTIMEZONE
TZID:America/New_York
BEGIN:DAYLIGHT
TZOFFSETFROM:-0500
TZOFFSETTO:-0400
TZNAME:EDT
DTSTART:20240310T070000
END:DAYLIGHT
BEGIN:STANDARD
TZOFFSETFROM:-0400
TZOFFSETTO:-0500
TZNAME:EST
DTSTART:20241103T060000
END:STANDARD
BEGIN:DAYLIGHT
TZOFFSETFROM:-0500
TZOFFSETTO:-0400
TZNAME:EDT
DTSTART:20250309T070000
END:DAYLIGHT
BEGIN:STANDARD
TZOFFSETFROM:-0400
TZOFFSETTO:-0500
TZNAME:EST
DTSTART:20251102T060000
END:STANDARD
BEGIN:DAYLIGHT
TZOFFSETFROM:-0500
TZOFFSETTO:-0400
TZNAME:EDT
DTSTART:20260308T070000
END:DAYLIGHT
BEGIN:STANDARD
TZOFFSETFROM:-0400
TZOFFSETTO:-0500
TZNAME:EST
DTSTART:20261101T060000
END:STANDARD
END:VTIMEZONE
BEGIN:VEVENT
DTSTART;TZID=America/New_York:20250601T113000
DTEND;TZID=America/New_York:20250601T130000
DTSTAMP:20260423T173633
CREATED:20250114T020255Z
LAST-MODIFIED:20250521T221753Z
UID:10001736-1748777400-1748782800@delrayartisans.org
SUMMARY:Taste of Del Ray VIP Reception
DESCRIPTION:Taste of Del Ray is one of Virginia Living Magazine‘s top food festivals in the state. Visit the Del Ray Business Association website for details on the 16th annual Taste of Del Ray. \nThe event will take place on Sunday\, June 1 from 1-3pm at the Mount Vernon Recreation Center fields next to the gallery. Purchase tickets in advance on Eventbrite. Only 500 general admission and 100 VIP tickets will be sold. \nVIP benefits include a wine tasting at Del Ray Artisans gallery from 11:30am-1pm and early admission to the food festival starting at 12pm. Note: The wine tasting is only for individuals 21 and older (IDs will be checked) who have Taste of Del Ray VIP tickets. \nGet Tickets \n\nDel Ray Artisans is a member of the Del Ray Business Association. The gallery is open to the public until 6pm on Sunday\, June 1st.
URL:https://delrayartisans.org/event/taste-of-del-ray-2025/
LOCATION:Del Ray Artisans Gallery\, 2704 Mount Vernon Avenue\, Alexandria\, VA\, 22301\, United States
CATEGORIES:Community Event
ATTACH;FMTTYPE=image/jpeg:https://delrayartisans.org/wp-content/uploads/2025/01/taste-of-del-ray-2025.jpg
END:VEVENT
END:VCALENDAR