BEGIN:VCALENDAR
VERSION:2.0
PRODID:-//Del Ray Artisans - ECPv6.15.20//NONSGML v1.0//EN
CALSCALE:GREGORIAN
METHOD:PUBLISH
X-WR-CALNAME:Del Ray Artisans
X-ORIGINAL-URL:https://delrayartisans.org
X-WR-CALDESC:Events for Del Ray Artisans
REFRESH-INTERVAL;VALUE=DURATION:PT1H
X-Robots-Tag:noindex
X-PUBLISHED-TTL:PT1H
BEGIN:VTIMEZONE
TZID:America/New_York
BEGIN:DAYLIGHT
TZOFFSETFROM:-0500
TZOFFSETTO:-0400
TZNAME:EDT
DTSTART:20230312T070000
END:DAYLIGHT
BEGIN:STANDARD
TZOFFSETFROM:-0400
TZOFFSETTO:-0500
TZNAME:EST
DTSTART:20231105T060000
END:STANDARD
BEGIN:DAYLIGHT
TZOFFSETFROM:-0500
TZOFFSETTO:-0400
TZNAME:EDT
DTSTART:20240310T070000
END:DAYLIGHT
BEGIN:STANDARD
TZOFFSETFROM:-0400
TZOFFSETTO:-0500
TZNAME:EST
DTSTART:20241103T060000
END:STANDARD
BEGIN:DAYLIGHT
TZOFFSETFROM:-0500
TZOFFSETTO:-0400
TZNAME:EDT
DTSTART:20250309T070000
END:DAYLIGHT
BEGIN:STANDARD
TZOFFSETFROM:-0400
TZOFFSETTO:-0500
TZNAME:EST
DTSTART:20251102T060000
END:STANDARD
END:VTIMEZONE
BEGIN:VEVENT
DTSTART;TZID=America/New_York:20240905T183000
DTEND;TZID=America/New_York:20240905T200000
DTSTAMP:20260424T172752
CREATED:20240521T140848Z
LAST-MODIFIED:20240904T231622Z
UID:10001360-1725561000-1725566400@delrayartisans.org
SUMMARY:First Thursday Activity 6:30-8pm (Gallery Open 12-9pm)
DESCRIPTION:Join us inside Del Ray Artisans gallery from 6:30-8pm on Thursday\, September 5th for our family-friendly activity: a fibertastic selfie station and hands-on knitting instruction to celebrate the new exhibit! Come as a beginner or bring your experience adding rows to a Community Fiber Project. The event is free of charge and all ages and knitting skills are welcome. \nPlus get a sneak peek of the Fascinating Fiber\, Alluring Fabric art exhibit. Del Ray Artisans gallery is open 12-9pm on First Thursdays from April through September. This is the last First Thursday of 2024! \n\nEvery year from April through September Del Ray Business Association celebrates First Thursday\, a Del Ray community event along Mount Vernon Avenue from 6pm until dusk on the first Thursday of the month. \nJoin the Del Ray community for live music and themed activities. The selected nonprofit for each date will be announced in advance and donations will be collected at the Pat Miller Neighborhood Square at the intersection of Mount Vernon and Oxford Avenues. Join us for the neighborhood themes: \n\nApril 11\, 2024 (Postponed\, then cancelled due to the weather) – Del Ray in Bloom\nMay 2\, 2024 – Dog Days in Del Ray\nJune 6\, 2024 – Jump into Summer\nJuly 11\, 2024 – Red\, White and Blue (Gallery is closed to host Figure Drawing Bootcamp)\nAugust 15\, 2024 (Rescheduled from August 1 due to the weather) – Del Ray Olympics\nSeptember 5\, 2024 – Saddle Up\n\nDel Ray Artisans is a member of Del Ray Business Association.
URL:https://delrayartisans.org/event/first-thursday-sept-2024/
LOCATION:Del Ray Artisans Gallery\, 2704 Mount Vernon Avenue\, Alexandria\, VA\, 22301\, United States
CATEGORIES:Community Event,Program,Youth
ATTACH;FMTTYPE=image/jpeg:https://delrayartisans.org/wp-content/uploads/2023/05/DRBA-FirstThursday-2024.jpg
ORGANIZER;CN="Kelly MacConomy%2C Outreach Director":MAILTO:outreach@delrayartisans.org
END:VEVENT
END:VCALENDAR