BEGIN:VCALENDAR
VERSION:2.0
PRODID:-//Del Ray Artisans - ECPv6.15.20//NONSGML v1.0//EN
CALSCALE:GREGORIAN
METHOD:PUBLISH
X-WR-CALNAME:Del Ray Artisans
X-ORIGINAL-URL:https://delrayartisans.org
X-WR-CALDESC:Events for Del Ray Artisans
REFRESH-INTERVAL;VALUE=DURATION:PT1H
X-Robots-Tag:noindex
X-PUBLISHED-TTL:PT1H
BEGIN:VTIMEZONE
TZID:America/New_York
BEGIN:DAYLIGHT
TZOFFSETFROM:-0500
TZOFFSETTO:-0400
TZNAME:EDT
DTSTART:20230312T070000
END:DAYLIGHT
BEGIN:STANDARD
TZOFFSETFROM:-0400
TZOFFSETTO:-0500
TZNAME:EST
DTSTART:20231105T060000
END:STANDARD
BEGIN:DAYLIGHT
TZOFFSETFROM:-0500
TZOFFSETTO:-0400
TZNAME:EDT
DTSTART:20240310T070000
END:DAYLIGHT
BEGIN:STANDARD
TZOFFSETFROM:-0400
TZOFFSETTO:-0500
TZNAME:EST
DTSTART:20241103T060000
END:STANDARD
BEGIN:DAYLIGHT
TZOFFSETFROM:-0500
TZOFFSETTO:-0400
TZNAME:EDT
DTSTART:20250309T070000
END:DAYLIGHT
BEGIN:STANDARD
TZOFFSETFROM:-0400
TZOFFSETTO:-0500
TZNAME:EST
DTSTART:20251102T060000
END:STANDARD
END:VTIMEZONE
BEGIN:VEVENT
DTSTART;TZID=America/New_York:20240628T170000
DTEND;TZID=America/New_York:20240628T210000
DTSTAMP:20260424T213310
CREATED:20240401T132117Z
LAST-MODIFIED:20240612T130906Z
UID:10001383-1719594000-1719608400@delrayartisans.org
SUMMARY:Party for the Arts #ALX275 at Canal Center Gallery (4/27-6/28/2024)
DESCRIPTION:Photo Album \nThe Alexandria Arts Alliance commemorates the City of Alexandria’s 275th anniversary during the 2nd annual Party for the Arts—a celebration showcasing all artists in Alexandria on Saturday\, April 27\, 11am-7pm at Canal Center\, Alexandria’s waterfront venue in the Old Town North Arts District. The party will feature an art market\, games for children\, local music groups\, singers\, dancers\, poetry readings\, food\, and other live performances. \nDel Ray Artisans is pleased to have its members featured in Alexandria Arts Alliance’s Party for the Arts #ALX275 art exhibit as a part of our Gallery Without Walls program. This juried visual arts exhibition at the Canal Center Gallery features all local visual artists—and their love for Alexandria expressed through art! The exhibit opens during the Party for the Arts and runs through June 28\, 2024. Gallery hours are: \n\nSaturday\, April 27\, 11am-7pm during Party for the Arts\nCANCELLED: Saturday\, May 18\, 11am-4pm during A Vintage Affair on the Plaza\nWednesday\, June 5\, 10am-1pm during Coffee Break\nSaturday\, June 8\, 11am-2pm during the ACT for Alexandria’s 20th Anniversary Celebration\nSaturday\, June 15\, 1-6pm during Art Mart\nFriday\, June 28\, 5-9pm for the Closing Reception\n\nThe Alexandria Arts Alliance is a coalition of arts organizations\, artists and arts advocates that works to advance the arts in Alexandria through advocacy\, collaboration\, education\, and marketing. Del Ray Artisans is a member of Alexandria Arts Alliance. \n\nArtwork credit: Detail of “Fireworks” by TJ Feeley featured in the exhibit. This photograph captures a moment from the fireworks display on Alexandria’s birthday during the annual celebration with the symphony performing in the park.
URL:https://delrayartisans.org/event/party-for-the-arts-2024/
LOCATION:Canal Center Gallery\, 11 Canal Center Plaza\, Alexandria\, VA\, 22314\, United States
CATEGORIES:Art Exhibit,Community Event,Gallery Without Walls
ATTACH;FMTTYPE=image/jpeg:https://delrayartisans.org/wp-content/uploads/2024/04/Fireworks-by-TJ-Feeley-square.jpg
ORGANIZER;CN="Kelly MacConomy%2C Outreach Director":MAILTO:outreach@delrayartisans.org
END:VEVENT
END:VCALENDAR