BEGIN:VCALENDAR
VERSION:2.0
PRODID:-//Del Ray Artisans - ECPv6.15.20//NONSGML v1.0//EN
CALSCALE:GREGORIAN
METHOD:PUBLISH
X-WR-CALNAME:Del Ray Artisans
X-ORIGINAL-URL:https://delrayartisans.org
X-WR-CALDESC:Events for Del Ray Artisans
REFRESH-INTERVAL;VALUE=DURATION:PT1H
X-Robots-Tag:noindex
X-PUBLISHED-TTL:PT1H
BEGIN:VTIMEZONE
TZID:America/New_York
BEGIN:DAYLIGHT
TZOFFSETFROM:-0500
TZOFFSETTO:-0400
TZNAME:EDT
DTSTART:20230312T070000
END:DAYLIGHT
BEGIN:STANDARD
TZOFFSETFROM:-0400
TZOFFSETTO:-0500
TZNAME:EST
DTSTART:20231105T060000
END:STANDARD
BEGIN:DAYLIGHT
TZOFFSETFROM:-0500
TZOFFSETTO:-0400
TZNAME:EDT
DTSTART:20240310T070000
END:DAYLIGHT
BEGIN:STANDARD
TZOFFSETFROM:-0400
TZOFFSETTO:-0500
TZNAME:EST
DTSTART:20241103T060000
END:STANDARD
BEGIN:DAYLIGHT
TZOFFSETFROM:-0500
TZOFFSETTO:-0400
TZNAME:EDT
DTSTART:20250309T070000
END:DAYLIGHT
BEGIN:STANDARD
TZOFFSETFROM:-0400
TZOFFSETTO:-0500
TZNAME:EST
DTSTART:20251102T060000
END:STANDARD
END:VTIMEZONE
BEGIN:VEVENT
DTSTART;TZID=America/New_York:20240517T063000
DTEND;TZID=America/New_York:20240517T093000
DTSTAMP:20260424T225958
CREATED:20240517T171805Z
LAST-MODIFIED:20240517T171805Z
UID:10001414-1715927400-1715938200@delrayartisans.org
SUMMARY:Early Morning Gallery Hours during Bike to Work Day
DESCRIPTION:Del Ray Artisans gallery has early morning hours\, 6:30am to 9:30am\, on Friday\, May 17 to help support Bike to Work Day 2024.  Stop by and see The Art of Tea exhibit now through June 2\, 2024. \nFellow Del Ray Business Association member Vélocity Bicycle Cooperative is hosting the Bike to Work Day 2024 Del Ray pit stop in Colasanto Park\, next to Del Ray Artisans gallery.
URL:https://delrayartisans.org/event/bike-to-work-2024/
LOCATION:Del Ray Artisans Gallery\, 2704 Mount Vernon Avenue\, Alexandria\, VA\, 22301\, United States
CATEGORIES:Community Event
ORGANIZER;CN="Facilities Director":MAILTO:Facilities@DelRayArtisans.org
END:VEVENT
END:VCALENDAR