BEGIN:VCALENDAR
VERSION:2.0
PRODID:-//Del Ray Artisans - ECPv6.15.20//NONSGML v1.0//EN
CALSCALE:GREGORIAN
METHOD:PUBLISH
X-ORIGINAL-URL:https://delrayartisans.org
X-WR-CALDESC:Events for Del Ray Artisans
REFRESH-INTERVAL;VALUE=DURATION:PT1H
X-Robots-Tag:noindex
X-PUBLISHED-TTL:PT1H
BEGIN:VTIMEZONE
TZID:America/New_York
BEGIN:DAYLIGHT
TZOFFSETFROM:-0500
TZOFFSETTO:-0400
TZNAME:EDT
DTSTART:20220313T070000
END:DAYLIGHT
BEGIN:STANDARD
TZOFFSETFROM:-0400
TZOFFSETTO:-0500
TZNAME:EST
DTSTART:20221106T060000
END:STANDARD
BEGIN:DAYLIGHT
TZOFFSETFROM:-0500
TZOFFSETTO:-0400
TZNAME:EDT
DTSTART:20230312T070000
END:DAYLIGHT
BEGIN:STANDARD
TZOFFSETFROM:-0400
TZOFFSETTO:-0500
TZNAME:EST
DTSTART:20231105T060000
END:STANDARD
BEGIN:DAYLIGHT
TZOFFSETFROM:-0500
TZOFFSETTO:-0400
TZNAME:EDT
DTSTART:20240310T070000
END:DAYLIGHT
BEGIN:STANDARD
TZOFFSETFROM:-0400
TZOFFSETTO:-0500
TZNAME:EST
DTSTART:20241103T060000
END:STANDARD
END:VTIMEZONE
BEGIN:VEVENT
DTSTART;TZID=America/New_York:20231118T130000
DTEND;TZID=America/New_York:20231118T160000
DTSTAMP:20260425T170339
CREATED:20230808T145759Z
LAST-MODIFIED:20231024T142831Z
UID:10001110-1700312400-1700323200@delrayartisans.org
SUMMARY:Meet and Greet: Aussie Rescue of the Mid-Atlantic
DESCRIPTION:Considering adding a dog as a housemate? Please join us on Saturday\, November 18 from 1–4pm to meet the volunteers from Aussie Rescue of the Mid-Atlantic. This Del Ray based organization can help you decide if the smart\, exuberant\, eager to please Australian Shepherd is your perfect housemate. \nIn addition\, you may drop off donations for this rescue group in the designated box in the entryway of Del Ray Artisans gallery during the Housemates exhibit from November 3–26\, 2023. Aussie Rescue of the Mid-Atlantic is asking for: \n\nDog toys\nLeashes\nCollars\nHarnesses\nFunds (online through their website)\n\nThank you for your support! \nThis event is held in conjunction with the Housemates art exhibit.
URL:https://delrayartisans.org/event/aussie-rescue/
LOCATION:Del Ray Artisans Gallery\, 2704 Mount Vernon Avenue\, Alexandria\, VA\, 22301\, United States
CATEGORIES:Community Event,Program
ATTACH;FMTTYPE=image/jpeg:https://delrayartisans.org/wp-content/uploads/2023/08/ARMA.jpg
ORGANIZER;CN="Robyn Seaton McGarry":MAILTO:robynmcgarry15@gmail.com
END:VEVENT
END:VCALENDAR