BEGIN:VCALENDAR
VERSION:2.0
PRODID:-//Del Ray Artisans - ECPv6.15.20//NONSGML v1.0//EN
CALSCALE:GREGORIAN
METHOD:PUBLISH
X-ORIGINAL-URL:https://delrayartisans.org
X-WR-CALDESC:Events for Del Ray Artisans
REFRESH-INTERVAL;VALUE=DURATION:PT1H
X-Robots-Tag:noindex
X-PUBLISHED-TTL:PT1H
BEGIN:VTIMEZONE
TZID:America/New_York
BEGIN:DAYLIGHT
TZOFFSETFROM:-0500
TZOFFSETTO:-0400
TZNAME:EDT
DTSTART:20220313T070000
END:DAYLIGHT
BEGIN:STANDARD
TZOFFSETFROM:-0400
TZOFFSETTO:-0500
TZNAME:EST
DTSTART:20221106T060000
END:STANDARD
BEGIN:DAYLIGHT
TZOFFSETFROM:-0500
TZOFFSETTO:-0400
TZNAME:EDT
DTSTART:20230312T070000
END:DAYLIGHT
BEGIN:STANDARD
TZOFFSETFROM:-0400
TZOFFSETTO:-0500
TZNAME:EST
DTSTART:20231105T060000
END:STANDARD
BEGIN:DAYLIGHT
TZOFFSETFROM:-0500
TZOFFSETTO:-0400
TZNAME:EDT
DTSTART:20240310T070000
END:DAYLIGHT
BEGIN:STANDARD
TZOFFSETFROM:-0400
TZOFFSETTO:-0500
TZNAME:EST
DTSTART:20241103T060000
END:STANDARD
END:VTIMEZONE
BEGIN:VEVENT
DTSTART;TZID=America/New_York:20231015T110000
DTEND;TZID=America/New_York:20231015T160000
DTSTAMP:20260425T231911
CREATED:20230919T150646Z
LAST-MODIFIED:20231014T144414Z
UID:10001121-1697367600-1697385600@delrayartisans.org
SUMMARY:Paws in the Park 2023
DESCRIPTION:Join us at the Paws in the Park outdoor festival! This event is fun for the whole family\, featuring entertainment\, activities\, animal-themed vendors\, and\, of course\, a whole lot of adorable adoptables. \nDel Ray Artisans will have a tent with pet-inspired artwork from member Joyce Wagner (Reinvented Elegance)\, as well as information about current and upcoming events. Please stop by and say hello! \nThe block party is in the Oronoco Bay Park. This free event is open to the community; well-behaved leashed pets are welcome to attend (no Flexi leashes please). \nDel Ray Artisans’ Gallery Without Walls partner VCA Alexandria Animal Hospital is a sponsor of Paws in the Park. Stop by the animal hospital (2660 Duke Street\, Alexandria\, VA 22314) during regular business hours (Monday-Friday 8am-8pm\, Saturday 8am-6pm) to see the new 12 Elements of Nature art exhibit by Del Ray Artisans members. \nArtwork credit: “Wagging Woofers I ” by Joyce Wagner
URL:https://delrayartisans.org/event/paws-in-the-park-2023/
LOCATION:Oronoco Bay Park\, 100 Madison Street\, Alexandria\, VA\, 22314\, United States
CATEGORIES:Community Event
ATTACH;FMTTYPE=image/jpeg:https://delrayartisans.org/wp-content/uploads/2022/09/Wagging-Woofers-I-by-Joyce-Wagner.jpeg
END:VEVENT
END:VCALENDAR