BEGIN:VCALENDAR
VERSION:2.0
PRODID:-//Del Ray Artisans - ECPv6.15.20//NONSGML v1.0//EN
CALSCALE:GREGORIAN
METHOD:PUBLISH
X-ORIGINAL-URL:https://delrayartisans.org
X-WR-CALDESC:Events for Del Ray Artisans
REFRESH-INTERVAL;VALUE=DURATION:PT1H
X-Robots-Tag:noindex
X-PUBLISHED-TTL:PT1H
BEGIN:VTIMEZONE
TZID:America/New_York
BEGIN:DAYLIGHT
TZOFFSETFROM:-0500
TZOFFSETTO:-0400
TZNAME:EDT
DTSTART:20220313T070000
END:DAYLIGHT
BEGIN:STANDARD
TZOFFSETFROM:-0400
TZOFFSETTO:-0500
TZNAME:EST
DTSTART:20221106T060000
END:STANDARD
BEGIN:DAYLIGHT
TZOFFSETFROM:-0500
TZOFFSETTO:-0400
TZNAME:EDT
DTSTART:20230312T070000
END:DAYLIGHT
BEGIN:STANDARD
TZOFFSETFROM:-0400
TZOFFSETTO:-0500
TZNAME:EST
DTSTART:20231105T060000
END:STANDARD
BEGIN:DAYLIGHT
TZOFFSETFROM:-0500
TZOFFSETTO:-0400
TZNAME:EDT
DTSTART:20240310T070000
END:DAYLIGHT
BEGIN:STANDARD
TZOFFSETFROM:-0400
TZOFFSETTO:-0500
TZNAME:EST
DTSTART:20241103T060000
END:STANDARD
END:VTIMEZONE
BEGIN:VEVENT
DTSTART;TZID=America/New_York:20231007T100000
DTEND;TZID=America/New_York:20231007T180000
DTSTAMP:20260425T231818
CREATED:20230324T194634Z
LAST-MODIFIED:20231004T202330Z
UID:10000127-1696672800-1696701600@delrayartisans.org
SUMMARY:Art on the Avenue 2023
DESCRIPTION:Along Mount Vernon Avenue in Del Ray on Saturday\, October 7\, 2023 from 10am-6pm\, you’ll find: Art on the Avenue\, a multicultural arts festival celebrating our community’s diversity through the arts in Alexandria\, Virginia. There will be entertainment for all ages\, art activities\, food\, and artists displaying and selling their work all along Mount Vernon Avenue. Art on the Avenue is sponsored by the Del Ray Business Association. \nArtist Demos\, Activities\, and Art Exhibit\nDirectly in front of the gallery during Art on the Avenue\, Del Ray Artisans will present artist demonstrations\, sell handcrafted greeting cards and art by local artists\, and share information about our nonprofit organization (booths W-193 and W-194). Come visit our tent for these activities: \n\n10-11am – Foam “swords” check-in for CHALLENGE ROYALE\n11am-2pm – Mosaic making demo by Nina Tisara\n2-5:30pm – Batik silk painting demo by Cheryl VanderMolen Neway\n\nCome in costume with a pool noodle ‘sword’ to the Curses! Foiled Again! CHALLENGE ROYALE during Art on the Avenue. Meet at 10am in front of the gallery (2704 Mount Vernon Avenue\, Alexandria VA) and present your pool noodle ‘sword’ for inspection and registration. The challenge begins at 11am on the playing fields of the Mount Vernon Rec Center next to the gallery. When challenged by another costumed participant\, you may yield or duel! Inflatable ‘swords’ are also allowed. No other foam\, wood\, rubber or metal allowed. This is a KID-FRIENDLY event for ages 6+. \nInside the gallery\, you’ll find the Curses! Foiled Again! The Art of Swords and Sorcery art exhibit\, as well as our Alcove Gift Shop\, both featuring art by local artists. \nSupport Del Ray Artisans Members\, Local Artists\nMany Del Ray Artisans members are juried into Art on the Avenue. Please be sure to visit their booths: \n\nBridget Anthony-Hlioui (Booth E-50; Ceramics & Pottery)\nBhavani Arabandi (Booth E-34; Ceramics & Pottery)\nVictoria Barnes (Booth W-12; Photography)\nTara Barr (Booth W-164; Painting)\nLynn Chadwick (Booth W-163; Jewelry)\nRita Cohen (Booth E-79; Fiber)\nPatti Durbin (Booth W-192; Mixed Media)\nEllen Hamilton\, Yellow Dot Shop (Booth E-49; Accessories & Bags)\nDaniel Horowitz (Booth W-53; Photography)\nBetsy Jones (Booth W-137; Mixed Media)\nAnnette Kramer (Booth W-52; Jewelry)\nAnnemarie Kuhns (Booth E-173; Books & Paper)\nStacy Laine (Booth E-103; Jewelry)\nStephen Lally (Booth E-61; Ceramics & Pottery)\nDiana Manchak (Booth W-47; Ceramics & Pottery)\nLaurel Prucha Moran (Booth E-51; Painting)\nJenny Nicholson (Booth W-190; Mixed Media)\nDiana Papazian (Booth W-84; Jewelry)\nMary Pike (Booth W-215; Accessories & Bags)\nCorrin Pumphrey (Booth W-214; Painting)\nRobin Reid (Booth W-49; Glass)\nEdith Sanabria (Booth E-126; Painting)\nKellie Sansone (Booth E-54; Painting)\nAlexandra Schmeling (Booth W-124; Painting)\nJoyce Wagner (Booth W-182; Jewelry)\nTamara Wilkerson (Booth W-14; Jewelry)\n\nFor more information on Art on the Avenue\, visit: www.artontheavenue.org \n\nPhoto courtesy of Kelly M. MacConomy (2019)
URL:https://delrayartisans.org/event/art-on-the-avenue-2023/
LOCATION:Del Ray Artisans Gallery\, 2704 Mount Vernon Avenue\, Alexandria\, VA\, 22301\, United States
CATEGORIES:Community Event
ATTACH;FMTTYPE=image/jpeg:https://delrayartisans.org/wp-content/uploads/2019/10/AoA-by-Kelly-MacConomy.jpg
ORGANIZER;CN="Kelly MacConomy":MAILTO:kmacconomy@gmail.com
END:VEVENT
END:VCALENDAR