BEGIN:VCALENDAR
VERSION:2.0
PRODID:-//Del Ray Artisans - ECPv6.15.20//NONSGML v1.0//EN
CALSCALE:GREGORIAN
METHOD:PUBLISH
X-WR-CALNAME:Del Ray Artisans
X-ORIGINAL-URL:https://delrayartisans.org
X-WR-CALDESC:Events for Del Ray Artisans
REFRESH-INTERVAL;VALUE=DURATION:PT1H
X-Robots-Tag:noindex
X-PUBLISHED-TTL:PT1H
BEGIN:VTIMEZONE
TZID:America/New_York
BEGIN:DAYLIGHT
TZOFFSETFROM:-0500
TZOFFSETTO:-0400
TZNAME:EDT
DTSTART:20220313T070000
END:DAYLIGHT
BEGIN:STANDARD
TZOFFSETFROM:-0400
TZOFFSETTO:-0500
TZNAME:EST
DTSTART:20221106T060000
END:STANDARD
BEGIN:DAYLIGHT
TZOFFSETFROM:-0500
TZOFFSETTO:-0400
TZNAME:EDT
DTSTART:20230312T070000
END:DAYLIGHT
BEGIN:STANDARD
TZOFFSETFROM:-0400
TZOFFSETTO:-0500
TZNAME:EST
DTSTART:20231105T060000
END:STANDARD
BEGIN:DAYLIGHT
TZOFFSETFROM:-0500
TZOFFSETTO:-0400
TZNAME:EDT
DTSTART:20240310T070000
END:DAYLIGHT
BEGIN:STANDARD
TZOFFSETFROM:-0400
TZOFFSETTO:-0500
TZNAME:EST
DTSTART:20241103T060000
END:STANDARD
END:VTIMEZONE
BEGIN:VEVENT
DTSTART;TZID=America/New_York:20230907T180000
DTEND;TZID=America/New_York:20230907T200000
DTSTAMP:20260425T231748
CREATED:20230516T153521Z
LAST-MODIFIED:20230907T181309Z
UID:10000157-1694109600-1694116800@delrayartisans.org
SUMMARY:First Thursday RESCHEDULED to October 5
DESCRIPTION:Due to the projected thunderstorms\, the last First Thursday of 2023 has been rescheduled from September 7 to October 5. \nThe gallery will still be open late on September 7 from 12-9pm. \nCome inside Del Ray Artisans gallery to see the Farther Afield art exhibit. Del Ray Artisans gallery is open 12-9pm on First Thursdays from April through September. \n\nEvery year from April through September Del Ray Business Association celebrates First Thursday\, a Del Ray community event along Mount Vernon Avenue from 6pm until dusk on the first Thursday of the month. Join us for these neighborhood themes: \n\nApril 13\, 2023 (rescheduled from April 6 due to the rain) – A Cherry Blossom Celebration\nMay 4\, 2023 – Dog Days in Del Ray\nJune 1\, 2023 – Baseball – Every Pitch Counts!\nJuly 6\, 2023 – Red\, White\, & Brews (Gallery is closed; no outdoor activity)\nAugust 3\, 2023 – A Country Music Showdown\nOctober 5\, 2023 (rescheduled from Sept 7 due to thunderstorms) – Star Wars Day in a Neighborhood Far\, Far Away
URL:https://delrayartisans.org/event/first-thursday-sept-2023/
LOCATION:Del Ray Artisans Gallery\, 2704 Mount Vernon Avenue\, Alexandria\, VA\, 22301\, United States
CATEGORIES:Community Event,Program
ATTACH;FMTTYPE=image/jpeg:https://delrayartisans.org/wp-content/uploads/2023/03/DRBA-FirstThursday-2023.jpg
ORGANIZER;CN="Kelly MacConomy%2C Outreach Director":MAILTO:outreach@delrayartisans.org
END:VEVENT
END:VCALENDAR