BEGIN:VCALENDAR
VERSION:2.0
PRODID:-//Del Ray Artisans - ECPv6.15.20//NONSGML v1.0//EN
CALSCALE:GREGORIAN
METHOD:PUBLISH
X-ORIGINAL-URL:https://delrayartisans.org
X-WR-CALDESC:Events for Del Ray Artisans
REFRESH-INTERVAL;VALUE=DURATION:PT1H
X-Robots-Tag:noindex
X-PUBLISHED-TTL:PT1H
BEGIN:VTIMEZONE
TZID:America/New_York
BEGIN:DAYLIGHT
TZOFFSETFROM:-0500
TZOFFSETTO:-0400
TZNAME:EDT
DTSTART:20180311T070000
END:DAYLIGHT
BEGIN:STANDARD
TZOFFSETFROM:-0400
TZOFFSETTO:-0500
TZNAME:EST
DTSTART:20181104T060000
END:STANDARD
BEGIN:DAYLIGHT
TZOFFSETFROM:-0500
TZOFFSETTO:-0400
TZNAME:EDT
DTSTART:20190310T070000
END:DAYLIGHT
BEGIN:STANDARD
TZOFFSETFROM:-0400
TZOFFSETTO:-0500
TZNAME:EST
DTSTART:20191103T060000
END:STANDARD
BEGIN:DAYLIGHT
TZOFFSETFROM:-0500
TZOFFSETTO:-0400
TZNAME:EDT
DTSTART:20200308T070000
END:DAYLIGHT
BEGIN:STANDARD
TZOFFSETFROM:-0400
TZOFFSETTO:-0500
TZNAME:EST
DTSTART:20201101T060000
END:STANDARD
END:VTIMEZONE
BEGIN:VEVENT
DTSTART;TZID=America/New_York:20190709T190000
DTEND;TZID=America/New_York:20190709T210000
DTSTAMP:20260423T125337
CREATED:20230410T143802Z
LAST-MODIFIED:20230410T143802Z
UID:10000903-1562698800-1562706000@delrayartisans.org
SUMMARY:Board Meeting (July 2019)
DESCRIPTION:Active members are welcome to visit any Board meeting. If you wish to address the Board or bring something up to the Board during one of these meetings\, contact Kathryn Brown at Secretary@DelRayArtisans.org in advance of the meeting to be included on the agenda.
URL:https://delrayartisans.org/event/board-meeting-july-2019/
LOCATION:Del Ray Artisans Gallery\, 2704 Mount Vernon Avenue\, Alexandria\, VA\, 22301\, United States
CATEGORIES:Board Meeting,Meeting
ATTACH;FMTTYPE=image/jpeg:https://delrayartisans.org/wp-content/uploads/1992/12/event-archive-image.jpg
END:VEVENT
BEGIN:VEVENT
DTSTART;TZID=America/New_York:20190611T190000
DTEND;TZID=America/New_York:20190611T210000
DTSTAMP:20260423T125337
CREATED:20230410T143659Z
LAST-MODIFIED:20230410T143659Z
UID:10000882-1560279600-1560286800@delrayartisans.org
SUMMARY:Board Meeting (June 2019)
DESCRIPTION:Active members are welcome to visit any Board meeting. If you wish to address the Board or bring something up to the Board during one of these meetings\, contact Kathryn Brown at Secretary@DelRayArtisans.org in advance of the meeting to be included on the agenda.
URL:https://delrayartisans.org/event/board-meeting-june-2019/
LOCATION:Del Ray Artisans Gallery\, 2704 Mount Vernon Avenue\, Alexandria\, VA\, 22301\, United States
CATEGORIES:Board Meeting,Meeting
ATTACH;FMTTYPE=image/jpeg:https://delrayartisans.org/wp-content/uploads/1992/12/event-archive-image.jpg
END:VEVENT
BEGIN:VEVENT
DTSTART;TZID=America/New_York:20190514T184500
DTEND;TZID=America/New_York:20190514T204500
DTSTAMP:20260423T125337
CREATED:20230410T143554Z
LAST-MODIFIED:20230410T143554Z
UID:10000860-1557859500-1557866700@delrayartisans.org
SUMMARY:Board Meeting (May 2019)
DESCRIPTION:The May 2019 Board Meeting will be held at the Mount Vernon Recreation Center (2701 Commonwealth Ave\, Alexandria VA 22305) and will start at 6:45pm. \nActive members are welcome to visit any Board meeting. If you wish to address the Board or bring something up to the Board during one of these meetings\, contact Kathryn Brown at Secretary@DelRayArtisans.org in advance of the meeting to be included on the agenda.
URL:https://delrayartisans.org/event/board-meeting-may-2019/
CATEGORIES:Board Meeting,Meeting
ATTACH;FMTTYPE=image/jpeg:https://delrayartisans.org/wp-content/uploads/1992/12/event-archive-image.jpg
END:VEVENT
BEGIN:VEVENT
DTSTART;TZID=America/New_York:20190409T194500
DTEND;TZID=America/New_York:20190409T210000
DTSTAMP:20260423T125337
CREATED:20230410T143211Z
LAST-MODIFIED:20230410T143211Z
UID:10000838-1554839100-1554843600@delrayartisans.org
SUMMARY:Board Meeting (April 2019)
DESCRIPTION:Due to An ART-rageous Celebration event\, the April 9th Board meeting will start at 7:45pm. \nActive members are welcome to visit any Board meeting. If you wish to address the Board or bring something up to the Board during one of these meetings\, contact Kathryn Brown at Secretary@DelRayArtisans.org in advance of the meeting to be included on the agenda.
URL:https://delrayartisans.org/event/board-meeting-april-2019/
LOCATION:Del Ray Artisans Gallery\, 2704 Mount Vernon Avenue\, Alexandria\, VA\, 22301\, United States
CATEGORIES:Board Meeting,Meeting
ATTACH;FMTTYPE=image/jpeg:https://delrayartisans.org/wp-content/uploads/1992/12/event-archive-image.jpg
END:VEVENT
BEGIN:VEVENT
DTSTART;TZID=America/New_York:20190312T190000
DTEND;TZID=America/New_York:20190312T210000
DTSTAMP:20260423T125337
CREATED:20230410T142758Z
LAST-MODIFIED:20230410T142758Z
UID:10000824-1552417200-1552424400@delrayartisans.org
SUMMARY:Board Meeting (March 2019)
DESCRIPTION:Active members are welcome to visit any Board meeting. If you wish to address the Board or bring something up to the Board during one of these meetings\, contact Kathryn Brown at Secretary@DelRayArtisans.org in advance of the meeting to be included on the agenda.
URL:https://delrayartisans.org/event/board-meeting-march-2019/
LOCATION:Del Ray Artisans Gallery\, 2704 Mount Vernon Avenue\, Alexandria\, VA\, 22301\, United States
CATEGORIES:Board Meeting,Meeting
ATTACH;FMTTYPE=image/jpeg:https://delrayartisans.org/wp-content/uploads/1992/12/event-archive-image.jpg
END:VEVENT
BEGIN:VEVENT
DTSTART;TZID=America/New_York:20190212T190000
DTEND;TZID=America/New_York:20190212T210000
DTSTAMP:20260423T125337
CREATED:20230410T142158Z
LAST-MODIFIED:20230410T142158Z
UID:10000809-1549998000-1550005200@delrayartisans.org
SUMMARY:Board Meeting (Feb 2019)
DESCRIPTION:The February 12th meeting will be off-site. \nActive members are welcome to visit any Board meeting. If you wish to address the Board or bring something up to the Board during one of these meetings\, contact Kathryn Brown at Secretary@DelRayArtisans.org in advance of the meeting to be included on the agenda.
URL:https://delrayartisans.org/event/board-meeting-feb-2019/
CATEGORIES:Board Meeting,Meeting
ATTACH;FMTTYPE=image/jpeg:https://delrayartisans.org/wp-content/uploads/1992/12/event-archive-image.jpg
END:VEVENT
BEGIN:VEVENT
DTSTART;TZID=America/New_York:20190108T190000
DTEND;TZID=America/New_York:20190108T210000
DTSTAMP:20260423T125337
CREATED:20230409T161130Z
LAST-MODIFIED:20230409T163224Z
UID:10000771-1546974000-1546981200@delrayartisans.org
SUMMARY:Board Meeting (Jan 2019)
DESCRIPTION:Active members are welcome to visit any Board meeting. If you wish to address the Board or bring something up to the Board during one of these meetings\, contact Kathryn Brown at Secretary@DelRayArtisans.org in advance of the meeting to be included on the agenda.
URL:https://delrayartisans.org/event/board-meeting-jan-2019/
LOCATION:Del Ray Artisans Gallery\, 2704 Mount Vernon Avenue\, Alexandria\, VA\, 22301\, United States
CATEGORIES:Board Meeting,Meeting
ATTACH;FMTTYPE=image/jpeg:https://delrayartisans.org/wp-content/uploads/1992/12/event-archive-image.jpg
END:VEVENT
END:VCALENDAR