BEGIN:VCALENDAR
VERSION:2.0
PRODID:-//Del Ray Artisans - ECPv6.15.20//NONSGML v1.0//EN
CALSCALE:GREGORIAN
METHOD:PUBLISH
X-ORIGINAL-URL:https://delrayartisans.org
X-WR-CALDESC:Events for Del Ray Artisans
REFRESH-INTERVAL;VALUE=DURATION:PT1H
X-Robots-Tag:noindex
X-PUBLISHED-TTL:PT1H
BEGIN:VTIMEZONE
TZID:America/New_York
BEGIN:DAYLIGHT
TZOFFSETFROM:-0500
TZOFFSETTO:-0400
TZNAME:EDT
DTSTART:20180311T070000
END:DAYLIGHT
BEGIN:STANDARD
TZOFFSETFROM:-0400
TZOFFSETTO:-0500
TZNAME:EST
DTSTART:20181104T060000
END:STANDARD
BEGIN:DAYLIGHT
TZOFFSETFROM:-0500
TZOFFSETTO:-0400
TZNAME:EDT
DTSTART:20190310T070000
END:DAYLIGHT
BEGIN:STANDARD
TZOFFSETFROM:-0400
TZOFFSETTO:-0500
TZNAME:EST
DTSTART:20191103T060000
END:STANDARD
BEGIN:DAYLIGHT
TZOFFSETFROM:-0500
TZOFFSETTO:-0400
TZNAME:EDT
DTSTART:20200308T070000
END:DAYLIGHT
BEGIN:STANDARD
TZOFFSETFROM:-0400
TZOFFSETTO:-0500
TZNAME:EST
DTSTART:20201101T060000
END:STANDARD
BEGIN:DAYLIGHT
TZOFFSETFROM:-0500
TZOFFSETTO:-0400
TZNAME:EDT
DTSTART:20210314T070000
END:DAYLIGHT
BEGIN:STANDARD
TZOFFSETFROM:-0400
TZOFFSETTO:-0500
TZNAME:EST
DTSTART:20211107T060000
END:STANDARD
BEGIN:DAYLIGHT
TZOFFSETFROM:-0500
TZOFFSETTO:-0400
TZNAME:EDT
DTSTART:20220313T070000
END:DAYLIGHT
BEGIN:STANDARD
TZOFFSETFROM:-0400
TZOFFSETTO:-0500
TZNAME:EST
DTSTART:20221106T060000
END:STANDARD
END:VTIMEZONE
BEGIN:VEVENT
DTSTART;TZID=America/New_York:20210608T190000
DTEND;TZID=America/New_York:20210608T210000
DTSTAMP:20260423T093245
CREATED:20230330T151148Z
LAST-MODIFIED:20231130T205555Z
UID:10000576-1623178800-1623186000@delrayartisans.org
SUMMARY:ONLINE: Board Meeting (2021)
DESCRIPTION:This Board meeting will a virtual session. \nActive members are welcome to visit any Board meeting. If you wish to address the Board or bring something up to the Board during one of these meetings\, contact Kathryn Brown at Secretary@DelRayArtisans.org at least in four days advance of the meeting to be included on the agenda.
URL:https://delrayartisans.org/event/board-meeting-2021-online/2021-06-08/
LOCATION:Online
CATEGORIES:Board Meeting,Meeting
ATTACH;FMTTYPE=image/jpeg:https://delrayartisans.org/wp-content/uploads/2021/05/board-meeting-2021.jpg
ORGANIZER;CN="Kathryn Brown%2C Secretary":MAILTO:secretary@delrayartisans.org
END:VEVENT
BEGIN:VEVENT
DTSTART;TZID=America/New_York:20210511T190000
DTEND;TZID=America/New_York:20210511T210000
DTSTAMP:20260423T093245
CREATED:20230330T151148Z
LAST-MODIFIED:20231130T205555Z
UID:10000575-1620759600-1620766800@delrayartisans.org
SUMMARY:ONLINE: Board Meeting (2021)
DESCRIPTION:This Board meeting will a virtual session. \nActive members are welcome to visit any Board meeting. If you wish to address the Board or bring something up to the Board during one of these meetings\, contact Kathryn Brown at Secretary@DelRayArtisans.org at least in four days advance of the meeting to be included on the agenda.
URL:https://delrayartisans.org/event/board-meeting-2021-online/2021-05-11/
LOCATION:Online
CATEGORIES:Board Meeting,Meeting
ATTACH;FMTTYPE=image/jpeg:https://delrayartisans.org/wp-content/uploads/2021/05/board-meeting-2021.jpg
ORGANIZER;CN="Kathryn Brown%2C Secretary":MAILTO:secretary@delrayartisans.org
END:VEVENT
BEGIN:VEVENT
DTSTART;TZID=America/New_York:20210413T190000
DTEND;TZID=America/New_York:20210413T210000
DTSTAMP:20260423T093245
CREATED:20230330T151148Z
LAST-MODIFIED:20231130T205555Z
UID:10000574-1618340400-1618347600@delrayartisans.org
SUMMARY:ONLINE: Board Meeting (2021)
DESCRIPTION:This Board meeting will a virtual session. \nActive members are welcome to visit any Board meeting. If you wish to address the Board or bring something up to the Board during one of these meetings\, contact Kathryn Brown at Secretary@DelRayArtisans.org at least in four days advance of the meeting to be included on the agenda.
URL:https://delrayartisans.org/event/board-meeting-2021-online/2021-04-13/
LOCATION:Online
CATEGORIES:Board Meeting,Meeting
ATTACH;FMTTYPE=image/jpeg:https://delrayartisans.org/wp-content/uploads/2021/05/board-meeting-2021.jpg
ORGANIZER;CN="Kathryn Brown%2C Secretary":MAILTO:secretary@delrayartisans.org
END:VEVENT
BEGIN:VEVENT
DTSTART;TZID=America/New_York:20210309T190000
DTEND;TZID=America/New_York:20210309T210000
DTSTAMP:20260423T093245
CREATED:20230330T151148Z
LAST-MODIFIED:20231130T205555Z
UID:10000573-1615316400-1615323600@delrayartisans.org
SUMMARY:ONLINE: Board Meeting (2021)
DESCRIPTION:This Board meeting will a virtual session. \nActive members are welcome to visit any Board meeting. If you wish to address the Board or bring something up to the Board during one of these meetings\, contact Kathryn Brown at Secretary@DelRayArtisans.org at least in four days advance of the meeting to be included on the agenda.
URL:https://delrayartisans.org/event/board-meeting-2021-online/2021-03-09/
LOCATION:Online
CATEGORIES:Board Meeting,Meeting
ATTACH;FMTTYPE=image/jpeg:https://delrayartisans.org/wp-content/uploads/2021/05/board-meeting-2021.jpg
ORGANIZER;CN="Kathryn Brown%2C Secretary":MAILTO:secretary@delrayartisans.org
END:VEVENT
BEGIN:VEVENT
DTSTART;TZID=America/New_York:20210209T190000
DTEND;TZID=America/New_York:20210209T210000
DTSTAMP:20260423T093245
CREATED:20230330T151148Z
LAST-MODIFIED:20231130T205555Z
UID:10000572-1612897200-1612904400@delrayartisans.org
SUMMARY:ONLINE: Board Meeting (2021)
DESCRIPTION:This Board meeting will a virtual session. \nActive members are welcome to visit any Board meeting. If you wish to address the Board or bring something up to the Board during one of these meetings\, contact Kathryn Brown at Secretary@DelRayArtisans.org at least in four days advance of the meeting to be included on the agenda.
URL:https://delrayartisans.org/event/board-meeting-2021-online/2021-02-09/
LOCATION:Online
CATEGORIES:Board Meeting,Meeting
ATTACH;FMTTYPE=image/jpeg:https://delrayartisans.org/wp-content/uploads/2021/05/board-meeting-2021.jpg
ORGANIZER;CN="Kathryn Brown%2C Secretary":MAILTO:secretary@delrayartisans.org
END:VEVENT
BEGIN:VEVENT
DTSTART;TZID=America/New_York:20210112T190000
DTEND;TZID=America/New_York:20210112T210000
DTSTAMP:20260423T093245
CREATED:20230330T151148Z
LAST-MODIFIED:20231130T205555Z
UID:10000571-1610478000-1610485200@delrayartisans.org
SUMMARY:ONLINE: Board Meeting (2021)
DESCRIPTION:This Board meeting will a virtual session. \nActive members are welcome to visit any Board meeting. If you wish to address the Board or bring something up to the Board during one of these meetings\, contact Kathryn Brown at Secretary@DelRayArtisans.org at least in four days advance of the meeting to be included on the agenda.
URL:https://delrayartisans.org/event/board-meeting-2021-online/2021-01-12/
LOCATION:Online
CATEGORIES:Board Meeting,Meeting
ATTACH;FMTTYPE=image/jpeg:https://delrayartisans.org/wp-content/uploads/2021/05/board-meeting-2021.jpg
ORGANIZER;CN="Kathryn Brown%2C Secretary":MAILTO:secretary@delrayartisans.org
END:VEVENT
BEGIN:VEVENT
DTSTART;TZID=America/New_York:20201208T190000
DTEND;TZID=America/New_York:20201208T210000
DTSTAMP:20260423T093245
CREATED:20230331T212732Z
LAST-MODIFIED:20231130T205320Z
UID:10000761-1607454000-1607461200@delrayartisans.org
SUMMARY:ONLINE: Board Meeting (Dec 2020)
DESCRIPTION:This Board meeting will a virtual session. \nActive members are welcome to visit any Board meeting. If you wish to address the Board or bring something up to the Board during one of these meetings\, contact Kathryn Brown at Secretary@DelRayArtisans.org at least in four days advance of the meeting to be included on the agenda.
URL:https://delrayartisans.org/event/board-meeting-dec-2020/
LOCATION:Online
CATEGORIES:Board Meeting,Meeting
ATTACH;FMTTYPE=image/jpeg:https://delrayartisans.org/wp-content/uploads/2020/03/board-meeting-may-2020.jpg
END:VEVENT
BEGIN:VEVENT
DTSTART;TZID=America/New_York:20201110T190000
DTEND;TZID=America/New_York:20201110T210000
DTSTAMP:20260423T093245
CREATED:20230331T212702Z
LAST-MODIFIED:20231130T205330Z
UID:10000751-1605034800-1605042000@delrayartisans.org
SUMMARY:ONLINE: Board Meeting (Nov 2020)
DESCRIPTION:This Board meeting will a virtual session. \nActive members are welcome to visit any Board meeting. If you wish to address the Board or bring something up to the Board during one of these meetings\, contact Kathryn Brown at Secretary@DelRayArtisans.org at least in four days advance of the meeting to be included on the agenda.
URL:https://delrayartisans.org/event/board-meeting-nov-2020/
LOCATION:Online
CATEGORIES:Board Meeting,Meeting
ATTACH;FMTTYPE=image/jpeg:https://delrayartisans.org/wp-content/uploads/2020/03/board-meeting-may-2020.jpg
END:VEVENT
BEGIN:VEVENT
DTSTART;TZID=America/New_York:20201013T190000
DTEND;TZID=America/New_York:20201013T210000
DTSTAMP:20260423T093245
CREATED:20230331T212620Z
LAST-MODIFIED:20231130T205358Z
UID:10000739-1602615600-1602622800@delrayartisans.org
SUMMARY:ONLINE: Board Meeting (Oct 2020)
DESCRIPTION:This Board meeting will a virtual session. \nActive members are welcome to visit any Board meeting. If you wish to address the Board or bring something up to the Board during one of these meetings\, contact Kathryn Brown at Secretary@DelRayArtisans.org at least in four days advance of the meeting to be included on the agenda.
URL:https://delrayartisans.org/event/board-meeting-oct-2020/
LOCATION:Online
CATEGORIES:Board Meeting,Meeting
ATTACH;FMTTYPE=image/jpeg:https://delrayartisans.org/wp-content/uploads/2020/03/board-meeting-may-2020.jpg
END:VEVENT
BEGIN:VEVENT
DTSTART;TZID=America/New_York:20200908T190000
DTEND;TZID=America/New_York:20200908T210000
DTSTAMP:20260423T093245
CREATED:20230331T212539Z
LAST-MODIFIED:20231130T205347Z
UID:10000725-1599591600-1599598800@delrayartisans.org
SUMMARY:ONLINE: Board Meeting (Sept 2020)
DESCRIPTION:This Board meeting will a virtual session. \nActive members are welcome to visit any Board meeting. If you wish to address the Board or bring something up to the Board during one of these meetings\, contact Kathryn Brown at Secretary@DelRayArtisans.org at least in four days advance of the meeting to be included on the agenda.
URL:https://delrayartisans.org/event/board-meeting-sept-2020/
LOCATION:Online
CATEGORIES:Board Meeting,Meeting
ATTACH;FMTTYPE=image/jpeg:https://delrayartisans.org/wp-content/uploads/2020/03/board-meeting-may-2020.jpg
END:VEVENT
BEGIN:VEVENT
DTSTART;TZID=America/New_York:20200811T190000
DTEND;TZID=America/New_York:20200811T210000
DTSTAMP:20260423T093245
CREATED:20230331T212428Z
LAST-MODIFIED:20231130T205414Z
UID:10000704-1597172400-1597179600@delrayartisans.org
SUMMARY:ONLINE: Board Meeting (Aug 2020)
DESCRIPTION:This Board meeting will a virtual session. \nActive members are welcome to visit any Board meeting. If you wish to address the Board or bring something up to the Board during one of these meetings\, contact Kathryn Brown at Secretary@DelRayArtisans.org at least in four days advance of the meeting to be included on the agenda.
URL:https://delrayartisans.org/event/board-meeting-aug-2020/
LOCATION:Online
CATEGORIES:Board Meeting,Meeting
ATTACH;FMTTYPE=image/jpeg:https://delrayartisans.org/wp-content/uploads/2020/03/board-meeting-may-2020.jpg
END:VEVENT
BEGIN:VEVENT
DTSTART;TZID=America/New_York:20200714T190000
DTEND;TZID=America/New_York:20200714T210000
DTSTAMP:20260423T093245
CREATED:20230331T212354Z
LAST-MODIFIED:20231130T205425Z
UID:10000693-1594753200-1594760400@delrayartisans.org
SUMMARY:ONLINE: Board Meeting (July 2020)
DESCRIPTION:This Board meeting will a virtual session. \nActive members are welcome to visit any Board meeting. If you wish to address the Board or bring something up to the Board during one of these meetings\, contact Kathryn Brown at Secretary@DelRayArtisans.org at least in four days advance of the meeting to be included on the agenda.
URL:https://delrayartisans.org/event/board-meeting-july-2020/
LOCATION:Online
CATEGORIES:Board Meeting,Meeting
ATTACH;FMTTYPE=image/jpeg:https://delrayartisans.org/wp-content/uploads/2020/03/board-meeting-may-2020.jpg
END:VEVENT
BEGIN:VEVENT
DTSTART;TZID=America/New_York:20200609T190000
DTEND;TZID=America/New_York:20200609T210000
DTSTAMP:20260423T093245
CREATED:20230331T212320Z
LAST-MODIFIED:20231130T205436Z
UID:10000681-1591729200-1591736400@delrayartisans.org
SUMMARY:ONLINE: Board Meeting (June 2020)
DESCRIPTION:This Board meeting will a virtual session. \nActive members are welcome to visit any Board meeting. If you wish to address the Board or bring something up to the Board during one of these meetings\, contact Kathryn Brown at Secretary@DelRayArtisans.org at least in four days advance of the meeting to be included on the agenda.
URL:https://delrayartisans.org/event/board-meeting-june-2020/
LOCATION:Online
CATEGORIES:Board Meeting,Meeting
ATTACH;FMTTYPE=image/jpeg:https://delrayartisans.org/wp-content/uploads/2020/03/board-meeting-may-2020.jpg
END:VEVENT
BEGIN:VEVENT
DTSTART;TZID=America/New_York:20200512T200000
DTEND;TZID=America/New_York:20200512T220000
DTSTAMP:20260423T093245
CREATED:20230331T212253Z
LAST-MODIFIED:20231130T205453Z
UID:10000672-1589313600-1589320800@delrayartisans.org
SUMMARY:VIRTUAL: Board Meeting (May 2020)
DESCRIPTION:The May 12th Board meeting will be a virtual session. \nActive members are welcome to visit any Board meeting. If you wish to address the Board or bring something up to the Board during one of these meetings\, contact Kathryn Brown at Secretary@DelRayArtisans.org in advance of the meeting to be included on the agenda.
URL:https://delrayartisans.org/event/board-meeting-may-2020/
LOCATION:Online
CATEGORIES:Board Meeting,Meeting
ATTACH;FMTTYPE=image/jpeg:https://delrayartisans.org/wp-content/uploads/2016/05/board-meeting.jpg
END:VEVENT
BEGIN:VEVENT
DTSTART;TZID=America/New_York:20200414T200000
DTEND;TZID=America/New_York:20200414T220000
DTSTAMP:20260423T093245
CREATED:20230331T212110Z
LAST-MODIFIED:20231130T205504Z
UID:10000665-1586894400-1586901600@delrayartisans.org
SUMMARY:CANCELLED: Board Meeting (April 2020)
DESCRIPTION:The April 2020 Board meeting has been cancelled. \nActive members are welcome to visit any Board meeting. If you wish to address the Board or bring something up to the Board during one of these meetings\, contact Kathryn Brown at Secretary@DelRayArtisans.org in advance of the meeting to be included on the agenda.
URL:https://delrayartisans.org/event/board-meeting-april-2020/
LOCATION:Del Ray Artisans Gallery\, 2704 Mount Vernon Avenue\, Alexandria\, VA\, 22301\, United States
CATEGORIES:Board Meeting,Meeting
ATTACH;FMTTYPE=image/jpeg:https://delrayartisans.org/wp-content/uploads/2016/05/board-meeting.jpg
END:VEVENT
BEGIN:VEVENT
DTSTART;TZID=America/New_York:20200310T190000
DTEND;TZID=America/New_York:20200310T210000
DTSTAMP:20260423T093245
CREATED:20230331T211712Z
LAST-MODIFIED:20231130T205515Z
UID:10000656-1583866800-1583874000@delrayartisans.org
SUMMARY:Board Meeting (March 2020)
DESCRIPTION:Active members are welcome to visit any Board meeting. If you wish to address the Board or bring something up to the Board during one of these meetings\, contact Kathryn Brown at Secretary@DelRayArtisans.org in advance of the meeting to be included on the agenda.
URL:https://delrayartisans.org/event/board-meeting-march-2020/
LOCATION:Del Ray Artisans Gallery\, 2704 Mount Vernon Avenue\, Alexandria\, VA\, 22301\, United States
CATEGORIES:Board Meeting,Meeting
ATTACH;FMTTYPE=image/jpeg:https://delrayartisans.org/wp-content/uploads/2016/05/board-meeting.jpg
END:VEVENT
BEGIN:VEVENT
DTSTART;TZID=America/New_York:20200211T190000
DTEND;TZID=America/New_York:20200211T210000
DTSTAMP:20260423T093245
CREATED:20230331T211315Z
LAST-MODIFIED:20231130T205524Z
UID:10000648-1581447600-1581454800@delrayartisans.org
SUMMARY:Board Meeting (Feb 2020)
DESCRIPTION:Active members are welcome to visit any Board meeting. If you wish to address the Board or bring something up to the Board during one of these meetings\, contact Kathryn Brown at Secretary@DelRayArtisans.org in advance of the meeting to be included on the agenda.
URL:https://delrayartisans.org/event/board-meeting-feb-2020/
LOCATION:Del Ray Artisans Gallery\, 2704 Mount Vernon Avenue\, Alexandria\, VA\, 22301\, United States
CATEGORIES:Board Meeting,Meeting
ATTACH;FMTTYPE=image/jpeg:https://delrayartisans.org/wp-content/uploads/2016/05/board-meeting.jpg
END:VEVENT
BEGIN:VEVENT
DTSTART;TZID=America/New_York:20200114T190000
DTEND;TZID=America/New_York:20200114T210000
DTSTAMP:20260423T093245
CREATED:20230331T211235Z
LAST-MODIFIED:20231130T205533Z
UID:10000634-1579028400-1579035600@delrayartisans.org
SUMMARY:Board Meeting (January 2020)
DESCRIPTION:Active members are welcome to visit any Board meeting. If you wish to address the Board or bring something up to the Board during one of these meetings\, contact Kathryn Brown at Secretary@DelRayArtisans.org in advance of the meeting to be included on the agenda.
URL:https://delrayartisans.org/event/board-meeting-jan-2020/
LOCATION:Del Ray Artisans Gallery\, 2704 Mount Vernon Avenue\, Alexandria\, VA\, 22301\, United States
CATEGORIES:Board Meeting,Meeting
ATTACH;FMTTYPE=image/jpeg:https://delrayartisans.org/wp-content/uploads/2016/05/board-meeting.jpg
END:VEVENT
BEGIN:VEVENT
DTSTART;TZID=America/New_York:20191210T190000
DTEND;TZID=America/New_York:20191210T210000
DTSTAMP:20260423T093245
CREATED:20230410T144252Z
LAST-MODIFIED:20230410T144252Z
UID:10000998-1576004400-1576011600@delrayartisans.org
SUMMARY:Board Meeting (Dec 2019)
DESCRIPTION:Active members are welcome to visit any Board meeting. If you wish to address the Board or bring something up to the Board during one of these meetings\, contact Kathryn Brown at Secretary@DelRayArtisans.org in advance of the meeting to be included on the agenda.
URL:https://delrayartisans.org/event/board-meeting-dec-2019/
LOCATION:Del Ray Artisans Gallery\, 2704 Mount Vernon Avenue\, Alexandria\, VA\, 22301\, United States
CATEGORIES:Board Meeting,Meeting
ATTACH;FMTTYPE=image/jpeg:https://delrayartisans.org/wp-content/uploads/1992/12/event-archive-image.jpg
END:VEVENT
BEGIN:VEVENT
DTSTART;TZID=America/New_York:20191116T083000
DTEND;TZID=America/New_York:20191116T120000
DTSTAMP:20260423T093245
CREATED:20230410T144215Z
LAST-MODIFIED:20230410T144215Z
UID:10000985-1573893000-1573905600@delrayartisans.org
SUMMARY:Board Retreat 2019-2020
DESCRIPTION:This retreat is for both current 2019 Board members and incoming 2020 Board members. The Community Room that we’ll be using is just inside the main entrance of the AX Police Department HQ at 3600 Wheeler Ave. As you enter the atrium the Community Room will be to your left. \nWe’ll have coffee\, juice and some breakfast goodies there Ö all you need to bring are your creative ideas and desire to help set the course for an even more vibrant DRA!
URL:https://delrayartisans.org/event/board-retreat-2019-2020/
LOCATION:Del Ray Artisans Gallery\, 2704 Mount Vernon Avenue\, Alexandria\, VA\, 22301\, United States
CATEGORIES:Board Meeting,Meeting
ATTACH;FMTTYPE=image/jpeg:https://delrayartisans.org/wp-content/uploads/1992/12/event-archive-image.jpg
END:VEVENT
BEGIN:VEVENT
DTSTART;TZID=America/New_York:20191112T190000
DTEND;TZID=America/New_York:20191112T210000
DTSTAMP:20260423T093245
CREATED:20230410T144209Z
LAST-MODIFIED:20230410T144209Z
UID:10000984-1573585200-1573592400@delrayartisans.org
SUMMARY:Board Meeting (Nov 2019)
DESCRIPTION:Active members are welcome to visit any Board meeting. If you wish to address the Board or bring something up to the Board during one of these meetings\, contact Kathryn Brown at Secretary@DelRayArtisans.org in advance of the meeting to be included on the agenda.
URL:https://delrayartisans.org/event/board-meeting-nov-2019/
LOCATION:Del Ray Artisans Gallery\, 2704 Mount Vernon Avenue\, Alexandria\, VA\, 22301\, United States
CATEGORIES:Board Meeting,Meeting
ATTACH;FMTTYPE=image/jpeg:https://delrayartisans.org/wp-content/uploads/1992/12/event-archive-image.jpg
END:VEVENT
BEGIN:VEVENT
DTSTART;TZID=America/New_York:20191008T190000
DTEND;TZID=America/New_York:20191008T210000
DTSTAMP:20260423T093245
CREATED:20230410T144102Z
LAST-MODIFIED:20230410T144102Z
UID:10000963-1570561200-1570568400@delrayartisans.org
SUMMARY:Board Meeting (Oct 2019)
DESCRIPTION:Active members are welcome to visit any Board meeting. If you wish to address the Board or bring something up to the Board during one of these meetings\, contact Kathryn Brown at Secretary@DelRayArtisans.org in advance of the meeting to be included on the agenda.
URL:https://delrayartisans.org/event/board-meeting-oct-2019/
LOCATION:Del Ray Artisans Gallery\, 2704 Mount Vernon Avenue\, Alexandria\, VA\, 22301\, United States
CATEGORIES:Board Meeting,Meeting
ATTACH;FMTTYPE=image/jpeg:https://delrayartisans.org/wp-content/uploads/1992/12/event-archive-image.jpg
END:VEVENT
BEGIN:VEVENT
DTSTART;TZID=America/New_York:20190910T190000
DTEND;TZID=America/New_York:20190910T210000
DTSTAMP:20260423T093245
CREATED:20230410T144004Z
LAST-MODIFIED:20230410T144004Z
UID:10000943-1568142000-1568149200@delrayartisans.org
SUMMARY:Board Meeting (Sept 2019)
DESCRIPTION:Active members are welcome to visit any Board meeting. If you wish to address the Board or bring something up to the Board during one of these meetings\, contact Kathryn Brown at Secretary@DelRayArtisans.org in advance of the meeting to be included on the agenda.
URL:https://delrayartisans.org/event/board-meeting-sept-2019/
LOCATION:Del Ray Artisans Gallery\, 2704 Mount Vernon Avenue\, Alexandria\, VA\, 22301\, United States
CATEGORIES:Board Meeting,Meeting
ATTACH;FMTTYPE=image/jpeg:https://delrayartisans.org/wp-content/uploads/1992/12/event-archive-image.jpg
END:VEVENT
BEGIN:VEVENT
DTSTART;TZID=America/New_York:20190813T190000
DTEND;TZID=America/New_York:20190813T210000
DTSTAMP:20260423T093245
CREATED:20230410T143912Z
LAST-MODIFIED:20230410T143912Z
UID:10000925-1565722800-1565730000@delrayartisans.org
SUMMARY:Board Meeting (Aug 2019)
DESCRIPTION:Active members are welcome to visit any Board meeting. If you wish to address the Board or bring something up to the Board during one of these meetings\, contact Kathryn Brown at Secretary@DelRayArtisans.org in advance of the meeting to be included on the agenda.
URL:https://delrayartisans.org/event/board-meeting-aug-2019/
LOCATION:Del Ray Artisans Gallery\, 2704 Mount Vernon Avenue\, Alexandria\, VA\, 22301\, United States
CATEGORIES:Board Meeting,Meeting
ATTACH;FMTTYPE=image/jpeg:https://delrayartisans.org/wp-content/uploads/1992/12/event-archive-image.jpg
END:VEVENT
BEGIN:VEVENT
DTSTART;TZID=America/New_York:20190709T190000
DTEND;TZID=America/New_York:20190709T210000
DTSTAMP:20260423T093245
CREATED:20230410T143802Z
LAST-MODIFIED:20230410T143802Z
UID:10000903-1562698800-1562706000@delrayartisans.org
SUMMARY:Board Meeting (July 2019)
DESCRIPTION:Active members are welcome to visit any Board meeting. If you wish to address the Board or bring something up to the Board during one of these meetings\, contact Kathryn Brown at Secretary@DelRayArtisans.org in advance of the meeting to be included on the agenda.
URL:https://delrayartisans.org/event/board-meeting-july-2019/
LOCATION:Del Ray Artisans Gallery\, 2704 Mount Vernon Avenue\, Alexandria\, VA\, 22301\, United States
CATEGORIES:Board Meeting,Meeting
ATTACH;FMTTYPE=image/jpeg:https://delrayartisans.org/wp-content/uploads/1992/12/event-archive-image.jpg
END:VEVENT
BEGIN:VEVENT
DTSTART;TZID=America/New_York:20190611T190000
DTEND;TZID=America/New_York:20190611T210000
DTSTAMP:20260423T093245
CREATED:20230410T143659Z
LAST-MODIFIED:20230410T143659Z
UID:10000882-1560279600-1560286800@delrayartisans.org
SUMMARY:Board Meeting (June 2019)
DESCRIPTION:Active members are welcome to visit any Board meeting. If you wish to address the Board or bring something up to the Board during one of these meetings\, contact Kathryn Brown at Secretary@DelRayArtisans.org in advance of the meeting to be included on the agenda.
URL:https://delrayartisans.org/event/board-meeting-june-2019/
LOCATION:Del Ray Artisans Gallery\, 2704 Mount Vernon Avenue\, Alexandria\, VA\, 22301\, United States
CATEGORIES:Board Meeting,Meeting
ATTACH;FMTTYPE=image/jpeg:https://delrayartisans.org/wp-content/uploads/1992/12/event-archive-image.jpg
END:VEVENT
BEGIN:VEVENT
DTSTART;TZID=America/New_York:20190514T184500
DTEND;TZID=America/New_York:20190514T204500
DTSTAMP:20260423T093245
CREATED:20230410T143554Z
LAST-MODIFIED:20230410T143554Z
UID:10000860-1557859500-1557866700@delrayartisans.org
SUMMARY:Board Meeting (May 2019)
DESCRIPTION:The May 2019 Board Meeting will be held at the Mount Vernon Recreation Center (2701 Commonwealth Ave\, Alexandria VA 22305) and will start at 6:45pm. \nActive members are welcome to visit any Board meeting. If you wish to address the Board or bring something up to the Board during one of these meetings\, contact Kathryn Brown at Secretary@DelRayArtisans.org in advance of the meeting to be included on the agenda.
URL:https://delrayartisans.org/event/board-meeting-may-2019/
LOCATION:VA
CATEGORIES:Board Meeting,Meeting
ATTACH;FMTTYPE=image/jpeg:https://delrayartisans.org/wp-content/uploads/1992/12/event-archive-image.jpg
END:VEVENT
BEGIN:VEVENT
DTSTART;TZID=America/New_York:20190409T194500
DTEND;TZID=America/New_York:20190409T210000
DTSTAMP:20260423T093245
CREATED:20230410T143211Z
LAST-MODIFIED:20230410T143211Z
UID:10000838-1554839100-1554843600@delrayartisans.org
SUMMARY:Board Meeting (April 2019)
DESCRIPTION:Due to An ART-rageous Celebration event\, the April 9th Board meeting will start at 7:45pm. \nActive members are welcome to visit any Board meeting. If you wish to address the Board or bring something up to the Board during one of these meetings\, contact Kathryn Brown at Secretary@DelRayArtisans.org in advance of the meeting to be included on the agenda.
URL:https://delrayartisans.org/event/board-meeting-april-2019/
LOCATION:Del Ray Artisans Gallery\, 2704 Mount Vernon Avenue\, Alexandria\, VA\, 22301\, United States
CATEGORIES:Board Meeting,Meeting
ATTACH;FMTTYPE=image/jpeg:https://delrayartisans.org/wp-content/uploads/1992/12/event-archive-image.jpg
END:VEVENT
BEGIN:VEVENT
DTSTART;TZID=America/New_York:20190312T190000
DTEND;TZID=America/New_York:20190312T210000
DTSTAMP:20260423T093245
CREATED:20230410T142758Z
LAST-MODIFIED:20230410T142758Z
UID:10000824-1552417200-1552424400@delrayartisans.org
SUMMARY:Board Meeting (March 2019)
DESCRIPTION:Active members are welcome to visit any Board meeting. If you wish to address the Board or bring something up to the Board during one of these meetings\, contact Kathryn Brown at Secretary@DelRayArtisans.org in advance of the meeting to be included on the agenda.
URL:https://delrayartisans.org/event/board-meeting-march-2019/
LOCATION:Del Ray Artisans Gallery\, 2704 Mount Vernon Avenue\, Alexandria\, VA\, 22301\, United States
CATEGORIES:Board Meeting,Meeting
ATTACH;FMTTYPE=image/jpeg:https://delrayartisans.org/wp-content/uploads/1992/12/event-archive-image.jpg
END:VEVENT
BEGIN:VEVENT
DTSTART;TZID=America/New_York:20190212T190000
DTEND;TZID=America/New_York:20190212T210000
DTSTAMP:20260423T093245
CREATED:20230410T142158Z
LAST-MODIFIED:20230410T142158Z
UID:10000809-1549998000-1550005200@delrayartisans.org
SUMMARY:Board Meeting (Feb 2019)
DESCRIPTION:The February 12th meeting will be off-site. \nActive members are welcome to visit any Board meeting. If you wish to address the Board or bring something up to the Board during one of these meetings\, contact Kathryn Brown at Secretary@DelRayArtisans.org in advance of the meeting to be included on the agenda.
URL:https://delrayartisans.org/event/board-meeting-feb-2019/
LOCATION:VA
CATEGORIES:Board Meeting,Meeting
ATTACH;FMTTYPE=image/jpeg:https://delrayartisans.org/wp-content/uploads/1992/12/event-archive-image.jpg
END:VEVENT
END:VCALENDAR