BEGIN:VCALENDAR
VERSION:2.0
PRODID:-//Del Ray Artisans - ECPv6.15.20//NONSGML v1.0//EN
CALSCALE:GREGORIAN
METHOD:PUBLISH
X-ORIGINAL-URL:https://delrayartisans.org
X-WR-CALDESC:Events for Del Ray Artisans
REFRESH-INTERVAL;VALUE=DURATION:PT1H
X-Robots-Tag:noindex
X-PUBLISHED-TTL:PT1H
BEGIN:VTIMEZONE
TZID:America/New_York
BEGIN:DAYLIGHT
TZOFFSETFROM:-0500
TZOFFSETTO:-0400
TZNAME:EDT
DTSTART:20250309T070000
END:DAYLIGHT
BEGIN:STANDARD
TZOFFSETFROM:-0400
TZOFFSETTO:-0500
TZNAME:EST
DTSTART:20251102T060000
END:STANDARD
BEGIN:DAYLIGHT
TZOFFSETFROM:-0500
TZOFFSETTO:-0400
TZNAME:EDT
DTSTART:20260308T070000
END:DAYLIGHT
BEGIN:STANDARD
TZOFFSETFROM:-0400
TZOFFSETTO:-0500
TZNAME:EST
DTSTART:20261101T060000
END:STANDARD
BEGIN:DAYLIGHT
TZOFFSETFROM:-0500
TZOFFSETTO:-0400
TZNAME:EDT
DTSTART:20270314T070000
END:DAYLIGHT
BEGIN:STANDARD
TZOFFSETFROM:-0400
TZOFFSETTO:-0500
TZNAME:EST
DTSTART:20271107T060000
END:STANDARD
END:VTIMEZONE
BEGIN:VEVENT
DTSTART;TZID=America/New_York:20260426T100000
DTEND;TZID=America/New_York:20260426T130000
DTSTAMP:20260423T075147
CREATED:20251115T131106Z
LAST-MODIFIED:20260119T155408Z
UID:10002107-1777197600-1777208400@delrayartisans.org
SUMMARY:Artist Appointments Only
DESCRIPTION:The gallery is closed to the public after 6pm on Saturday\, April 25 and all day on Sunday\, April 26 while the exhibit is taken down. This time is reserved for artists to pick up and drop off artwork. Contact the outgoing curators with any questions (contact info in the call for entry). \nUnsold Artwork Pick Up\nSaturday\, April 25 from 6:30-8:30pm and Sunday\, April 26 from 10am-1pm are reserved for artists to pick up their unsold artwork from the closing exhibit\, Fast and Fabulous. \n\nAccepted Artwork Drop Off\nThe remainder of the day on Sunday\, April 26 is reserved for the installation of the ACHS 2026 Titan Student Art Exhibition. \n\nVolunteer\nAll artists participating in the exhibit are required to volunteer a minimum of 3 hours towards managing the show. Those hours can be filled by gallery hosting during the month of exhibit\, assisting with show hanging or take down\, and volunteering to help with other show-specific activities as needed by the curators. Any hours in excess of 3 hours will count towards the membership requirement. DRA members are reminded to report their volunteer hours monthly.
URL:https://delrayartisans.org/event/apr-may-2026-artist-appointments/2026-04-26/
LOCATION:Del Ray Artisans Gallery\, 2704 Mount Vernon Avenue\, Alexandria\, VA\, 22301\, United States
CATEGORIES:Administrative,Volunteer
ORGANIZER;CN="Kelly MacConomy":MAILTO:kmacconomy@gmail.com
END:VEVENT
BEGIN:VEVENT
DTSTART;VALUE=DATE:20260524
DTEND;VALUE=DATE:20260531
DTSTAMP:20260423T075147
CREATED:20260125T235204Z
LAST-MODIFIED:20260125T235204Z
UID:10002180-1779580800-1780185599@delrayartisans.org
SUMMARY:Closed to the Public
DESCRIPTION:This time is reserved for work on the facility.
URL:https://delrayartisans.org/event/closed-2026-may-24-30/
LOCATION:Del Ray Artisans Gallery\, 2704 Mount Vernon Avenue\, Alexandria\, VA\, 22301\, United States
CATEGORIES:Administrative
ORGANIZER;CN="Facilities Director":MAILTO:Facilities@DelRayArtisans.org
END:VEVENT
BEGIN:VEVENT
DTSTART;VALUE=DATE:20260531
DTEND;VALUE=DATE:20260604
DTSTAMP:20260423T075147
CREATED:20251028T225417Z
LAST-MODIFIED:20251028T225417Z
UID:10002023-1780185600-1780531199@delrayartisans.org
SUMMARY:Closed to the Public
DESCRIPTION:This time is reserved for the curator to arrange the upcoming exhibit.
URL:https://delrayartisans.org/event/closed-2026-may-31-jun-3/
LOCATION:Del Ray Artisans Gallery\, 2704 Mount Vernon Avenue\, Alexandria\, VA\, 22301\, United States
CATEGORIES:Administrative
END:VEVENT
BEGIN:VEVENT
DTSTART;TZID=America/New_York:20260531T120000
DTEND;TZID=America/New_York:20260531T160000
DTSTAMP:20260423T075147
CREATED:20251115T131448Z
LAST-MODIFIED:20251115T131448Z
UID:10002108-1780228800-1780243200@delrayartisans.org
SUMMARY:Closed to the Public: Artist Appointments Only
DESCRIPTION:The gallery is closed to the public today while artwork is collected for the next art exhibit. This time is reserved for artists to drop off artwork. Contact the incoming curators with any questions (contact info in the call for entry). \nAccepted Artwork Drop Off\nTime for artists to drop off their accepted artwork entries for the upcoming exhibit\, USA at 250. Artwork must be ready to hang (with screw eyes and wire) or ready for display (with mounting and/or a display stand if necessary). Review the standard artwork presentation guidelines and the call for entry for show specific information. \n\nVolunteer\nAll artists participating in the exhibit are required to volunteer a minimum of 3 hours towards managing the show. Those hours can be filled by gallery hosting during the month of exhibit\, assisting with show hanging or take down\, and volunteering to help with other show-specific activities as needed by the curators. Any hours in excess of 3 hours will count towards the membership requirement. DRA members are reminded to report their volunteer hours monthly.
URL:https://delrayartisans.org/event/may-jun-2026-artist-appointments/
LOCATION:Del Ray Artisans Gallery\, 2704 Mount Vernon Avenue\, Alexandria\, VA\, 22301\, United States
CATEGORIES:Administrative,Volunteer
END:VEVENT
BEGIN:VEVENT
DTSTART;TZID=America/New_York:20260628T180000
DTEND;TZID=America/New_York:20260628T200000
DTSTAMP:20260423T075147
CREATED:20251115T131848Z
LAST-MODIFIED:20251115T131848Z
UID:10002109-1782669600-1782676800@delrayartisans.org
SUMMARY:Open to the Public 12-6pm; Artist Appointments 6-8pm
DESCRIPTION:The gallery is open to the public from 12-6pm today. The exhibit is taken down after gallery hours end. \nUnsold Artwork Pick Up\nArtists\, please pick up your unsold artwork from the closing exhibit\, USA at 250\, between 6-8pm. Contact the curator with any questions (contact info in the call for entry). \n\nVolunteer\nAll artists participating in the exhibit are required to volunteer a minimum of 3 hours towards managing the show. Those hours can be filled by gallery hosting during the month of exhibit\, assisting with show hanging or take down\, and volunteering to help with other show-specific activities as needed by the curators. Any hours in excess of 3 hours will count towards the membership requirement. DRA members are reminded to report their volunteer hours monthly.
URL:https://delrayartisans.org/event/jun-2026-artist-appointments/
LOCATION:Del Ray Artisans Gallery\, 2704 Mount Vernon Avenue\, Alexandria\, VA\, 22301\, United States
CATEGORIES:Administrative,Volunteer
END:VEVENT
BEGIN:VEVENT
DTSTART;VALUE=DATE:20260726
DTEND;VALUE=DATE:20260802
DTSTAMP:20260423T075147
CREATED:20260125T235042Z
LAST-MODIFIED:20260125T235042Z
UID:10002179-1785024000-1785628799@delrayartisans.org
SUMMARY:Closed to the Public
DESCRIPTION:This time is reserved for work on the facility.
URL:https://delrayartisans.org/event/closed-2026-july-26-august-1/
LOCATION:Del Ray Artisans Gallery\, 2704 Mount Vernon Avenue\, Alexandria\, VA\, 22301\, United States
CATEGORIES:Administrative
ORGANIZER;CN="Facilities Director":MAILTO:Facilities@DelRayArtisans.org
END:VEVENT
BEGIN:VEVENT
DTSTART;VALUE=DATE:20260802
DTEND;VALUE=DATE:20260806
DTSTAMP:20260423T075147
CREATED:20251028T225503Z
LAST-MODIFIED:20251028T225503Z
UID:10002024-1785628800-1785974399@delrayartisans.org
SUMMARY:Closed to the Public
DESCRIPTION:This time is reserved for the curator to arrange the upcoming exhibit.
URL:https://delrayartisans.org/event/closed-2026-aug-2-5/
LOCATION:Del Ray Artisans Gallery\, 2704 Mount Vernon Avenue\, Alexandria\, VA\, 22301\, United States
CATEGORIES:Administrative
END:VEVENT
BEGIN:VEVENT
DTSTART;VALUE=DATE:20260830
DTEND;VALUE=DATE:20260903
DTSTAMP:20260423T075147
CREATED:20251028T225551Z
LAST-MODIFIED:20251028T225551Z
UID:10002025-1788048000-1788393599@delrayartisans.org
SUMMARY:Closed to the Public
DESCRIPTION:This time is reserved for the curator to arrange the upcoming exhibit.
URL:https://delrayartisans.org/event/closed-2026-aug-30-sep-2/
LOCATION:Del Ray Artisans Gallery\, 2704 Mount Vernon Avenue\, Alexandria\, VA\, 22301\, United States
CATEGORIES:Administrative
END:VEVENT
BEGIN:VEVENT
DTSTART;VALUE=DATE:20260927
DTEND;VALUE=DATE:20261001
DTSTAMP:20260423T075147
CREATED:20251028T225632Z
LAST-MODIFIED:20251028T225632Z
UID:10002026-1790467200-1790812799@delrayartisans.org
SUMMARY:Closed to the Public
DESCRIPTION:This time is reserved for the curator to arrange the upcoming exhibit.
URL:https://delrayartisans.org/event/closed-2026-sep-27-30/
LOCATION:Del Ray Artisans Gallery\, 2704 Mount Vernon Avenue\, Alexandria\, VA\, 22301\, United States
CATEGORIES:Administrative
END:VEVENT
BEGIN:VEVENT
DTSTART;VALUE=DATE:20261101
DTEND;VALUE=DATE:20261105
DTSTAMP:20260423T075147
CREATED:20251028T225708Z
LAST-MODIFIED:20251028T225708Z
UID:10002027-1793491200-1793836799@delrayartisans.org
SUMMARY:Closed to the Public
DESCRIPTION:This time is reserved for the curator to arrange the upcoming exhibit.
URL:https://delrayartisans.org/event/closed-2026-nov-1-4/
LOCATION:Del Ray Artisans Gallery\, 2704 Mount Vernon Avenue\, Alexandria\, VA\, 22301\, United States
CATEGORIES:Administrative
END:VEVENT
END:VCALENDAR