BEGIN:VCALENDAR
VERSION:2.0
PRODID:-//Del Ray Artisans - ECPv6.15.20//NONSGML v1.0//EN
CALSCALE:GREGORIAN
METHOD:PUBLISH
X-ORIGINAL-URL:https://delrayartisans.org
X-WR-CALDESC:Events for Del Ray Artisans
REFRESH-INTERVAL;VALUE=DURATION:PT1H
X-Robots-Tag:noindex
X-PUBLISHED-TTL:PT1H
BEGIN:VTIMEZONE
TZID:America/New_York
BEGIN:DAYLIGHT
TZOFFSETFROM:-0500
TZOFFSETTO:-0400
TZNAME:EDT
DTSTART:20180311T070000
END:DAYLIGHT
BEGIN:STANDARD
TZOFFSETFROM:-0400
TZOFFSETTO:-0500
TZNAME:EST
DTSTART:20181104T060000
END:STANDARD
BEGIN:DAYLIGHT
TZOFFSETFROM:-0500
TZOFFSETTO:-0400
TZNAME:EDT
DTSTART:20190310T070000
END:DAYLIGHT
BEGIN:STANDARD
TZOFFSETFROM:-0400
TZOFFSETTO:-0500
TZNAME:EST
DTSTART:20191103T060000
END:STANDARD
BEGIN:DAYLIGHT
TZOFFSETFROM:-0500
TZOFFSETTO:-0400
TZNAME:EDT
DTSTART:20200308T070000
END:DAYLIGHT
BEGIN:STANDARD
TZOFFSETFROM:-0400
TZOFFSETTO:-0500
TZNAME:EST
DTSTART:20201101T060000
END:STANDARD
END:VTIMEZONE
BEGIN:VEVENT
DTSTART;TZID=America/New_York:20190929T180000
DTEND;TZID=America/New_York:20190929T200000
DTSTAMP:20260424T084604
CREATED:20230410T144042Z
LAST-MODIFIED:20230410T144042Z
UID:10000955-1569780000-1569787200@delrayartisans.org
SUMMARY:“Art Inspired by The Twilight Zone” Artwork Drop Off
DESCRIPTION:Time for artists to drop off their accepted artwork and (if applicable) marketplace entries for the upcoming exhibit\, Art Inspired by The Twilight Zone. Artwork drop off is on Sunday and Monday from 6-8pm. \nArtwork must be ready to hang (with screw eyes and wire) or ready for display (with mounting and/or a display stand if necessary). Review the standard artwork presentation guidelines and the Call for Entry for show specific information. \nQuestions? Contact the curators.
URL:https://delrayartisans.org/event/art-inspired-by-the-twilight-zone-artwork-drop-off/
LOCATION:Del Ray Artisans Gallery\, 2704 Mount Vernon Avenue\, Alexandria\, VA\, 22301\, United States
CATEGORIES:Administrative
ATTACH;FMTTYPE=image/jpeg:https://delrayartisans.org/wp-content/uploads/1992/12/event-archive-image.jpg
END:VEVENT
BEGIN:VEVENT
DTSTART;TZID=America/New_York:20190929T180000
DTEND;TZID=America/New_York:20190929T200000
DTSTAMP:20260424T084604
CREATED:20230410T144039Z
LAST-MODIFIED:20230410T144039Z
UID:10000954-1569780000-1569787200@delrayartisans.org
SUMMARY:"High Note" Artwork Pick Up
DESCRIPTION:Time for artists and buyers to pick up their artwork from the closing show\, High Note. \nQuestions? Contact the curators Nicole Mahoney (nicole.m.mahoney@gmail.com) and Dawn Wyse Hurto (dawn@dawnds.com).
URL:https://delrayartisans.org/event/high-note-artwork-pick-up/
LOCATION:Del Ray Artisans Gallery\, 2704 Mount Vernon Avenue\, Alexandria\, VA\, 22301\, United States
CATEGORIES:Administrative
ATTACH;FMTTYPE=image/jpeg:https://delrayartisans.org/wp-content/uploads/1992/12/event-archive-image.jpg
END:VEVENT
BEGIN:VEVENT
DTSTART;TZID=America/New_York:20190901T180000
DTEND;TZID=America/New_York:20190901T200000
DTSTAMP:20260424T084604
CREATED:20230410T143942Z
LAST-MODIFIED:20230410T143942Z
UID:10000935-1567360800-1567368000@delrayartisans.org
SUMMARY:“High Note” Artwork Drop Off
DESCRIPTION:Time for artists to drop off their accepted artwork and (if applicable) marketplace entries for the upcoming exhibit\, High Note. Artwork drop off is on Sunday and Monday from 6-8pm. \nArtwork must be ready to hang (with screw eyes and wire) or ready for display (with mounting and/or a display stand if necessary). Review the standard artwork presentation guidelines and the Call for Entry for show specific information. \nQuestions? Contact the curators.
URL:https://delrayartisans.org/event/high-note-artwork-drop-off/
LOCATION:Del Ray Artisans Gallery\, 2704 Mount Vernon Avenue\, Alexandria\, VA\, 22301\, United States
CATEGORIES:Administrative
ATTACH;FMTTYPE=image/jpeg:https://delrayartisans.org/wp-content/uploads/1992/12/event-archive-image.jpg
END:VEVENT
BEGIN:VEVENT
DTSTART;TZID=America/New_York:20190901T180000
DTEND;TZID=America/New_York:20190901T200000
DTSTAMP:20260424T084604
CREATED:20230410T143939Z
LAST-MODIFIED:20230410T143939Z
UID:10000934-1567360800-1567368000@delrayartisans.org
SUMMARY:"Fresh Meat" Artwork Pick Up
DESCRIPTION:Time for artists and buyers to pick up their artwork from the closing show\, Fresh Meat. \nQuestions? Contact the curators Brittany Gabel (brittany@bgmixedmedia.com) and Kurt Peterson (kfpeterson@gmail.com) or Director of Curating Brittany Gabel (Curating@DelRayArtisans.org).
URL:https://delrayartisans.org/event/fresh-meat-artwork-pick-up/
LOCATION:Del Ray Artisans Gallery\, 2704 Mount Vernon Avenue\, Alexandria\, VA\, 22301\, United States
CATEGORIES:Administrative
ATTACH;FMTTYPE=image/jpeg:https://delrayartisans.org/wp-content/uploads/1992/12/event-archive-image.jpg
END:VEVENT
BEGIN:VEVENT
DTSTART;TZID=America/New_York:20190728T180000
DTEND;TZID=America/New_York:20190728T200000
DTSTAMP:20260424T084604
CREATED:20230410T143843Z
LAST-MODIFIED:20230410T143843Z
UID:10000916-1564336800-1564344000@delrayartisans.org
SUMMARY:“Fresh Meat” Artwork Drop Off
DESCRIPTION:Time for artists to drop off their accepted artwork and (if applicable) marketplace entries for the upcoming exhibit\, Fresh Meat. Artwork drop off is on Sunday and Monday from 6-8pm. \nArtwork must be ready to hang (with screw eyes and wire) or ready for display (with mounting and/or a display stand if necessary). Review the standard artwork presentation guidelines and the Call for Entry for show specific information. \nQuestions? Contact the curators.
URL:https://delrayartisans.org/event/fresh-meat-artwork-drop-off/
LOCATION:Del Ray Artisans Gallery\, 2704 Mount Vernon Avenue\, Alexandria\, VA\, 22301\, United States
CATEGORIES:Administrative
ATTACH;FMTTYPE=image/jpeg:https://delrayartisans.org/wp-content/uploads/1992/12/event-archive-image.jpg
END:VEVENT
BEGIN:VEVENT
DTSTART;VALUE=DATE:20190728
DTEND;VALUE=DATE:20190729
DTSTAMP:20260424T084604
CREATED:20230410T143845Z
LAST-MODIFIED:20230410T143845Z
UID:10000917-1564272000-1564358399@delrayartisans.org
SUMMARY:No Gallery Hours (7/28/2019)
DESCRIPTION:There is not an art exhibit currently in the gallery; therefore\, there are no regular gallery hours. \nJoin us this Friday\, August 2 from 7-9pm for the opening reception for the next exhibit: Fresh Meat.
URL:https://delrayartisans.org/event/no-gallery-hours-7-28-2019/
LOCATION:Del Ray Artisans Gallery\, 2704 Mount Vernon Avenue\, Alexandria\, VA\, 22301\, United States
CATEGORIES:Administrative
ATTACH;FMTTYPE=image/jpeg:https://delrayartisans.org/wp-content/uploads/1992/12/event-archive-image.jpg
END:VEVENT
BEGIN:VEVENT
DTSTART;VALUE=DATE:20190715
DTEND;VALUE=DATE:20190728
DTSTAMP:20260424T084604
CREATED:20230410T143831Z
LAST-MODIFIED:20230410T143831Z
UID:10000912-1563148800-1564271999@delrayartisans.org
SUMMARY:No Gallery Hours (7/15-7/27/2019)
DESCRIPTION:There is not an art exhibit currently in the gallery; therefore\, there are no regular gallery hours. \nJoin us this Saturday from 1-3pm for a special 2-hour exhibit of the art created during youth Art Camp!
URL:https://delrayartisans.org/event/no-gallery-hours-7-15-7-27-2019/
LOCATION:Del Ray Artisans Gallery\, 2704 Mount Vernon Avenue\, Alexandria\, VA\, 22301\, United States
CATEGORIES:Administrative
ATTACH;FMTTYPE=image/jpeg:https://delrayartisans.org/wp-content/uploads/1992/12/event-archive-image.jpg
END:VEVENT
BEGIN:VEVENT
DTSTART;VALUE=DATE:20190710
DTEND;VALUE=DATE:20190711
DTSTAMP:20260424T084604
CREATED:20230410T143809Z
LAST-MODIFIED:20230410T143809Z
UID:10000904-1562716800-1562803199@delrayartisans.org
SUMMARY:Reserved for Special Exhibit Set Up
DESCRIPTION:Time reserved to hang the upcoming exhibit. Join us this weekend (July 11-14) for an extraordinary exhibit and film: The 2 Sides Project\, Special Edition.
URL:https://delrayartisans.org/event/reserved-for-special-exhibit-set-up/
LOCATION:Del Ray Artisans Gallery\, 2704 Mount Vernon Avenue\, Alexandria\, VA\, 22301\, United States
CATEGORIES:Administrative
ATTACH;FMTTYPE=image/jpeg:https://delrayartisans.org/wp-content/uploads/1992/12/event-archive-image.jpg
END:VEVENT
BEGIN:VEVENT
DTSTART;VALUE=DATE:20190704
DTEND;VALUE=DATE:20190709
DTSTAMP:20260424T084604
CREATED:20230410T143758Z
LAST-MODIFIED:20230410T143758Z
UID:10000901-1562198400-1562630399@delrayartisans.org
SUMMARY:No Gallery Hours (7/4-7/8/2019)
DESCRIPTION:There is not an art exhibit currently in the gallery; therefore\, there are no regular gallery hours. Office staff are available Friday\, July 5 from 12-6pm for administrative assistance. \nJoin us from July 11-14 for an extraordinary exhibit and film: The 2 Sides Project\, Special Edition.
URL:https://delrayartisans.org/event/no-gallery-hours-7-4-7-8-2019/
LOCATION:Del Ray Artisans Gallery\, 2704 Mount Vernon Avenue\, Alexandria\, VA\, 22301\, United States
CATEGORIES:Administrative
ATTACH;FMTTYPE=image/jpeg:https://delrayartisans.org/wp-content/uploads/1992/12/event-archive-image.jpg
END:VEVENT
BEGIN:VEVENT
DTSTART;TZID=America/New_York:20190630T180000
DTEND;TZID=America/New_York:20190630T200000
DTSTAMP:20260424T084604
CREATED:20230410T143749Z
LAST-MODIFIED:20230410T143749Z
UID:10000898-1561917600-1561924800@delrayartisans.org
SUMMARY:"Art in Meditation - Chakras" Artwork Pick Up
DESCRIPTION:Time for artists and buyers to pick up their artwork from the closing show\, Art in Meditation – Chakras. \nQuestions? Contact the curators Joyce Frank and Kitty Russell.
URL:https://delrayartisans.org/event/art-in-meditation-chakras-artwork-pick-up/
LOCATION:Del Ray Artisans Gallery\, 2704 Mount Vernon Avenue\, Alexandria\, VA\, 22301\, United States
CATEGORIES:Administrative
ATTACH;FMTTYPE=image/jpeg:https://delrayartisans.org/wp-content/uploads/1992/12/event-archive-image.jpg
END:VEVENT
BEGIN:VEVENT
DTSTART;TZID=America/New_York:20190602T180000
DTEND;TZID=America/New_York:20190602T200000
DTSTAMP:20260424T084604
CREATED:20230410T143631Z
LAST-MODIFIED:20230410T143631Z
UID:10000872-1559498400-1559505600@delrayartisans.org
SUMMARY:"Sacred Feminine" Artwork Pick Up
DESCRIPTION:Jewelry by Wirealm\, Photograph by Lynn Fernandez\nTime for artists and buyers to pick up their artwork from the closing show\, Sacred Feminine. \nQuestions? Contact the curators Lynn Fernandez (lynn.nowbraceyourself@gmail.com) and Tamara Wilkerson (wirealmbytamara@gmail.com).
URL:https://delrayartisans.org/event/sacred-feminine-artwork-pick-up/
LOCATION:Del Ray Artisans Gallery\, 2704 Mount Vernon Avenue\, Alexandria\, VA\, 22301\, United States
CATEGORIES:Administrative
ATTACH;FMTTYPE=image/jpeg:https://delrayartisans.org/wp-content/uploads/1992/12/event-archive-image.jpg
END:VEVENT
BEGIN:VEVENT
DTSTART;TZID=America/New_York:20190602T180000
DTEND;TZID=America/New_York:20190602T200000
DTSTAMP:20260424T084604
CREATED:20230410T143628Z
LAST-MODIFIED:20230410T143628Z
UID:10000871-1559498400-1559505600@delrayartisans.org
SUMMARY:"Art in Meditation – Chakras" Artwork Drop Off
DESCRIPTION:Time for artists to drop off their accepted artwork and (if applicable) marketplace entries for the upcoming exhibit\, Art in Meditation – Chakras. Artwork drop off is on Sunday and Monday from 6-8pm. \nArtwork must be ready to hang (with screw eyes and wire) or ready for display (with mounting and/or a display stand if necessary). Review the standard artwork presentation guidelines and the Call for Entry for show specific information. \nQuestions? Contact the curators.
URL:https://delrayartisans.org/event/art-in-meditation-chakras-artwork-drop-off/
LOCATION:Del Ray Artisans Gallery\, 2704 Mount Vernon Avenue\, Alexandria\, VA\, 22301\, United States
CATEGORIES:Administrative
ATTACH;FMTTYPE=image/jpeg:https://delrayartisans.org/wp-content/uploads/1992/12/event-archive-image.jpg
END:VEVENT
BEGIN:VEVENT
DTSTART;TZID=America/New_York:20190428T180000
DTEND;TZID=America/New_York:20190428T200000
DTSTAMP:20260424T084604
CREATED:20230410T143504Z
LAST-MODIFIED:20230410T143504Z
UID:10000848-1556474400-1556481600@delrayartisans.org
SUMMARY:"Sacred Feminine" Artwork Drop Off
DESCRIPTION:Time for artists to drop off their accepted artwork and (if applicable) marketplace entries for the upcoming exhibit\, Sacred Feminine. Artwork drop off is on Sunday and Monday from 6-8pm. \nArtwork must be ready to hang (with screw eyes and wire) or ready for display (with mounting and/or a display stand if necessary). Review the standard artwork presentation guidelines and the Call for Entry for show specific information. \nQuestions? Contact the curators.
URL:https://delrayartisans.org/event/sacred-feminine-artwork-drop-off/
LOCATION:Del Ray Artisans Gallery\, 2704 Mount Vernon Avenue\, Alexandria\, VA\, 22301\, United States
CATEGORIES:Administrative
ATTACH;FMTTYPE=image/jpeg:https://delrayartisans.org/wp-content/uploads/1992/12/event-archive-image.jpg
END:VEVENT
BEGIN:VEVENT
DTSTART;TZID=America/New_York:20190428T180000
DTEND;TZID=America/New_York:20190428T200000
DTSTAMP:20260424T084604
CREATED:20230410T143459Z
LAST-MODIFIED:20230410T143459Z
UID:10000847-1556474400-1556481600@delrayartisans.org
SUMMARY:"(No) Comfort Zone" Artwork Pick Up
DESCRIPTION:Time for artists and buyers to pick up their artwork from the closing show\, (No) Comfort Zone. \nQuestions? Contact the curators Joe Franklin (franklinjoet@gmail.com) and Kelli Sincock (MsKelliArt@gmail.com).
URL:https://delrayartisans.org/event/no-comfort-zone-artwork-pick-up/
LOCATION:Del Ray Artisans Gallery\, 2704 Mount Vernon Avenue\, Alexandria\, VA\, 22301\, United States
CATEGORIES:Administrative
ATTACH;FMTTYPE=image/jpeg:https://delrayartisans.org/wp-content/uploads/1992/12/event-archive-image.jpg
END:VEVENT
BEGIN:VEVENT
DTSTART;TZID=America/New_York:20190331T180000
DTEND;TZID=America/New_York:20190331T200000
DTSTAMP:20260424T084604
CREATED:20230410T143002Z
LAST-MODIFIED:20230410T143002Z
UID:10000830-1554055200-1554062400@delrayartisans.org
SUMMARY:"For The Artist" Artwork Pick Up
DESCRIPTION:Time for artists and buyers to pick up their artwork from the closing show\, For The Artist. \nQuestions? Contact the curators Jeff Lodge (JeffreyLodge@yahoo.com) and Jenny Nicholson (8JLNicholson@gmail.com).
URL:https://delrayartisans.org/event/for-the-artist-artwork-pick-up/
LOCATION:Del Ray Artisans Gallery\, 2704 Mount Vernon Avenue\, Alexandria\, VA\, 22301\, United States
CATEGORIES:Administrative
ATTACH;FMTTYPE=image/jpeg:https://delrayartisans.org/wp-content/uploads/1992/12/event-archive-image.jpg
END:VEVENT
BEGIN:VEVENT
DTSTART;TZID=America/New_York:20190331T180000
DTEND;TZID=America/New_York:20190331T200000
DTSTAMP:20260424T084604
CREATED:20230410T142958Z
LAST-MODIFIED:20230410T142958Z
UID:10000829-1554055200-1554062400@delrayartisans.org
SUMMARY:"(No) Comfort Zone" Artwork Drop Off
DESCRIPTION:Time for artists to drop off their accepted artwork and (if applicable) marketplace entries for the upcoming exhibit\, (No) Comfort Zone. Artwork drop off is on Sunday and Monday from 6-8pm. \nArtwork must be ready to hang (with screw eyes and wire) or ready for display (with mounting and/or a display stand if necessary). Review the standard artwork presentation guidelines and the Call for Entry for show specific information. \nQuestions? Contact the curators.
URL:https://delrayartisans.org/event/no-comfort-zone-artwork-drop-off/
LOCATION:Del Ray Artisans Gallery\, 2704 Mount Vernon Avenue\, Alexandria\, VA\, 22301\, United States
CATEGORIES:Administrative
ATTACH;FMTTYPE=image/jpeg:https://delrayartisans.org/wp-content/uploads/1992/12/event-archive-image.jpg
END:VEVENT
BEGIN:VEVENT
DTSTART;TZID=America/New_York:20190224T180000
DTEND;TZID=America/New_York:20190224T200000
DTSTAMP:20260424T084604
CREATED:20230410T142404Z
LAST-MODIFIED:20230410T142404Z
UID:10000816-1551031200-1551038400@delrayartisans.org
SUMMARY:"New Beginnings" Artwork Pick Up
DESCRIPTION:Time for artists and buyers to pick up their artwork from the closing show\, New Beginnings. \nQuestions? Contact the curator Tracy Wilkerson (recycledworks@yahoo.com).
URL:https://delrayartisans.org/event/new-beginnings-artwork-pick-up/
LOCATION:Del Ray Artisans Gallery\, 2704 Mount Vernon Avenue\, Alexandria\, VA\, 22301\, United States
CATEGORIES:Administrative
END:VEVENT
BEGIN:VEVENT
DTSTART;TZID=America/New_York:20190224T180000
DTEND;TZID=America/New_York:20190224T200000
DTSTAMP:20260424T084604
CREATED:20230410T142401Z
LAST-MODIFIED:20230410T142401Z
UID:10000815-1551031200-1551038400@delrayartisans.org
SUMMARY:"For The Artist" Artwork Drop Off
DESCRIPTION:Time for artists to drop off their accepted artwork and (if applicable) marketplace entries for the upcoming exhibit\, For The Artist. Artwork drop off is on Sunday and Monday from 6-8pm. \nArtwork must be ready to hang (with screw eyes and wire) or ready for display (with mounting and/or a display stand if necessary). Review the standard artwork presentation guidelines and the Call for Entry for show specific information. \nQuestions? Contact the curators.
URL:https://delrayartisans.org/event/for-the-artist-artwork-drop-off/
LOCATION:Del Ray Artisans Gallery\, 2704 Mount Vernon Avenue\, Alexandria\, VA\, 22301\, United States
CATEGORIES:Administrative
ATTACH;FMTTYPE=image/jpeg:https://delrayartisans.org/wp-content/uploads/1992/12/event-archive-image.jpg
END:VEVENT
BEGIN:VEVENT
DTSTART;TZID=America/New_York:20190127T180000
DTEND;TZID=America/New_York:20190127T200000
DTSTAMP:20260424T084604
CREATED:20230410T142134Z
LAST-MODIFIED:20230410T142134Z
UID:10000801-1548612000-1548619200@delrayartisans.org
SUMMARY:"New Beginnings" Artwork Drop Off
DESCRIPTION:Time for artists to drop off their accepted artwork and (if applicable) marketplace entries for the upcoming exhibit\, New Beginnings. Artwork drop off is on Sunday and Monday from 6-8pm. \nArtwork must be ready to hang (with screw eyes and wire) or ready for display (with mounting and/or a display stand if necessary). Review the standard artwork presentation guidelines and the Call for Entry for show specific information. \nQuestions? Contact the curators.
URL:https://delrayartisans.org/event/new-beginnings-artwork-drop-off/
LOCATION:Del Ray Artisans Gallery\, 2704 Mount Vernon Avenue\, Alexandria\, VA\, 22301\, United States
CATEGORIES:Administrative
ATTACH;FMTTYPE=image/jpeg:https://delrayartisans.org/wp-content/uploads/1992/12/event-archive-image.jpg
END:VEVENT
BEGIN:VEVENT
DTSTART;TZID=America/New_York:20190127T180000
DTEND;TZID=America/New_York:20190127T200000
DTSTAMP:20260424T084604
CREATED:20230410T142131Z
LAST-MODIFIED:20230410T142131Z
UID:10000800-1548612000-1548619200@delrayartisans.org
SUMMARY:"Faces" Artwork Pick Up
DESCRIPTION:Time for artists and buyers to pick up their artwork from the closing show\, Faces. \nQuestions? Contact the curators Rita Schooley (rlschooley@gmail.com) and Kathy Turner (kturnersan@gmail.com).
URL:https://delrayartisans.org/event/faces-artwork-pick-up/
LOCATION:Del Ray Artisans Gallery\, 2704 Mount Vernon Avenue\, Alexandria\, VA\, 22301\, United States
CATEGORIES:Administrative
ATTACH;FMTTYPE=image/jpeg:https://delrayartisans.org/wp-content/uploads/1992/12/event-archive-image.jpg
END:VEVENT
BEGIN:VEVENT
DTSTART;VALUE=DATE:20190113
DTEND;VALUE=DATE:20190114
DTSTAMP:20260424T084604
CREATED:20230409T161143Z
LAST-MODIFIED:20230409T161821Z
UID:10000776-1547337600-1547423999@delrayartisans.org
SUMMARY:Gallery Closed on Sunday\, 1/13
DESCRIPTION:The Gallery will be closed Sunday Jan 13 due to inclement weather. Please check back with us to see if any other events or programs will be affected.
URL:https://delrayartisans.org/event/closed-1-13-2019/
LOCATION:Del Ray Artisans Gallery\, 2704 Mount Vernon Avenue\, Alexandria\, VA\, 22301\, United States
CATEGORIES:Administrative
ATTACH;FMTTYPE=image/jpeg:https://delrayartisans.org/wp-content/uploads/1992/12/event-archive-image.jpg
END:VEVENT
END:VCALENDAR