BEGIN:VCALENDAR
VERSION:2.0
PRODID:-//Del Ray Artisans - ECPv6.15.20//NONSGML v1.0//EN
CALSCALE:GREGORIAN
METHOD:PUBLISH
X-ORIGINAL-URL:https://delrayartisans.org
X-WR-CALDESC:Events for Del Ray Artisans
REFRESH-INTERVAL;VALUE=DURATION:PT1H
X-Robots-Tag:noindex
X-PUBLISHED-TTL:PT1H
BEGIN:VTIMEZONE
TZID:America/New_York
BEGIN:DAYLIGHT
TZOFFSETFROM:-0500
TZOFFSETTO:-0400
TZNAME:EDT
DTSTART:20180311T070000
END:DAYLIGHT
BEGIN:STANDARD
TZOFFSETFROM:-0400
TZOFFSETTO:-0500
TZNAME:EST
DTSTART:20181104T060000
END:STANDARD
BEGIN:DAYLIGHT
TZOFFSETFROM:-0500
TZOFFSETTO:-0400
TZNAME:EDT
DTSTART:20190310T070000
END:DAYLIGHT
BEGIN:STANDARD
TZOFFSETFROM:-0400
TZOFFSETTO:-0500
TZNAME:EST
DTSTART:20191103T060000
END:STANDARD
BEGIN:DAYLIGHT
TZOFFSETFROM:-0500
TZOFFSETTO:-0400
TZNAME:EDT
DTSTART:20200308T070000
END:DAYLIGHT
BEGIN:STANDARD
TZOFFSETFROM:-0400
TZOFFSETTO:-0500
TZNAME:EST
DTSTART:20201101T060000
END:STANDARD
BEGIN:DAYLIGHT
TZOFFSETFROM:-0500
TZOFFSETTO:-0400
TZNAME:EDT
DTSTART:20210314T070000
END:DAYLIGHT
BEGIN:STANDARD
TZOFFSETFROM:-0400
TZOFFSETTO:-0500
TZNAME:EST
DTSTART:20211107T060000
END:STANDARD
BEGIN:DAYLIGHT
TZOFFSETFROM:-0500
TZOFFSETTO:-0400
TZNAME:EDT
DTSTART:20220313T070000
END:DAYLIGHT
BEGIN:STANDARD
TZOFFSETFROM:-0400
TZOFFSETTO:-0500
TZNAME:EST
DTSTART:20221106T060000
END:STANDARD
END:VTIMEZONE
BEGIN:VEVENT
DTSTART;TZID=America/New_York:20210502T120000
DTEND;TZID=America/New_York:20210502T180000
DTSTAMP:20260424T000009
CREATED:20230329T205531Z
LAST-MODIFIED:20230329T205531Z
UID:10000251-1619956800-1619978400@delrayartisans.org
SUMMARY:“The Art of Nature” Artwork Drop Off
DESCRIPTION:Time for artists to drop off their accepted artwork and marketplace entries for the upcoming exhibit\, The Art of Nature. Artwork drop off is Sunday\, May 2 from 12-6pm by appointment only. \nArtwork must be ready to hang (with screw eyes and wire) or ready for display (with mounting and/or a display stand if necessary). Review the standard artwork presentation guidelines and the Call for Entry for show specific information. \nQuestions? Contact the curator Cynthia Schoeppel (schoeppc@hotmail.com)
URL:https://delrayartisans.org/event/the-art-of-nature-artwork-drop-off/
LOCATION:VA
CATEGORIES:Administrative
ATTACH;FMTTYPE=image/jpeg:https://delrayartisans.org/wp-content/uploads/2021/03/The-Art-of-Nature-Postcard-Front.jpg
ORGANIZER;CN="Cynthia Schoeppel":MAILTO:schoeppc@hotmail.com
END:VEVENT
BEGIN:VEVENT
DTSTART;TZID=America/New_York:20210501T123000
DTEND;TZID=America/New_York:20210501T180000
DTSTAMP:20260424T000009
CREATED:20230329T205521Z
LAST-MODIFIED:20230329T205521Z
UID:10000250-1619872200-1619892000@delrayartisans.org
SUMMARY:“Unfinished/Finished” Artwork Pick Up by Appointment
DESCRIPTION:Time for artists to pick up their unsold artwork from the closing show\, Unfinished/Finished\, by appointment only. \nQuestions? Contact the curator Eileen O’Brien (artbyeileenm@gmail.com)
URL:https://delrayartisans.org/event/unfinished-finished-artwork-pick-up-by-appointment/
LOCATION:VA
CATEGORIES:Administrative
ATTACH;FMTTYPE=image/png:https://delrayartisans.org/wp-content/uploads/2021/03/Unfinished_Finished-Postcard_Front.png
END:VEVENT
BEGIN:VEVENT
DTSTART;TZID=America/New_York:20210328T120000
DTEND;TZID=America/New_York:20210328T180000
DTSTAMP:20260424T000009
CREATED:20230329T205447Z
LAST-MODIFIED:20230329T205447Z
UID:10000237-1616932800-1616954400@delrayartisans.org
SUMMARY:“Unfinished/Finished” Artwork Drop Off
DESCRIPTION:Time for artists to drop off their accepted artwork and marketplace entries for the upcoming exhibit\, Unfinished/Finished. Artwork drop off is Sunday\, March 28 from 12-6pm by appointment only. \nArtwork must be ready to hang (with screw eyes and wire) or ready for display (with mounting and/or a display stand if necessary). Review the standard artwork presentation guidelines and the Call for Entry for show specific information. \nQuestions? Contact the curator Eileen O’Brien (artbyeileenm@gmail.com)
URL:https://delrayartisans.org/event/unfinished-finished-artwork-drop-off/
LOCATION:VA
CATEGORIES:Administrative
ATTACH;FMTTYPE=image/png:https://delrayartisans.org/wp-content/uploads/2021/03/Unfinished_Finished-Postcard_Front.png
END:VEVENT
BEGIN:VEVENT
DTSTART;TZID=America/New_York:20210327T123000
DTEND;TZID=America/New_York:20210327T180000
DTSTAMP:20260424T000009
CREATED:20230329T205436Z
LAST-MODIFIED:20230329T205436Z
UID:10000235-1616848200-1616868000@delrayartisans.org
SUMMARY:“Give Me Shelter” Artwork Pick Up by Appointment
DESCRIPTION:Time for artists to pick up their unsold artwork from the closing show\, Give Me Shelter\, by appointment only. \nQuestions? Contact the curators Theresa Kulstad (tkulstad1@gmail.com) and Pamela Day (pamdaycat@yahoo.com)
URL:https://delrayartisans.org/event/give-me-shelter-artwork-pick-up-by-appointment/
LOCATION:VA
CATEGORIES:Administrative
ATTACH;FMTTYPE=image/jpeg:https://delrayartisans.org/wp-content/uploads/2021/01/GiveMeShelter-postcard-front.jpg
ORGANIZER;CN="Theresa Kulstad":MAILTO:tkulstad1@gmail.com
END:VEVENT
BEGIN:VEVENT
DTSTART;TZID=America/New_York:20210228T120000
DTEND;TZID=America/New_York:20210228T190000
DTSTAMP:20260424T000009
CREATED:20230329T205420Z
LAST-MODIFIED:20230329T205420Z
UID:10000229-1614513600-1614538800@delrayartisans.org
SUMMARY:“Give Me Shelter” Artwork Drop Off
DESCRIPTION:Time for artists to drop off their accepted artwork and marketplace entries for the upcoming exhibit\, Give Me Shelter. Artwork drop off is Sunday\, February 28 from 12-7pm by appointment only. \nArtwork must be ready to hang (with screw eyes and wire) or ready for display (with mounting and/or a display stand if necessary). Review the standard artwork presentation guidelines and the Call for Entry for show specific information. \nQuestions? Contact the curators Theresa Kulstad (tkulstad1@gmail.com) and Pamela Day  (pamdaycat53@gmail.com)
URL:https://delrayartisans.org/event/give-me-shelter-artwork-drop-off/
LOCATION:VA
CATEGORIES:Administrative
ATTACH;FMTTYPE=image/jpeg:https://delrayartisans.org/wp-content/uploads/2021/01/GiveMeShelter-postcard-front.jpg
ORGANIZER;CN="Theresa Kulstad":MAILTO:tkulstad1@gmail.com
END:VEVENT
BEGIN:VEVENT
DTSTART;TZID=America/New_York:20210227T123000
DTEND;TZID=America/New_York:20210227T180000
DTSTAMP:20260424T000009
CREATED:20230329T205418Z
LAST-MODIFIED:20230329T205418Z
UID:10000228-1614429000-1614448800@delrayartisans.org
SUMMARY:“After Edward Hopper” Artwork Pick Up by Appointment
DESCRIPTION:Time for artists to pick up their unsold artwork from the closing show\, After Edward Hopper: Themes of Solitude and Isolation\, by appointment only. \nQuestions? Contact the curator Kelly MacConomy (kmacconomy@gmail.com)
URL:https://delrayartisans.org/event/after-edward-hopper-artwork-pick-up-by-appointment/
LOCATION:VA
CATEGORIES:Administrative
ATTACH;FMTTYPE=image/png:https://delrayartisans.org/wp-content/uploads/2020/12/Postcard-Feb2021-front.png
ORGANIZER;CN="Kelly MacConomy":MAILTO:kmacconomy@gmail.com
END:VEVENT
BEGIN:VEVENT
DTSTART;TZID=America/New_York:20210131T120000
DTEND;TZID=America/New_York:20210131T180000
DTSTAMP:20260424T000009
CREATED:20230329T205349Z
LAST-MODIFIED:20230329T205349Z
UID:10000219-1612094400-1612116000@delrayartisans.org
SUMMARY:“After Edward Harper” Artwork Drop Off
DESCRIPTION:“COVID Nighthawks reimagined” by Kelly MacConomy\nTime for artists to drop off their accepted artwork and marketplace entries for the upcoming exhibit\, After Edward Hopper: Themes of Solitude and Isolation. Artwork drop off is Sunday\, January 31 from 12-6pm by appointment only. \nArtwork must be ready to hang (with screw eyes and wire) or ready for display (with mounting and/or a display stand if necessary). Review the standard artwork presentation guidelines and the Call for Entry for show specific information. \nQuestions? Contact the curator Kelly MacConomy (kmacconomy@gmail.com)
URL:https://delrayartisans.org/event/after-edward-harper-artwork-drop-off/
LOCATION:VA
CATEGORIES:Administrative
ATTACH;FMTTYPE=image/jpeg:https://delrayartisans.org/wp-content/uploads/2020/09/COVID-Nighthawks-reimagined-by-Kelly-MacConomy.jpg
ORGANIZER;CN="Kelly MacConomy":MAILTO:kmacconomy@gmail.com
END:VEVENT
BEGIN:VEVENT
DTSTART;TZID=America/New_York:20210130T123000
DTEND;TZID=America/New_York:20210130T180000
DTSTAMP:20260424T000009
CREATED:20230329T205348Z
LAST-MODIFIED:20230329T205348Z
UID:10000218-1612009800-1612029600@delrayartisans.org
SUMMARY:“Hidden World” Artwork Pick Up by Appointment
DESCRIPTION:Time for artists to pick up their unsold artwork from the closing show\, Hidden World\, by appointment only. \nQuestions? Contact the curators: Nancy Galib (ngalib@verizon.net) and Nicole Mahoney (nicole.m.mahoney@gmail.com) \nArtwork credit: “The Eye of the Abyss” by Nancy M. Galib
URL:https://delrayartisans.org/event/hidden-world-artwork-pick-up-by-appointment/
LOCATION:Del Ray Artisans Gallery\, 2704 Mount Vernon Avenue\, Alexandria\, VA\, 22301\, United States
CATEGORIES:Administrative
ATTACH;FMTTYPE=image/jpeg:https://delrayartisans.org/wp-content/uploads/2020/06/The-Eye-of-the-Abyss-by-Nancy-M-Galib.jpg
ORGANIZER;CN="Nancy Galib":MAILTO:ngalib@verizon.net
END:VEVENT
BEGIN:VEVENT
DTSTART;TZID=America/New_York:20210103T120000
DTEND;TZID=America/New_York:20210103T180000
DTSTAMP:20260424T000009
CREATED:20230329T205338Z
LAST-MODIFIED:20230329T205338Z
UID:10000211-1609675200-1609696800@delrayartisans.org
SUMMARY:“Hidden World” Artwork Drop Off
DESCRIPTION:Time for artists to drop off their accepted artwork and marketplace entries for the upcoming exhibit\, Hidden World. Artwork drop off is Sunday\, January 3 from 12-6pm by appointment only. \nArtwork must be ready to hang (with screw eyes and wire) or ready for display (with mounting and/or a display stand if necessary). Review the standard artwork presentation guidelines and the Call for Entry for show specific information. \nQuestions? Contact the curators Nancy Galib (ngalib@verizon.net) and Nicole Mahoney (nicole.m.mahoney@gmail.com). \nArtwork credit: “The Eye of the Abyss” by Nancy M. Galib
URL:https://delrayartisans.org/event/hidden-world-artwork-drop-off/
LOCATION:VA
CATEGORIES:Administrative
ATTACH;FMTTYPE=image/jpeg:https://delrayartisans.org/wp-content/uploads/2020/06/The-Eye-of-the-Abyss-by-Nancy-M-Galib.jpg
ORGANIZER;CN="Nancy Galib":MAILTO:ngalib@verizon.net
END:VEVENT
BEGIN:VEVENT
DTSTART;TZID=America/New_York:20201129T100000
DTEND;TZID=America/New_York:20201129T120000
DTSTAMP:20260424T000009
CREATED:20230331T212721Z
LAST-MODIFIED:20230331T212721Z
UID:10000758-1606644000-1606651200@delrayartisans.org
SUMMARY:"Women's Right to Vote" Artwork Pick Up
DESCRIPTION:Time for artists to pick up their unsold artwork from the closing show\, Women’s Right to Vote: 100 Years Since the 19th Amendment. Artwork pick up is Saturday\, November 28 from 12:30-4pm and Sunday\, November 29 from 10am-noon by appointment only. \nQuestions? Contact the curators Amy Kitchin Hower (alkitchin.dc@gmail.com)\, Karen Schmitz (kschmitzart@gmail.com) and Drew Cariaso (druamaart@comcast.net).
URL:https://delrayartisans.org/event/womens-right-to-vote-artwork-pick-up-2/
LOCATION:Del Ray Artisans Gallery\, 2704 Mount Vernon Avenue\, Alexandria\, VA\, 22301\, United States
CATEGORIES:Administrative
ATTACH;FMTTYPE=image/jpeg:https://delrayartisans.org/wp-content/uploads/1992/12/event-archive-image.jpg
END:VEVENT
BEGIN:VEVENT
DTSTART;TZID=America/New_York:20201128T123000
DTEND;TZID=America/New_York:20201128T160000
DTSTAMP:20260424T000009
CREATED:20230331T212719Z
LAST-MODIFIED:20230331T212719Z
UID:10000757-1606566600-1606579200@delrayartisans.org
SUMMARY:"Women's Right to Vote" Artwork Pick Up
DESCRIPTION:Time for artists to pick up their unsold artwork from the closing show\, Women’s Right to Vote: 100 Years Since the 19th Amendment. Artwork pick up is Saturday\, November 28 from 12:30-4pm and Sunday\, November 29 from 10am-noon by appointment only. \nQuestions? Contact the curators Amy Kitchin Hower (alkitchin.dc@gmail.com)\, Karen Schmitz (kschmitzart@gmail.com) and Drew Cariaso (druamaart@comcast.net).
URL:https://delrayartisans.org/event/womens-right-to-vote-artwork-pick-up/
LOCATION:Del Ray Artisans Gallery\, 2704 Mount Vernon Avenue\, Alexandria\, VA\, 22301\, United States
CATEGORIES:Administrative
ATTACH;FMTTYPE=image/jpeg:https://delrayartisans.org/wp-content/uploads/1992/12/event-archive-image.jpg
END:VEVENT
BEGIN:VEVENT
DTSTART;VALUE=DATE:20201126
DTEND;VALUE=DATE:20201127
DTSTAMP:20260424T000009
CREATED:20230331T212711Z
LAST-MODIFIED:20230409T155704Z
UID:10000754-1606348800-1606435199@delrayartisans.org
SUMMARY:Gallery Closed on Thanksgiving
DESCRIPTION:“Kitchen Casualty” by Michele Reday Cook\nHappy Thanksgiving! \nThe gallery is closed on Thanksgiving Day\, but will be open on Friday from noon-6pm and Saturday from noon-4pm. \nThis is the final weekend of the Women’s Right to Vote: 100 Years Since the 19th Amendment exhibit. Don’t miss it!
URL:https://delrayartisans.org/event/gallery-closed-on-thanksgiving/
LOCATION:Del Ray Artisans Gallery\, 2704 Mount Vernon Avenue\, Alexandria\, VA\, 22301\, United States
CATEGORIES:Administrative
END:VEVENT
BEGIN:VEVENT
DTSTART;TZID=America/New_York:20201101T120000
DTEND;TZID=America/New_York:20201101T180000
DTSTAMP:20260424T000009
CREATED:20230331T212643Z
LAST-MODIFIED:20230408T133920Z
UID:10000746-1604232000-1604253600@delrayartisans.org
SUMMARY:"Women's Right to Vote" Artwork Drop Off
DESCRIPTION:Time for artists to drop off their accepted artwork and marketplace entries for the upcoming exhibit\, Women’s Right to Vote: 100 Years Since the 19th Amendment. Artwork drop off is Sunday\, November 1 from 12-6pm by appointment only. \nArtwork must be ready to hang (with screw eyes and wire) or ready for display (with mounting and/or a display stand if necessary). Review the standard artwork presentation guidelines and the Call for Entry for show specific information. \nQuestions? Contact the curators Amy Kitchin Hower (alkitchin.dc@gmail.com)\, Karen Schmitz (kschmitzart@gmail.com) and Drew Cariaso (druamaart@comcast.net). \n\nArtwork credit: “A Hooded Intellect #2” by Amy Kitchin Hower
URL:https://delrayartisans.org/event/womens-right-to-vote-artwork-drop-off/
LOCATION:Del Ray Artisans Gallery\, 2704 Mount Vernon Avenue\, Alexandria\, VA\, 22301\, United States
CATEGORIES:Administrative
ATTACH;FMTTYPE=image/jpeg:https://delrayartisans.org/wp-content/uploads/2020/02/Hooded-Intellect-2-by-Amy-Kitchin-Hower.jpg
END:VEVENT
BEGIN:VEVENT
DTSTART;TZID=America/New_York:20201101T100000
DTEND;TZID=America/New_York:20201101T120000
DTSTAMP:20260424T000009
CREATED:20230331T212645Z
LAST-MODIFIED:20230331T212645Z
UID:10000747-1604224800-1604232000@delrayartisans.org
SUMMARY:"Living in a Mini World" Artwork Pick Up by Appointment
DESCRIPTION:Time for artists to pick up their unsold artwork from the closing show\, Living in a Mini World. Artwork pick up is Saturday\, October 31 from 12:30-4pm and Sunday\, November 1 from 10am-noon by appointment only. \nQuestions? Contact the curators\, Betsy Jones (betsyjones222@gmail.com) and Howard Hay (howardthomashay@gmail.com)
URL:https://delrayartisans.org/event/living-in-a-mini-world-artwork-pick-up-by-appointment-2/
LOCATION:Del Ray Artisans Gallery\, 2704 Mount Vernon Avenue\, Alexandria\, VA\, 22301\, United States
CATEGORIES:Administrative
ATTACH;FMTTYPE=image/jpeg:https://delrayartisans.org/wp-content/uploads/1992/12/event-archive-image.jpg
END:VEVENT
BEGIN:VEVENT
DTSTART;TZID=America/New_York:20201031T133000
DTEND;TZID=America/New_York:20201031T170000
DTSTAMP:20260424T000009
CREATED:20230331T212640Z
LAST-MODIFIED:20230331T212640Z
UID:10000745-1604151000-1604163600@delrayartisans.org
SUMMARY:"Living in a Mini World" Artwork Pick Up by Appointment
DESCRIPTION:Time for artists to pick up their unsold artwork from the closing show\, Living in a Mini World. Artwork pick up is Saturday\, October 31 from 12:30-4pm and Sunday\, November 1 from 10am-noon by appointment only. \nQuestions? Contact the curators\, Betsy Jones (betsyjones222@gmail.com) and Howard Hay (howardthomashay@gmail.com)
URL:https://delrayartisans.org/event/living-in-a-mini-world-artwork-pick-up-by-appointment/
LOCATION:Del Ray Artisans Gallery\, 2704 Mount Vernon Avenue\, Alexandria\, VA\, 22301\, United States
CATEGORIES:Administrative
ATTACH;FMTTYPE=image/jpeg:https://delrayartisans.org/wp-content/uploads/1992/12/event-archive-image.jpg
END:VEVENT
BEGIN:VEVENT
DTSTART;TZID=America/New_York:20200927T130000
DTEND;TZID=America/New_York:20200927T190000
DTSTAMP:20260424T000009
CREATED:20230331T212558Z
LAST-MODIFIED:20230331T212558Z
UID:10000732-1601211600-1601233200@delrayartisans.org
SUMMARY:"Living in a Mini World" Artwork Drop Off by Appointment
DESCRIPTION:Time for artists to drop off their accepted artwork and marketplace entries for the upcoming exhibit\, Living in a Mini World. Artwork drop off is Sunday\, September 27 by appointment only. \nArtwork must be ready to hang (with screw eyes and wire) or ready for display (with mounting and/or a display stand if necessary). Review the standard artwork presentation guidelines and the Call for Entry for show specific information. \nQuestions? Contact the curators\, Betsy Jones (betsyjones222@gmail.com) and Howard Hay (howardthomashay@gmail.com)
URL:https://delrayartisans.org/event/living-in-a-mini-world-artwork-drop-off-by-appointment/
LOCATION:Del Ray Artisans Gallery\, 2704 Mount Vernon Avenue\, Alexandria\, VA\, 22301\, United States
CATEGORIES:Administrative
ATTACH;FMTTYPE=image/jpeg:https://delrayartisans.org/wp-content/uploads/1992/12/event-archive-image.jpg
END:VEVENT
BEGIN:VEVENT
DTSTART;TZID=America/New_York:20200926T133000
DTEND;TZID=America/New_York:20200926T190000
DTSTAMP:20260424T000009
CREATED:20230331T212555Z
LAST-MODIFIED:20230331T212555Z
UID:10000731-1601127000-1601146800@delrayartisans.org
SUMMARY:"Art in Movement" Artwork Pick Up by Appointment
DESCRIPTION:Time for artists to pick up their unsold artwork from the closing show\, Art in Movement\, by appointment only. \nQuestions? Contact the curator\, Kelly Marie Postula (creativekmp20@gmail.com)
URL:https://delrayartisans.org/event/art-in-movement-artwork-pick-up-by-appointment/
LOCATION:Del Ray Artisans Gallery\, 2704 Mount Vernon Avenue\, Alexandria\, VA\, 22301\, United States
CATEGORIES:Administrative
ATTACH;FMTTYPE=image/jpeg:https://delrayartisans.org/wp-content/uploads/1992/12/event-archive-image.jpg
END:VEVENT
BEGIN:VEVENT
DTSTART;TZID=America/New_York:20200902T180000
DTEND;TZID=America/New_York:20200902T210000
DTSTAMP:20260424T000009
CREATED:20230331T212525Z
LAST-MODIFIED:20230331T212525Z
UID:10000721-1599069600-1599080400@delrayartisans.org
SUMMARY:Time reserved for curator
DESCRIPTION:This time is reserved for the curator to finalize the exhibit. \nGet a sneak peek tomorrow (Thursday\, September 3).  The Art in Movement exhibit officially opens Friday\, September 4. \nGallery hours are Thursday & Friday 12-6pm\, Saturday 12-4pm.
URL:https://delrayartisans.org/event/time-reserved-for-curator/
LOCATION:Del Ray Artisans Gallery\, 2704 Mount Vernon Avenue\, Alexandria\, VA\, 22301\, United States
CATEGORIES:Administrative
ATTACH;FMTTYPE=image/jpeg:https://delrayartisans.org/wp-content/uploads/1992/12/event-archive-image.jpg
END:VEVENT
BEGIN:VEVENT
DTSTART;TZID=America/New_York:20200830T130000
DTEND;TZID=America/New_York:20200830T190000
DTSTAMP:20260424T000009
CREATED:20230331T212514Z
LAST-MODIFIED:20230331T212514Z
UID:10000718-1598792400-1598814000@delrayartisans.org
SUMMARY:"Art in Movement" Artwork Drop Off by Appointment
DESCRIPTION:Time for artists to drop off their accepted artwork and marketplace entries for the upcoming exhibit\, Art in Movement. Artwork drop off is Sunday\, August 30 by appointment only. \nArtwork must be ready to hang (with screw eyes and wire) or ready for display (with mounting and/or a display stand if necessary). Review the standard artwork presentation guidelines and the Call for Entry for show specific information. \nQuestions? Contact the curator\, Kelly Marie Postula (creativekmp20@gmail.com)
URL:https://delrayartisans.org/event/art-in-movement-artwork-drop-off-by-appointment/
LOCATION:Del Ray Artisans Gallery\, 2704 Mount Vernon Avenue\, Alexandria\, VA\, 22301\, United States
CATEGORIES:Administrative
ATTACH;FMTTYPE=image/jpeg:https://delrayartisans.org/wp-content/uploads/1992/12/event-archive-image.jpg
END:VEVENT
BEGIN:VEVENT
DTSTART;TZID=America/New_York:20200829T150000
DTEND;TZID=America/New_York:20200829T200000
DTSTAMP:20260424T000009
CREATED:20230331T212509Z
LAST-MODIFIED:20230331T212509Z
UID:10000716-1598713200-1598731200@delrayartisans.org
SUMMARY:"Hello\, Bright Eyes" Artwork Pick Up by Appointment
DESCRIPTION:Time for artists to pick up their unsold artwork from the closing show\, Hello\, Bright Eyes\, by appointment only. \nQuestions? Contact the curators Stephanie Chan (vangoat.studios@gmail.com) and Tracy Wilkerson (recycledworks@yahoo.com)
URL:https://delrayartisans.org/event/hello-bright-eyes-artwork-pick-up-by-appointment/
LOCATION:Del Ray Artisans Gallery\, 2704 Mount Vernon Avenue\, Alexandria\, VA\, 22301\, United States
CATEGORIES:Administrative
ATTACH;FMTTYPE=image/jpeg:https://delrayartisans.org/wp-content/uploads/1992/12/event-archive-image.jpg
END:VEVENT
BEGIN:VEVENT
DTSTART;TZID=America/New_York:20200824T190000
DTEND;TZID=America/New_York:20200824T210000
DTSTAMP:20260424T000009
CREATED:20230331T212503Z
LAST-MODIFIED:20230331T212503Z
UID:10000714-1598295600-1598302800@delrayartisans.org
SUMMARY:2021 Exhibit Selection Committee Meeting
DESCRIPTION:This time is reserved for the 2021 Exhibit Selection Committee. \nNot open to the public. \nQuestion? Please contact the committee chairs: Liz Martinez (catniphaze@gmail.com) and Michele Reday Cook (mredaycook@gmail.com).
URL:https://delrayartisans.org/event/2021-exhibit-selection-committee-meeting/
LOCATION:Del Ray Artisans Gallery\, 2704 Mount Vernon Avenue\, Alexandria\, VA\, 22301\, United States
CATEGORIES:Administrative
ATTACH;FMTTYPE=image/jpeg:https://delrayartisans.org/wp-content/uploads/1992/12/event-archive-image.jpg
END:VEVENT
BEGIN:VEVENT
DTSTART;TZID=America/New_York:20200801T130000
DTEND;TZID=America/New_York:20200801T170000
DTSTAMP:20260424T000009
CREATED:20230331T212408Z
LAST-MODIFIED:20230331T212408Z
UID:10000697-1596286800-1596301200@delrayartisans.org
SUMMARY:"Take Away Art" Artwork Pick Up by Appointment
DESCRIPTION:Artists may pick up their unsold artwork from the closing show\, Take Away Art\, today by appointment. \nNeed an appointment? Contact the curators Dawn Wyse Hurto (Technology@DelRayArtisans.org) and Dale Spivey (VP@DelRayArtisans.org).
URL:https://delrayartisans.org/event/take-away-art-artwork-pick-up-by-appointment-2/
LOCATION:Del Ray Artisans Gallery\, 2704 Mount Vernon Avenue\, Alexandria\, VA\, 22301\, United States
CATEGORIES:Administrative
ATTACH;FMTTYPE=image/jpeg:https://delrayartisans.org/wp-content/uploads/1992/12/event-archive-image.jpg
END:VEVENT
BEGIN:VEVENT
DTSTART;TZID=America/New_York:20200731T130000
DTEND;TZID=America/New_York:20200731T190000
DTSTAMP:20260424T000009
CREATED:20230331T212406Z
LAST-MODIFIED:20230331T212406Z
UID:10000696-1596200400-1596222000@delrayartisans.org
SUMMARY:"Take Away Art" Artwork Pick Up by Appointment
DESCRIPTION:Artists may pick up their unsold artwork from the closing show\, Take Away Art\, today by appointment. \nNeed an appointment? Contact the curators Dawn Wyse Hurto (Technology@DelRayArtisans.org) and Dale Spivey (VP@DelRayArtisans.org).
URL:https://delrayartisans.org/event/take-away-art-artwork-pick-up-by-appointment/
LOCATION:Del Ray Artisans Gallery\, 2704 Mount Vernon Avenue\, Alexandria\, VA\, 22301\, United States
CATEGORIES:Administrative
ATTACH;FMTTYPE=image/jpeg:https://delrayartisans.org/wp-content/uploads/1992/12/event-archive-image.jpg
END:VEVENT
BEGIN:VEVENT
DTSTART;TZID=America/New_York:20200301T180000
DTEND;TZID=America/New_York:20200301T200000
DTSTAMP:20260424T000009
CREATED:20230331T211515Z
LAST-MODIFIED:20230331T211515Z
UID:10000652-1583085600-1583092800@delrayartisans.org
SUMMARY:"Kondo vs. Chaos" Artwork Pick Up
DESCRIPTION:Time for artists and buyers to pick up their artwork from the closing show\, Kondo vs. Chaos. \nQuestions? Contact the curators Marcia Toepfer  (marcia.toepfer1@cox.net) and Taly Walsh (taly.walsh@gmail.com).
URL:https://delrayartisans.org/event/kondo-vs-chaos-artwork-pick-up/
LOCATION:Del Ray Artisans Gallery\, 2704 Mount Vernon Avenue\, Alexandria\, VA\, 22301\, United States
CATEGORIES:Administrative
ATTACH;FMTTYPE=image/jpeg:https://delrayartisans.org/wp-content/uploads/1992/12/event-archive-image.jpg
END:VEVENT
BEGIN:VEVENT
DTSTART;TZID=America/New_York:20200202T180000
DTEND;TZID=America/New_York:20200202T200000
DTSTAMP:20260424T000009
CREATED:20230331T211259Z
LAST-MODIFIED:20230408T155405Z
UID:10000642-1580666400-1580673600@delrayartisans.org
SUMMARY:"Tangerine" Artwork Pick Up
DESCRIPTION:Time for artists and buyers to pick up their artwork from the closing show\, Tangerine. \nQuestions? Contact the curator Betsy Mead at egmead@gmail.com.
URL:https://delrayartisans.org/event/tangerine-artwork-pick-up/
LOCATION:Del Ray Artisans Gallery\, 2704 Mount Vernon Avenue\, Alexandria\, VA\, 22301\, United States
CATEGORIES:Administrative
ATTACH;FMTTYPE=image/jpeg:https://delrayartisans.org/wp-content/uploads/1992/12/event-archive-image.jpg
END:VEVENT
BEGIN:VEVENT
DTSTART;VALUE=DATE:20191223
DTEND;VALUE=DATE:20200109
DTSTAMP:20260424T000009
CREATED:20230410T144441Z
LAST-MODIFIED:20230410T144441Z
UID:10000999-1577059200-1578527999@delrayartisans.org
SUMMARY:Gallery Closed
DESCRIPTION:The gallery will be closed to the public from December 23 through January 8\, 2020. There is currently not an art exhibit on display. \nThe gallery will be open only to curators and volunteers for exhibit hanging. \nHappy Holidays!\nThe gallery will resume regular gallery hours on January 9\, 2020. Gallery hours are Thursdays 12-6pm\, Fridays and Saturdays 12-9pm\, and Sundays 12-6pm.
URL:https://delrayartisans.org/event/gallery-closed/
LOCATION:Del Ray Artisans Gallery\, 2704 Mount Vernon Avenue\, Alexandria\, VA\, 22301\, United States
CATEGORIES:Administrative
ATTACH;FMTTYPE=image/jpeg:https://delrayartisans.org/wp-content/uploads/1992/12/event-archive-image.jpg
END:VEVENT
BEGIN:VEVENT
DTSTART;TZID=America/New_York:20191220T140000
DTEND;TZID=America/New_York:20191220T173000
DTSTAMP:20260424T000009
CREATED:20230410T144247Z
LAST-MODIFIED:20230410T165158Z
UID:10001040-1576850400-1576863000@delrayartisans.org
SUMMARY:Holiday Market 2019 Setup
DESCRIPTION:Holiday Market setup – open for administrative business only
URL:https://delrayartisans.org/event/holiday-market-2019-setup/2019-12-20/
LOCATION:Del Ray Artisans Gallery\, 2704 Mount Vernon Avenue\, Alexandria\, VA\, 22301\, United States
CATEGORIES:Administrative
ATTACH;FMTTYPE=image/jpeg:https://delrayartisans.org/wp-content/uploads/1992/12/event-archive-image.jpg
END:VEVENT
BEGIN:VEVENT
DTSTART;TZID=America/New_York:20191219T183000
DTEND;TZID=America/New_York:20191219T203000
DTSTAMP:20260424T000010
CREATED:20230410T144247Z
LAST-MODIFIED:20230410T165158Z
UID:10001039-1576780200-1576787400@delrayartisans.org
SUMMARY:Holiday Market 2019 Setup
DESCRIPTION:Holiday Market setup – open for administrative business only
URL:https://delrayartisans.org/event/holiday-market-2019-setup/2019-12-19/
LOCATION:Del Ray Artisans Gallery\, 2704 Mount Vernon Avenue\, Alexandria\, VA\, 22301\, United States
CATEGORIES:Administrative
ATTACH;FMTTYPE=image/jpeg:https://delrayartisans.org/wp-content/uploads/1992/12/event-archive-image.jpg
END:VEVENT
BEGIN:VEVENT
DTSTART;TZID=America/New_York:20191213T140000
DTEND;TZID=America/New_York:20191213T173000
DTSTAMP:20260424T000010
CREATED:20230410T144247Z
LAST-MODIFIED:20230410T165158Z
UID:10001038-1576245600-1576258200@delrayartisans.org
SUMMARY:Holiday Market 2019 Setup
DESCRIPTION:Holiday Market setup – open for administrative business only
URL:https://delrayartisans.org/event/holiday-market-2019-setup/2019-12-13/
LOCATION:Del Ray Artisans Gallery\, 2704 Mount Vernon Avenue\, Alexandria\, VA\, 22301\, United States
CATEGORIES:Administrative
ATTACH;FMTTYPE=image/jpeg:https://delrayartisans.org/wp-content/uploads/1992/12/event-archive-image.jpg
END:VEVENT
BEGIN:VEVENT
DTSTART;TZID=America/New_York:20191212T183000
DTEND;TZID=America/New_York:20191212T203000
DTSTAMP:20260424T000010
CREATED:20230410T144247Z
LAST-MODIFIED:20230410T165158Z
UID:10001037-1576175400-1576182600@delrayartisans.org
SUMMARY:Holiday Market 2019 Setup
DESCRIPTION:Holiday Market setup – open for administrative business only
URL:https://delrayartisans.org/event/holiday-market-2019-setup/2019-12-12/
LOCATION:Del Ray Artisans Gallery\, 2704 Mount Vernon Avenue\, Alexandria\, VA\, 22301\, United States
CATEGORIES:Administrative
ATTACH;FMTTYPE=image/jpeg:https://delrayartisans.org/wp-content/uploads/1992/12/event-archive-image.jpg
END:VEVENT
END:VCALENDAR