BEGIN:VCALENDAR
VERSION:2.0
PRODID:-//Del Ray Artisans - ECPv6.15.20//NONSGML v1.0//EN
CALSCALE:GREGORIAN
METHOD:PUBLISH
X-ORIGINAL-URL:https://delrayartisans.org
X-WR-CALDESC:Events for Del Ray Artisans
REFRESH-INTERVAL;VALUE=DURATION:PT1H
X-Robots-Tag:noindex
X-PUBLISHED-TTL:PT1H
BEGIN:VTIMEZONE
TZID:America/New_York
BEGIN:DAYLIGHT
TZOFFSETFROM:-0500
TZOFFSETTO:-0400
TZNAME:EDT
DTSTART:20220313T070000
END:DAYLIGHT
BEGIN:STANDARD
TZOFFSETFROM:-0400
TZOFFSETTO:-0500
TZNAME:EST
DTSTART:20221106T060000
END:STANDARD
BEGIN:DAYLIGHT
TZOFFSETFROM:-0500
TZOFFSETTO:-0400
TZNAME:EDT
DTSTART:20230312T070000
END:DAYLIGHT
BEGIN:STANDARD
TZOFFSETFROM:-0400
TZOFFSETTO:-0500
TZNAME:EST
DTSTART:20231105T060000
END:STANDARD
BEGIN:DAYLIGHT
TZOFFSETFROM:-0500
TZOFFSETTO:-0400
TZNAME:EDT
DTSTART:20240310T070000
END:DAYLIGHT
BEGIN:STANDARD
TZOFFSETFROM:-0400
TZOFFSETTO:-0500
TZNAME:EST
DTSTART:20241103T060000
END:STANDARD
END:VTIMEZONE
BEGIN:VEVENT
DTSTART;TZID=America/New_York:20231029T120000
DTEND;TZID=America/New_York:20231029T150000
DTSTAMP:20260425T214205
CREATED:20230324T195103Z
LAST-MODIFIED:20230824T153800Z
UID:10000146-1698580800-1698591600@delrayartisans.org
SUMMARY:"Curses! Foiled Again!" Artwork Pick Up
DESCRIPTION:Time for artists to pick up their unsold artwork from the closing show\, Curses! Foiled Again! The Art of Swords and Sorcery.\n \nQuestions? Contact the curator Erica Hughes at zarathustraspeaks@msn.com. \n 
URL:https://delrayartisans.org/event/curses-foiled-again-artwork-pick-up/
LOCATION:Del Ray Artisans Gallery\, 2704 Mount Vernon Avenue\, Alexandria\, VA\, 22301\, United States
CATEGORIES:Administrative
ATTACH;FMTTYPE=image/jpeg:https://delrayartisans.org/wp-content/uploads/1992/12/delrayartisans-gallery-april2021.jpg
ORGANIZER;CN="Erica Hughes":MAILTO:zarathustraspeaks@msn.com
END:VEVENT
BEGIN:VEVENT
DTSTART;TZID=America/New_York:20231029T150000
DTEND;TZID=America/New_York:20231029T180000
DTSTAMP:20260425T214205
CREATED:20230324T195104Z
LAST-MODIFIED:20230821T011649Z
UID:10000147-1698591600-1698602400@delrayartisans.org
SUMMARY:"Housemates" Artwork Drop Off
DESCRIPTION:Time for artists to drop off their accepted artwork entries for the upcoming exhibit\, Housemates. Artwork drop off is Sunday\, October 29 from 3-6pm. \nArtwork must be ready to hang (with screw eyes and wire) or ready for display (with mounting and/or a display stand if necessary). Review the standard artwork presentation guidelines and the Call for Entry for show specific information. \nQuestions? Contact the curator Robyn Seaton McGarry at robynmcgarry15@gmail.com. \n 
URL:https://delrayartisans.org/event/housemates-artwork-drop-off/
LOCATION:Del Ray Artisans Gallery\, 2704 Mount Vernon Avenue\, Alexandria\, VA\, 22301\, United States
CATEGORIES:Administrative
ATTACH;FMTTYPE=image/jpeg:https://delrayartisans.org/wp-content/uploads/1992/12/delrayartisans-gallery-april2021.jpg
ORGANIZER;CN="Robyn Seaton McGarry":MAILTO:robynmcgarry15@gmail.com
END:VEVENT
END:VCALENDAR