BEGIN:VCALENDAR
VERSION:2.0
PRODID:-//Del Ray Artisans - ECPv6.15.20//NONSGML v1.0//EN
CALSCALE:GREGORIAN
METHOD:PUBLISH
X-ORIGINAL-URL:https://delrayartisans.org
X-WR-CALDESC:Events for Del Ray Artisans
REFRESH-INTERVAL;VALUE=DURATION:PT1H
X-Robots-Tag:noindex
X-PUBLISHED-TTL:PT1H
BEGIN:VTIMEZONE
TZID:America/New_York
BEGIN:DAYLIGHT
TZOFFSETFROM:-0500
TZOFFSETTO:-0400
TZNAME:EDT
DTSTART:20240310T070000
END:DAYLIGHT
BEGIN:STANDARD
TZOFFSETFROM:-0400
TZOFFSETTO:-0500
TZNAME:EST
DTSTART:20241103T060000
END:STANDARD
BEGIN:DAYLIGHT
TZOFFSETFROM:-0500
TZOFFSETTO:-0400
TZNAME:EDT
DTSTART:20250309T070000
END:DAYLIGHT
BEGIN:STANDARD
TZOFFSETFROM:-0400
TZOFFSETTO:-0500
TZNAME:EST
DTSTART:20251102T060000
END:STANDARD
BEGIN:DAYLIGHT
TZOFFSETFROM:-0500
TZOFFSETTO:-0400
TZNAME:EDT
DTSTART:20260308T070000
END:DAYLIGHT
BEGIN:STANDARD
TZOFFSETFROM:-0400
TZOFFSETTO:-0500
TZNAME:EST
DTSTART:20261101T060000
END:STANDARD
BEGIN:DAYLIGHT
TZOFFSETFROM:-0500
TZOFFSETTO:-0400
TZNAME:EDT
DTSTART:20270314T070000
END:DAYLIGHT
BEGIN:STANDARD
TZOFFSETFROM:-0400
TZOFFSETTO:-0500
TZNAME:EST
DTSTART:20271107T060000
END:STANDARD
END:VTIMEZONE
BEGIN:VEVENT
DTSTART;VALUE=DATE:20251204
DTEND;VALUE=DATE:20251205
DTSTAMP:20260423T012616
CREATED:20250422T171912Z
LAST-MODIFIED:20250422T171912Z
UID:10001836-1764806400-1764892799@delrayartisans.org
SUMMARY:Closed to the Public
DESCRIPTION:This time is reserved to prepare for the holiday market.
URL:https://delrayartisans.org/event/closed-2025-holiday-market-prep/2025-12-04/
LOCATION:Del Ray Artisans Gallery\, 2704 Mount Vernon Avenue\, Alexandria\, VA\, 22301\, United States
CATEGORIES:Administrative
END:VEVENT
BEGIN:VEVENT
DTSTART;VALUE=DATE:20251211
DTEND;VALUE=DATE:20251212
DTSTAMP:20260423T012616
CREATED:20250422T171912Z
LAST-MODIFIED:20250422T171912Z
UID:10001837-1765411200-1765497599@delrayartisans.org
SUMMARY:Closed to the Public
DESCRIPTION:This time is reserved to prepare for the holiday market.
URL:https://delrayartisans.org/event/closed-2025-holiday-market-prep/2025-12-11/
LOCATION:Del Ray Artisans Gallery\, 2704 Mount Vernon Avenue\, Alexandria\, VA\, 22301\, United States
CATEGORIES:Administrative
END:VEVENT
BEGIN:VEVENT
DTSTART;VALUE=DATE:20251218
DTEND;VALUE=DATE:20251219
DTSTAMP:20260423T012616
CREATED:20250422T171912Z
LAST-MODIFIED:20250422T171912Z
UID:10001838-1766016000-1766102399@delrayartisans.org
SUMMARY:Closed to the Public
DESCRIPTION:This time is reserved to prepare for the holiday market.
URL:https://delrayartisans.org/event/closed-2025-holiday-market-prep/2025-12-18/
LOCATION:Del Ray Artisans Gallery\, 2704 Mount Vernon Avenue\, Alexandria\, VA\, 22301\, United States
CATEGORIES:Administrative
END:VEVENT
BEGIN:VEVENT
DTSTART;VALUE=DATE:20251222
DTEND;VALUE=DATE:20260102
DTSTAMP:20260423T012616
CREATED:20250422T172236Z
LAST-MODIFIED:20250422T172236Z
UID:10001839-1766361600-1767311999@delrayartisans.org
SUMMARY:Gallery Closed for the Holidays
DESCRIPTION:Happy Holidays!\nThe gallery is closed to the public from December 22\, 2025 through January 1\, 2026.
URL:https://delrayartisans.org/event/closed-for-holidays-2025/
LOCATION:Del Ray Artisans Gallery\, 2704 Mount Vernon Avenue\, Alexandria\, VA\, 22301\, United States
CATEGORIES:Administrative
ATTACH;FMTTYPE=image/jpeg:https://delrayartisans.org/wp-content/uploads/2016/05/gallery-exterior-autumn-look.jpg
END:VEVENT
BEGIN:VEVENT
DTSTART;VALUE=DATE:20251228
DTEND;VALUE=DATE:20260101
DTSTAMP:20260423T012616
CREATED:20251028T224614Z
LAST-MODIFIED:20251028T225049Z
UID:10002018-1766880000-1767225599@delrayartisans.org
SUMMARY:Closed to the Public
DESCRIPTION:This time is reserved for the curator to arrange the upcoming exhibit.
URL:https://delrayartisans.org/event/closed-2025-dec-28-31/
LOCATION:Del Ray Artisans Gallery\, 2704 Mount Vernon Avenue\, Alexandria\, VA\, 22301\, United States
CATEGORIES:Administrative
END:VEVENT
BEGIN:VEVENT
DTSTART;TZID=America/New_York:20251228T120000
DTEND;TZID=America/New_York:20251228T160000
DTSTAMP:20260423T012616
CREATED:20251028T222946Z
LAST-MODIFIED:20251028T222946Z
UID:10002016-1766923200-1766937600@delrayartisans.org
SUMMARY:"Toy Stories" Artwork Drop Off
DESCRIPTION:Time for artists to drop off their accepted artwork entries for the upcoming exhibit\, Toy Stories\, and for the next Alcove Gift Shop. \nArtwork must be ready to hang (with screw eyes and wire) or ready for display (with mounting and/or a display stand if necessary). Review the standard artwork presentation guidelines and the Call for Entry for show specific information. Contact the curator with any questions. \n\nVolunteer\nAll artists participating in the exhibit are required to volunteer a minimum of 3 hours towards managing the show. Those hours can be filled by gallery hosting during the month of exhibit\, assisting with show hanging or take down\, and volunteering to help with other show-specific activities as needed by the curators. Any hours in excess of 3 hours will count towards the membership requirement. DRA members are reminded to report their volunteer hours monthly.
URL:https://delrayartisans.org/event/toy-stories-drop-off/
LOCATION:Del Ray Artisans Gallery\, 2704 Mount Vernon Avenue\, Alexandria\, VA\, 22301\, United States
CATEGORIES:Administrative,Volunteer
ORGANIZER;CN="Gordon Thomas Frank":MAILTO:gordonfrank666@gmail.com
END:VEVENT
END:VCALENDAR