BEGIN:VCALENDAR
VERSION:2.0
PRODID:-//Del Ray Artisans - ECPv6.15.20//NONSGML v1.0//EN
CALSCALE:GREGORIAN
METHOD:PUBLISH
X-WR-CALNAME:Del Ray Artisans
X-ORIGINAL-URL:https://delrayartisans.org
X-WR-CALDESC:Events for Del Ray Artisans
REFRESH-INTERVAL;VALUE=DURATION:PT1H
X-Robots-Tag:noindex
X-PUBLISHED-TTL:PT1H
BEGIN:VTIMEZONE
TZID:America/New_York
BEGIN:DAYLIGHT
TZOFFSETFROM:-0500
TZOFFSETTO:-0400
TZNAME:EDT
DTSTART:20240310T070000
END:DAYLIGHT
BEGIN:STANDARD
TZOFFSETFROM:-0400
TZOFFSETTO:-0500
TZNAME:EST
DTSTART:20241103T060000
END:STANDARD
BEGIN:DAYLIGHT
TZOFFSETFROM:-0500
TZOFFSETTO:-0400
TZNAME:EDT
DTSTART:20250309T070000
END:DAYLIGHT
BEGIN:STANDARD
TZOFFSETFROM:-0400
TZOFFSETTO:-0500
TZNAME:EST
DTSTART:20251102T060000
END:STANDARD
BEGIN:DAYLIGHT
TZOFFSETFROM:-0500
TZOFFSETTO:-0400
TZNAME:EDT
DTSTART:20260308T070000
END:DAYLIGHT
BEGIN:STANDARD
TZOFFSETFROM:-0400
TZOFFSETTO:-0500
TZNAME:EST
DTSTART:20261101T060000
END:STANDARD
END:VTIMEZONE
BEGIN:VEVENT
DTSTART;VALUE=DATE:20251102
DTEND;VALUE=DATE:20251106
DTSTAMP:20260423T030038
CREATED:20250220T200208Z
LAST-MODIFIED:20250220T200208Z
UID:10001791-1762041600-1762387199@delrayartisans.org
SUMMARY:Closed to the Public
DESCRIPTION:This time is reserved for the curator to arrange the upcoming exhibit.
URL:https://delrayartisans.org/event/closed-2025-nov-2-5/
LOCATION:Del Ray Artisans Gallery\, 2704 Mount Vernon Avenue\, Alexandria\, VA\, 22301\, United States
CATEGORIES:Administrative
END:VEVENT
BEGIN:VEVENT
DTSTART;TZID=America/New_York:20251102T120000
DTEND;TZID=America/New_York:20251102T180000
DTSTAMP:20260423T030038
CREATED:20250422T165815Z
LAST-MODIFIED:20250422T171121Z
UID:10001832-1762084800-1762106400@delrayartisans.org
SUMMARY:Closed to the Public Today; Artist Appointments 12-6pm
DESCRIPTION:The gallery is closed to the public today while the exhibit is taken down. This time (noon-6pm) is reserved for Del Ray Artisans artists to pick up unsold artwork from the outgoing exhibit and drop off accepted artwork for the incoming exhibit. Contact the curators with any questions (contact info in the call for entry). \nUnsold Artwork Pick Up\nTime for artists to pick up their unsold artwork from the closing exhibit\, Bump in the Night. \n\nAccepted Artwork Drop Off\nTime for artists to drop off their accepted artwork entries for the upcoming exhibit\, The Mini World: Small Works of Art. Artwork must be ready to hang (with screw eyes and wire) or ready for display (with mounting and/or a display stand if necessary). Review the standard artwork presentation guidelines and the call for entry for show specific information. \n\nVolunteer\nAll artists participating in the exhibit are required to volunteer a minimum of 3 hours towards managing the show. Those hours can be filled by gallery hosting during the month of exhibit\, assisting with show hanging or take down\, and volunteering to help with other show-specific activities as needed by the curators. Any hours in excess of 3 hours will count towards the membership requirement. DRA members are reminded to report their volunteer hours monthly.
URL:https://delrayartisans.org/event/oct-nov-2025-artist-appointments/
LOCATION:Del Ray Artisans Gallery\, 2704 Mount Vernon Avenue\, Alexandria\, VA\, 22301\, United States
CATEGORIES:Administrative,Volunteer
END:VEVENT
BEGIN:VEVENT
DTSTART;TZID=America/New_York:20251126T120000
DTEND;TZID=America/New_York:20251126T180000
DTSTAMP:20260423T030038
CREATED:20250526T190428Z
LAST-MODIFIED:20250925T002912Z
UID:10001870-1764158400-1764180000@delrayartisans.org
SUMMARY:Bonus Gallery Hours on Wednesday 11/26 (open 12-6pm)
DESCRIPTION:The gallery is closed on Thanksgiving Day (11/27)\, but open for regular hours on Friday 11/28 (12-9pm)\, Saturday 11/29 (12-6pm) and Sunday 11/30 (12-6pm). In addition\, the gallery will be open on Wednesday 11/26 from 12-6pm. \nSunday\, November 30th is the last day of The Mini World: Small Works of Art exhibit and the Alcove Gift Shop for 2025. Don’t miss them! \nHours differ for the Holiday Market.  SAVE THE DATES: Del Ray Artisans’ 30th annual Holiday Market runs the first three weekends of December (December 5-21) and is open Fridays 6-9pm\, Saturdays 9am-5pm\, and Sundays 11am-5pm. Different artists are featured each weekend!
URL:https://delrayartisans.org/event/bonus-gallery-hours-2025-nov-26/
LOCATION:Del Ray Artisans Gallery\, 2704 Mount Vernon Avenue\, Alexandria\, VA\, 22301\, United States
CATEGORIES:Administrative
END:VEVENT
BEGIN:VEVENT
DTSTART;VALUE=DATE:20251127
DTEND;VALUE=DATE:20251128
DTSTAMP:20260423T030038
CREATED:20250526T185752Z
LAST-MODIFIED:20250526T185904Z
UID:10001869-1764201600-1764287999@delrayartisans.org
SUMMARY:Gallery Closed on Thanksgiving
DESCRIPTION:Have a Happy Thanksgiving!\nThe gallery is closed on Thanksgiving Day\, but will be open on Friday from 12-9pm\, Saturday from 12-6pm\, and Sunday from 12-6pm. This is the final weekend of The Mini World: Small Works of Art exhibit. \nNext month join us for our 30th Annual Fine Art & Fine Craft Holiday Market. Market hours are Fridays 6-9pm\, Saturdays 9am-5pm\, and Sundays 11am-5pm from December 5–21\, 2025. \n\nArtwork credit: “Kitchen Casualty” by M. Reday Cook
URL:https://delrayartisans.org/event/closed-thanksgiving-2025/
LOCATION:Del Ray Artisans Gallery\, 2704 Mount Vernon Avenue\, Alexandria\, VA\, 22301\, United States
CATEGORIES:Administrative
ATTACH;FMTTYPE=image/jpeg:https://delrayartisans.org/wp-content/uploads/2016/09/Kitchen-Casualty-by-Michele-Reday-Cook.jpg
END:VEVENT
BEGIN:VEVENT
DTSTART;TZID=America/New_York:20251130T180000
DTEND;TZID=America/New_York:20251130T200000
DTSTAMP:20260423T030038
CREATED:20250422T170013Z
LAST-MODIFIED:20250422T171049Z
UID:10001833-1764525600-1764532800@delrayartisans.org
SUMMARY:Open to the Public 12-6pm; Artist Appointments 6-8pm
DESCRIPTION:The gallery is open to the public from 12-6pm today. The exhibit is taken down after gallery hours end.  \nUnsold Artwork Pick Up\nArtists\, please pick up your unsold artwork from the closing exhibit\, The Mini World: Small Works of Art\, between 6-8pm. Contact the curator with any questions (contact info in the call for entry). \n\nVolunteer\nAll artists participating in the exhibit are required to volunteer a minimum of 3 hours towards managing the show. Those hours can be filled by gallery hosting during the month of exhibit\, assisting with show hanging or take down\, and volunteering to help with other show-specific activities as needed by the curators. Any hours in excess of 3 hours will count towards the membership requirement. DRA members are reminded to report their volunteer hours monthly.
URL:https://delrayartisans.org/event/nov-2025-artist-appointments/
LOCATION:Del Ray Artisans Gallery\, 2704 Mount Vernon Avenue\, Alexandria\, VA\, 22301\, United States
CATEGORIES:Administrative,Volunteer
END:VEVENT
END:VCALENDAR