BEGIN:VCALENDAR
VERSION:2.0
PRODID:-//Del Ray Artisans - ECPv6.15.20//NONSGML v1.0//EN
CALSCALE:GREGORIAN
METHOD:PUBLISH
X-WR-CALNAME:Del Ray Artisans
X-ORIGINAL-URL:https://delrayartisans.org
X-WR-CALDESC:Events for Del Ray Artisans
REFRESH-INTERVAL;VALUE=DURATION:PT1H
X-Robots-Tag:noindex
X-PUBLISHED-TTL:PT1H
BEGIN:VTIMEZONE
TZID:America/New_York
BEGIN:DAYLIGHT
TZOFFSETFROM:-0500
TZOFFSETTO:-0400
TZNAME:EDT
DTSTART:20240310T070000
END:DAYLIGHT
BEGIN:STANDARD
TZOFFSETFROM:-0400
TZOFFSETTO:-0500
TZNAME:EST
DTSTART:20241103T060000
END:STANDARD
BEGIN:DAYLIGHT
TZOFFSETFROM:-0500
TZOFFSETTO:-0400
TZNAME:EDT
DTSTART:20250309T070000
END:DAYLIGHT
BEGIN:STANDARD
TZOFFSETFROM:-0400
TZOFFSETTO:-0500
TZNAME:EST
DTSTART:20251102T060000
END:STANDARD
BEGIN:DAYLIGHT
TZOFFSETFROM:-0500
TZOFFSETTO:-0400
TZNAME:EDT
DTSTART:20260308T070000
END:DAYLIGHT
BEGIN:STANDARD
TZOFFSETFROM:-0400
TZOFFSETTO:-0500
TZNAME:EST
DTSTART:20261101T060000
END:STANDARD
END:VTIMEZONE
BEGIN:VEVENT
DTSTART;VALUE=DATE:20250630
DTEND;VALUE=DATE:20250705
DTSTAMP:20260423T100250
CREATED:20250521T213053Z
LAST-MODIFIED:20250701T131901Z
UID:10001865-1751241600-1751673599@delrayartisans.org
SUMMARY:Reserved for Rummage Sale Planning
DESCRIPTION:Support Del Ray Artisans and go home with new-to-you\, used treasures from our rummage sale on Saturday & Sunday\, July 5-6\, 8am-1pm. Donated items for the sale are welcomed and appreciated! \nDonations may include household items\, clothing\, office supplies\, jewelry\, toys\, books\, sports equipment\, handheld tools\, small appliances\, and more. Please do not drop off hazardous materials\, broken items\, or anything that requires two people to move (no large furniture or large electronics). \nDonation drop off dates/times and volunteer shifts are: \n\nMonday\, June 30\, 5-7pm (Volunteer shift: 5-7pm)\nWednesday\, July 2\, 12-9pm (Volunteer shifts: 12-3pm\, 3-6pm\, 6-9pm)\nThursday\, July 3\, 12-9pm (Volunteer shifts: 12-3pm\, 3-6pm\, 6-9pm; Preview Sale from 6-9pm)\nFriday\, July 4\, 12-3pm (Volunteer shift: 12-3pm)\n\nSave the date for the big sale itself! The rummage sale will be: \n\nSaturday\, July 5 and Sunday\, July 6 from 8am-1pm\n(Volunteer shifts each day: 7:30-10am\, 8-11am\, 10am-1pm\, 11am-2pm)\n\n  \nVolunteer\nHelp receive and price donations for our annual rummage sale fundraiser during the drop off dates or help during the sale itself\, please contact Morgan Parr at volunteers@delrayartisans.org. English-Spanish bilingual volunteers are especially needed during the sale. \nDRA members are reminded to report their volunteer hours monthly.
URL:https://delrayartisans.org/event/rummage-sale-planning-2025/
LOCATION:Del Ray Artisans Gallery\, 2704 Mount Vernon Avenue\, Alexandria\, VA\, 22301\, United States
CATEGORIES:Administrative,Fundraising
END:VEVENT
BEGIN:VEVENT
DTSTART;VALUE=DATE:20250727
DTEND;VALUE=DATE:20250731
DTSTAMP:20260423T100250
CREATED:20250220T195940Z
LAST-MODIFIED:20250220T195940Z
UID:10001788-1753574400-1753919999@delrayartisans.org
SUMMARY:Closed to the Public
DESCRIPTION:This time is reserved for the curator to arrange the upcoming exhibit.
URL:https://delrayartisans.org/event/closed-2025-july-27-30/
LOCATION:Del Ray Artisans Gallery\, 2704 Mount Vernon Avenue\, Alexandria\, VA\, 22301\, United States
CATEGORIES:Administrative
END:VEVENT
BEGIN:VEVENT
DTSTART;TZID=America/New_York:20250727T120000
DTEND;TZID=America/New_York:20250727T160000
DTSTAMP:20260423T100250
CREATED:20250526T184250Z
LAST-MODIFIED:20250526T184250Z
UID:10001868-1753617600-1753632000@delrayartisans.org
SUMMARY:"Lovely As a Tree" Artwork Drop Off
DESCRIPTION:Time for artists to drop off their accepted artwork entries for the upcoming exhibit\, Lovely As a Tree\, and for the next Alcove Gift Shop. \nArtwork must be ready to hang (with D-rings or screw eyes\, and wire) or ready for display (with mounting and/or a display stand if necessary). Review the standard artwork presentation guidelines and the Call for Entry for show specific information. Contact the curator with any questions. \n\nVolunteer\nAll artists participating in the exhibit are required to volunteer a minimum of 3 hours towards managing the show. Those hours can be filled by gallery hosting during the month of exhibit\, assisting with show hanging or take down\, and volunteering to help with other show-specific activities as needed by the curators. Any hours in excess of 3 hours will count towards the membership requirement. DRA members are reminded to report their volunteer hours monthly.
URL:https://delrayartisans.org/event/lovely-as-a-tree-drop-off/
LOCATION:Del Ray Artisans Gallery\, 2704 Mount Vernon Avenue\, Alexandria\, VA\, 22301\, United States
CATEGORIES:Administrative,Volunteer
ORGANIZER;CN="Robyn Seaton McGarry":MAILTO:robynmcgarry15@gmail.com
END:VEVENT
END:VCALENDAR