BEGIN:VCALENDAR
VERSION:2.0
PRODID:-//Del Ray Artisans - ECPv6.15.20//NONSGML v1.0//EN
CALSCALE:GREGORIAN
METHOD:PUBLISH
X-WR-CALNAME:Del Ray Artisans
X-ORIGINAL-URL:https://delrayartisans.org
X-WR-CALDESC:Events for Del Ray Artisans
REFRESH-INTERVAL;VALUE=DURATION:PT1H
X-Robots-Tag:noindex
X-PUBLISHED-TTL:PT1H
BEGIN:VTIMEZONE
TZID:America/New_York
BEGIN:DAYLIGHT
TZOFFSETFROM:-0500
TZOFFSETTO:-0400
TZNAME:EDT
DTSTART:20240310T070000
END:DAYLIGHT
BEGIN:STANDARD
TZOFFSETFROM:-0400
TZOFFSETTO:-0500
TZNAME:EST
DTSTART:20241103T060000
END:STANDARD
BEGIN:DAYLIGHT
TZOFFSETFROM:-0500
TZOFFSETTO:-0400
TZNAME:EDT
DTSTART:20250309T070000
END:DAYLIGHT
BEGIN:STANDARD
TZOFFSETFROM:-0400
TZOFFSETTO:-0500
TZNAME:EST
DTSTART:20251102T060000
END:STANDARD
BEGIN:DAYLIGHT
TZOFFSETFROM:-0500
TZOFFSETTO:-0400
TZNAME:EDT
DTSTART:20260308T070000
END:DAYLIGHT
BEGIN:STANDARD
TZOFFSETFROM:-0400
TZOFFSETTO:-0500
TZNAME:EST
DTSTART:20261101T060000
END:STANDARD
END:VTIMEZONE
BEGIN:VEVENT
DTSTART;TZID=America/New_York:20250629T180000
DTEND;TZID=America/New_York:20250629T200000
DTSTAMP:20260423T115055
CREATED:20250422T164920Z
LAST-MODIFIED:20250422T171013Z
UID:10001829-1751220000-1751227200@delrayartisans.org
SUMMARY:Open to the Public 12-6pm; Artist Appointments 6-8pm
DESCRIPTION:The gallery is open to the public from 12-6pm today. The exhibit is taken down after gallery hours end.  \nUnsold Artwork Pick Up\nArtists\, please pick up your unsold artwork from the closing exhibit\, Sing Me a Sea Shanty\, between 6-8pm. Contact the curator with any questions (contact info in the call for entry). \n\nVolunteer\nAll artists participating in the exhibit are required to volunteer a minimum of 3 hours towards managing the show. Those hours can be filled by gallery hosting during the month of exhibit\, assisting with show hanging or take down\, and volunteering to help with other show-specific activities as needed by the curators. Any hours in excess of 3 hours will count towards the membership requirement. DRA members are reminded to report their volunteer hours monthly.
URL:https://delrayartisans.org/event/jun-2025-artist-appointments/
LOCATION:Del Ray Artisans Gallery\, 2704 Mount Vernon Avenue\, Alexandria\, VA\, 22301\, United States
CATEGORIES:Administrative,Volunteer
END:VEVENT
BEGIN:VEVENT
DTSTART;VALUE=DATE:20250630
DTEND;VALUE=DATE:20250705
DTSTAMP:20260423T115055
CREATED:20250521T213053Z
LAST-MODIFIED:20250701T131901Z
UID:10001865-1751241600-1751673599@delrayartisans.org
SUMMARY:Reserved for Rummage Sale Planning
DESCRIPTION:Support Del Ray Artisans and go home with new-to-you\, used treasures from our rummage sale on Saturday & Sunday\, July 5-6\, 8am-1pm. Donated items for the sale are welcomed and appreciated! \nDonations may include household items\, clothing\, office supplies\, jewelry\, toys\, books\, sports equipment\, handheld tools\, small appliances\, and more. Please do not drop off hazardous materials\, broken items\, or anything that requires two people to move (no large furniture or large electronics). \nDonation drop off dates/times and volunteer shifts are: \n\nMonday\, June 30\, 5-7pm (Volunteer shift: 5-7pm)\nWednesday\, July 2\, 12-9pm (Volunteer shifts: 12-3pm\, 3-6pm\, 6-9pm)\nThursday\, July 3\, 12-9pm (Volunteer shifts: 12-3pm\, 3-6pm\, 6-9pm; Preview Sale from 6-9pm)\nFriday\, July 4\, 12-3pm (Volunteer shift: 12-3pm)\n\nSave the date for the big sale itself! The rummage sale will be: \n\nSaturday\, July 5 and Sunday\, July 6 from 8am-1pm\n(Volunteer shifts each day: 7:30-10am\, 8-11am\, 10am-1pm\, 11am-2pm)\n\n  \nVolunteer\nHelp receive and price donations for our annual rummage sale fundraiser during the drop off dates or help during the sale itself\, please contact Morgan Parr at volunteers@delrayartisans.org. English-Spanish bilingual volunteers are especially needed during the sale. \nDRA members are reminded to report their volunteer hours monthly.
URL:https://delrayartisans.org/event/rummage-sale-planning-2025/
LOCATION:Del Ray Artisans Gallery\, 2704 Mount Vernon Avenue\, Alexandria\, VA\, 22301\, United States
CATEGORIES:Administrative,Fundraising
END:VEVENT
END:VCALENDAR